Workbook
Name Cumple: [1]Hoja4!$A$5:$A$7
Name Cumple: [1]Hoja4!$A$5:$A$7
Name Cumple: [1]Hoja4!$A$5:$A$7
Name Cumple: Hoja4!$A$5:$A$7
Name muestra: Hoja4!$H$13:$H$27
Name nivel: Hoja4!$E$13:$E$14
Name WCAG20: Hoja4!$A$5:$A$7

Sheet Start
B17: Author: | C17: Olga Carreras Montoto
B18: Help: | C18: This excel has 8 sheets, consult the "Help" to know how to fill them in and interpret them correctly
B19: Version: | C19: E1.0 (2025)
B20: Copyright: | C20: Commercial use and distribution without the author's permission are prohibited.
B21: Translated by: | C21: Martin Pistorius

Sheet 1. General information
A1: Audit Tool WCAG 2.2
A3: 1. General data
A5: Client
A6: Site Name | C6: For example: web "Usable and accessible"
A7: Scope of the evaluation | C7: An unambiguous definition that determines for each page whether or not it is within the scope of the evaluation. For example: all the content of the "Usable and accessible" website under the domain http://www.usableyaccesible.com
A8: Review period | B8: from to
A9: Evaluator
A10: Level assessed | B10: AA | C10: It is important that you select the level of evaluation
A11: Accessibility Support | C11: Browsers and Assistive Products That Must Be Supported
A12: Technologies that support accessibility | C12: Accessibility-compatible technologies on which the site depends. For example HTML5, CSS, WAI-ARIA, SVG, PDF. More information: http://www.usableyaccesible.com/recurso_glosario.php#compatible_accesibilidad
A17: Author: | B17: Olga Carreras Montoto
A18: Help: | B18: Help Page
A19: Version: | B19: E1.0 (2025)
A20: Copyright: | B20: Commercial use and distribution without permission of the author is prohibited.

Sheet 2. Sample pages
A1: Audit Tool WCAG 2.2
A3: 2. Sample Pages
A5: No. of sample pages | B5: 15 | C5: Indicates the number of pages in the sample for the charts to be generated
B7: Page | C7: Alias | D7: URL | E7: Control page?
B8: 1 | C8: Alias1 | E8: No
B9: 2 | C9: Alias2 | E9: No
B10: 3 | C10: Alias3 | E10: No
B11: 4 | C11: Alias4 | E11: No
B12: 5 | C12: Alias5 | E12: No
B13: 6 | C13: Alias6 | E13: No
B14: 7 | C14: Alias7 | E14: No
B15: 8 | C15: Alias8 | E15: No
B16: 9 | C16: Alias9 | E16: No
B17: 10 | C17: Alias10 | E17: No
B18: 11 | C18: Alias11 | E18: No
B19: 12 | C19: Alias12 | E19: No
B20: 13 | C20: Alias13 | E20: No
B21: 14 | C21: Alias14 | E21: Yes | F21: Pages are randomly selected as a control sample. In a sample of 15 pages, 2 pages will be included at random. More information: http://olgacarreras.blogspot.com.es/2012/04/metodologia-de-evaluacion-de.html
B22: 15 | C22: Alias15 | E22: Yes
C24: * A short alias ("Home", "Products", etc.) is recommended.
A27: Author: | B27: Olga Carreras Montoto
A28: Help: | B28: Help Page
A29: Version: | B29: E1.0 (2025)
A30: Copyright: | B30: Commercial use and distribution without permission of the author is prohibited.

Sheet 3. Level A Evaluation
A1: Audit Tool WCAG 2.2 | E1: Author: Olga Carreras (Usable and accessible)
A3: 3. Assessment of compliance with Level A criteria
A6: 1.1.1 Non-Text Content | C6: Meets? | E6: Help 1.1.1
A7: All non-textual content that is presented to the user has a textual alternative that serves the same purpose, except in the situations listed below: https://www.w3.org/WAI/WCAG22/Understanding/non-text-content.html | B7: ='2. Sample pages'!C8 -> Alias1 | E7: All images, image buttons on forms, and hotspots on image maps will have appropriate alt text.
B8: ='2. Sample pages'!C9 -> Alias2 | E8: Images that do not convey information, are decorative or with the content already present as text, will be offered with the empty alt text (alt=""), applied as CSS image backgrounds or with equivalent ARIA alternatives.
B9: ='2. Sample pages'!C10 -> Alias3 | E9: Alternative equivalent content for complex images will be offered separately (on the same page, linked or referenced by longdesc).
B10: ='2. Sample pages'!C11 -> Alias4 | E10: The buttons on the forms will have descriptive names.
B11: ='2. Sample pages'!C12 -> Alias5 | E11: Form elements will have associated textual labels or their ARIA equivalent; if these cannot be used, a descriptive title.
B12: ='2. Sample pages'!C13 -> Alias6 | E12: Embedded media will be identified by accessible texts.
B13: ='2. Sample pages'!C14 -> Alias7 | E13: Frames will have an appropriate title.
B14: ='2. Sample pages'!C15 -> Alias8 | E14: Captcha: Textual alternatives are provided that identify the purpose of the non-textual content, and alternative forms of CAPTCHA with output modes for different types of sensory perceptions are provided.
B15: ='2. Sample pages'!C16 -> Alias9
B16: ='2. Sample pages'!C17 -> Alias10 | E16: Resource of interest:
B17: ='2. Sample pages'!C18 -> Alias11 | E17: Textos alternativos, imágenes accesibles. Herramientas de ayuda: mapa de decisión y wizard online
B18: ='2. Sample pages'!C19 -> Alias12
B19: ='2. Sample pages'!C20 -> Alias13
B20: ='2. Sample pages'!C21 -> Alias14
B21: ='2. Sample pages'!C22 -> Alias15
C22: Full sample | D22: =IF(C25>0,Hoja4!A6,IF(C26='2. Sample pages'!B5,Hoja4!A7,IF(SUM(C24:C26)=0,"",Hoja4!A5)))
A24: Summary 1.1.1 | B24: Number that comply: | C24: =COUNTIF(C7:C21,Hoja4!A5) -> 0
B25: Number that do not comply: | C25: =COUNTIF(C7:C21,Hoja4!A6) -> 0
B26: Number not applicable: | C26: =COUNTIF(C7:C21,Hoja4!A7) -> 0
A28: 1.2.1 Audio-only and Video-only (Prerecorded) | C28: Meets? | E28: Help 1.2.1
A29: For recorded audio-only content and recorded video-only content, the following applies, except when the audio or video is alternative media to text and is clearly identified as such: https://www.w3.org/WAI/WCAG22/Understanding/audio-only-and-video-only-prerecorded | B29: ='2. Sample pages'!C8 -> Alias1 | E29: A descriptive transcript (including all visual and auditory tracks and indicators) will be provided for web-based recorded (non-live) audio (audio podcast, MP3 files, etc.)
B30: ='2. Sample pages'!C9 -> Alias2 | E30: An audio or textual description will be provided for recorded (non-live) videos without web-based audio (e.g. videos that do not include audio tracks)
B31: ='2. Sample pages'!C10 -> Alias3
B32: ='2. Sample pages'!C11 -> Alias4 | E32: Resource of interest:
B33: ='2. Sample pages'!C12 -> Alias5 | E33: Tabla resumen de los requisitos de accesibilidad para los medios tempodependientes según las WCAG 2.0
B34: ='2. Sample pages'!C13 -> Alias6
B35: ='2. Sample pages'!C14 -> Alias7
B36: ='2. Sample pages'!C15 -> Alias8
B37: ='2. Sample pages'!C16 -> Alias9
B38: ='2. Sample pages'!C17 -> Alias10
B39: ='2. Sample pages'!C18 -> Alias11
B40: ='2. Sample pages'!C19 -> Alias12
B41: ='2. Sample pages'!C20 -> Alias13
B42: ='2. Sample pages'!C21 -> Alias14
B43: ='2. Sample pages'!C22 -> Alias15
C44: Full sample | D44: =IF(C47>0,Hoja4!A6,IF(C48='2. Sample pages'!B5,Hoja4!A7,IF(SUM(C46:C48)=0,"",Hoja4!A5)))
A46: Summary 1.2.1 | B46: Number that comply: | C46: =COUNTIF(C29:C43,Hoja4!A5) -> 0
B47: Number that do not comply: | C47: =COUNTIF(C29:C43,Hoja4!A6) -> 0
B48: Number not applicable: | C48: =COUNTIF(C29:C43,Hoja4!A7) -> 0
A50: 1.2.2 Captions (Prerecorded) | C50: Meets? | E50: Help 1.2.2
A51: Captions are provided for audio content recorded within synchronized media, except when the presentation is alternate media to text and is clearly identified as such: https://www.w3.org/WAI/WCAG22/Understanding/captions-prerecorded | B51: ='2. Sample pages'!C8 -> Alias1 | E51: Subtitles will be provided for web-based recorded (non-live) videos (YouTube videos, etc.)
B52: ='2. Sample pages'!C9 -> Alias2
B53: ='2. Sample pages'!C10 -> Alias3
B54: ='2. Sample pages'!C11 -> Alias4
B55: ='2. Sample pages'!C12 -> Alias5
B56: ='2. Sample pages'!C13 -> Alias6
B57: ='2. Sample pages'!C14 -> Alias7
B58: ='2. Sample pages'!C15 -> Alias8
B59: ='2. Sample pages'!C16 -> Alias9
B60: ='2. Sample pages'!C17 -> Alias10
B61: ='2. Sample pages'!C18 -> Alias11
B62: ='2. Sample pages'!C19 -> Alias12
B63: ='2. Sample pages'!C20 -> Alias13
... B65: ='2. Sample pages'!C22 -> Alias15
C66: Full sample | D66: =IF(C69>0,Hoja4!A6,IF(C70='2. Sample pages'!B5,Hoja4!A7,IF(SUM(C68:C70)=0,"",Hoja4!A5)))
A68: Summary 1.2.2 | B68: Number that comply: | C68: =COUNTIF(C51:C65,Hoja4!A5) -> 0
B69: Number that do not comply: | C69: =COUNTIF(C51:C65,Hoja4!A6) -> 0
B70: Number not applicable: | C70: =COUNTIF(C51:C65,Hoja4!A7) -> 0
A72: 1.2.3 Audio Description or Media Alternative (Prerecorded) | C72: Meets? | E72: Help 1.2.3
A73: An alternative for temporecy-dependent media or audio description is provided for video content recorded in synchronized media, except when that content is alternative media to text and is clearly identified as such: https://www.w3.org/WAI/WCAG22/Understanding/audio-description-or-media-alternative-prerecorded | B73: ='2. Sample pages'!C8 -> Alias1 | E73: A transcript or audio description of the recorded web-based videos (not live) will be provided
B74: ='2. Sample pages'!C9 -> Alias2
B75: ='2. Sample pages'!C10 -> Alias3
B76: ='2. Sample pages'!C11 -> Alias4
B77: ='2. Sample pages'!C12 -> Alias5
B78: ='2. Sample pages'!C13 -> Alias6
B79: ='2. Sample pages'!C14 -> Alias7
B80: ='2. Sample pages'!C15 -> Alias8
B81: ='2. Sample pages'!C16 -> Alias9
B82: ='2. Sample pages'!C17 -> Alias10
B83: ='2. Sample pages'!C18 -> Alias11
B84: ='2. Sample pages'!C19 -> Alias12
B85: ='2. Sample pages'!C20 -> Alias13
... B87: ='2. Sample pages'!C22 -> Alias15
C88: Full sample | D88: =IF(C91>0,Hoja4!A6,IF(C92='2. Sample pages'!B5,Hoja4!A7,IF(SUM(C90:C92)=0,"",Hoja4!A5)))
A90: Summary 1.2.3 | B90: Number that comply: | C90: =COUNTIF(C73:C87,Hoja4!A5) -> 0
B91: Number that do not comply: | C91: =COUNTIF(C73:C87,Hoja4!A6) -> 0
B92: Number not applicable: | C92: =COUNTIF(C73:C87,Hoja4!A7) -> 0
A94: 1.3.1 Info and Relationships | C94: Meets? | E94: Help 1.3.1
A95: The information, structure, and relationships communicated through the presentation may be determined by software or available as text: https://www.w3.org/WAI/WCAG22/Understanding/info-and-relationships | B95: ='2. Sample pages'!C8 -> Alias1 | E95: Semantic markup will be used to designate headings (<h1>), lists (<ul>, <ol>, and <dl>), special or emphasized text (<strong>, <code>, <abbr>, <blockquote><sup>, , for example), and so on. Semantic markup should be used appropriately.
B96: ='2. Sample pages'!C9 -> Alias2 | E96: The tables will be used to mark up the tabulated data. Data cells (<td>) will be associated with their headers (<th>) where needed.
B97: ='2. Sample pages'!C10 -> Alias3 | E97: Textual labels will be associated with their corresponding input fields in forms. Items in the forms that are related will be grouped using fieldset/legend. Use optgroup when necessary.
B98: ='2. Sample pages'!C11 -> Alias4 | E98: Semantic zones will be identified with HTML tags or their ARIA equivalent and ARIA will be used to give them a name.
B99: ='2. Sample pages'!C12 -> Alias5 | E99: Information that is conveyed by variations in presentation must also be communicated in an alternative form.
B100: ='2. Sample pages'!C13 -> Alias6
B101: ='2. Sample pages'!C14 -> Alias7
B102: ='2. Sample pages'!C15 -> Alias8
B103: ='2. Sample pages'!C16 -> Alias9
B104: ='2. Sample pages'!C17 -> Alias10
B105: ='2. Sample pages'!C18 -> Alias11
B106: ='2. Sample pages'!C19 -> Alias12
B107: ='2. Sample pages'!C20 -> Alias13
B108: ='2. Sample pages'!C21 -> Alias14
B109: ='2. Sample pages'!C22 -> Alias15
C110: Full sample | D110: =IF(C113>0,Hoja4!A6,IF(C114='2. Sample pages'!B5,Hoja4!A7,IF(SUM(C112:C114)=0,"",Hoja4!A5)))
A112: Summary 1.3.1 | B112: Number that comply: | C112: =COUNTIF(C95:C109,Hoja4!A5) -> 0
B113: Number that do not comply: | C113: =COUNTIF(C95:C109,Hoja4!A6) -> 0
B114: Number not applicable: | C114: =COUNTIF(C95:C109,Hoja4!A7) -> 0
...

Sheet 3.1 Graphs and statistics A
A1: Audit Tool WCAG 2.2 | H1: Author: Olga Carreras (Usable and accessible)
A3: 3.1 Results of the evaluation for Level A compliance.
A5: * Excluding 'not applicable' items
A7: Data from the entire sample
A9: Number of Level A criteria: | B9: 31 | E9: Excluding the not applicable items
A10: Level A criteria that met: | B10: =COUNTIF('3. Level A Evaluation'!D22:D683,Hoja4!A5) -> 0 | C10: % Level A compliance | D10: =B10*100/B9 -> 0 | E10: =IF(ISERROR((B10*100)/(B9-B12)),0,(B10*100)/(B9-B12)) -> 0
A11: Level A criteria not met: | B11: =COUNTIF('3. Level A Evaluation'!D22:D683,Hoja4!A6) -> 0 | C11: % Level A non-compliance | D11: =B11*100/B9 -> 0 | E11: =IF(ISERROR((B11*100)/(B9-B12)),0,(B11*100)/(B9-B12)) -> 0
A12: Level A "not applicable" criteria: | B12: =COUNTIF('3. Level A Evaluation'!D22:D683,Hoja4!A7) -> 0 | C12: % Not applicable Level A | D12: =B12*100/B9 -> 0
D13: =SUM(D10:D12) -> 0 | E13: =SUM(E10:E12) -> 0
A16: Data per sample page:
B17: Meets | C17: % Meets | D17: Not met | E17: % Non-compliance | F17: Not applicable | G17: % not applicable | H17: % comply excluding not applicable | I17: % Non-compliance excluding the not applicable items.
A18: ='2. Sample pages'!C8 -> Alias1 | B18: =IF('2. Sample pages'!B5>0,COUNTIF('3. Level A Evaluation'!C7,Hoja4!A5)+COUNTIF('3. Level A Evaluation'!C29,Hoja4!A5)+COUNTIF('3. Level A Evaluation'!C51,Hoja4!A5)+COUNTIF('3. Level A Evaluation'!C73,Hoja4!A5)+COUNTIF('3. Level A Evaluation'!C95,Hoja4!A5)+COUNTIF('3. Level A Evaluation'!C117,Hoja4!A5)+COUNTIF('3. Level A Evaluation'!C139,Hoja4!A5)+COUNTIF('3. Level A Evaluation'!C161,Hoja4!A5)+COUNTIF('3. Level A Evaluation'!C183,Hoja4!A5)+COUNTIF('3. Level A Evaluation'!C205,Hoja4!A5)+COUNTIF('3. Level A Evaluation'!C227,Hoja4!A5)+COUNTIF('3. Level A Evaluation'!C249,Hoja4!A5)+COUNTIF('3. Level A Evaluation'!C271,Hoja4!A5)+COUNTIF('3. Level A Evaluation'!C293,Hoja4!A5)+COUNTIF('3. Level A Evaluation'!C315,Hoja4!A5)+COUNTIF('3. Level A Evaluation'!C337,Hoja4!A5)+COUNTIF('3. Level A Evaluation'!C359,Hoja4!A5)+COUNTIF('3. Level A Evaluation'!C381,Hoja4!A5)+COUNTIF('3. Level A Evaluation'!C403,Hoja4!A5)+COUNTIF('3. Level A Evaluation'!C425,Hoja4!A5)+COUNTIF('3. Level A Evaluation'!C447,Hoja4!A5)+COUNTIF('3. Level A Evaluation'!C469,Hoja4!A5)+COUNTIF('3. Level A Evaluation'!C491,Hoja4!A5)+COUNTIF('3. Level A Evaluation'!C513,Hoja4!A5)+COUNTIF('3. Level A Evaluation'!C535,Hoja4!A5)+COUNTIF('3. Level A Evaluation'!C557,Hoja4!A5)+COUNTIF('3. Level A Evaluation'!C579,Hoja4!A5)+COUNTIF('3. Level A Evaluation'!C601,Hoja4!A5)+COUNTIF('3. Level A Evaluation'!C623,Hoja4!A5)+COUNTIF('3. Level A Evaluation'!C645,Hoja4!A5)+COUNTIF('3. Level A Evaluation'!C668,Hoja4!A5),"") -> 0 | C18: =IF('2. Sample pages'!B5>0,B18*100/B9,"") -> 0 | D18: =IF('2. Sample pages'!B5>0,COUNTIF('3. Level A Evaluation'!C7,Hoja4!A6)+COUNTIF('3. Level A Evaluation'!C29,Hoja4!A6)+COUNTIF('3. Level A Evaluation'!C51,Hoja4!A6)+COUNTIF('3. Level A Evaluation'!C73,Hoja4!A6)+COUNTIF('3. Level A Evaluation'!C95,Hoja4!A6)+COUNTIF('3. Level A Evaluation'!C117,Hoja4!A6)+COUNTIF('3. Level A Evaluation'!C139,Hoja4!A6)+COUNTIF('3. Level A Evaluation'!C161,Hoja4!A6)+COUNTIF('3. Level A Evaluation'!C183,Hoja4!A6)+COUNTIF('3. Level A Evaluation'!C205,Hoja4!A6)+COUNTIF('3. Level A Evaluation'!C227,Hoja4!A6)+COUNTIF('3. Level A Evaluation'!C249,Hoja4!A6)+COUNTIF('3. Level A Evaluation'!C271,Hoja4!A6)+COUNTIF('3. Level A Evaluation'!C293,Hoja4!A6)+COUNTIF('3. Level A Evaluation'!C315,Hoja4!A6)+COUNTIF('3. Level A Evaluation'!C337,Hoja4!A6)+COUNTIF('3. Level A Evaluation'!C359,Hoja4!A6)+COUNTIF('3. Level A Evaluation'!C381,Hoja4!A6)+COUNTIF('3. Level A Evaluation'!C403,Hoja4!A6)+COUNTIF('3. Level A Evaluation'!C425,Hoja4!A6)+COUNTIF('3. Level A Evaluation'!C447,Hoja4!A6)+COUNTIF('3. Level A Evaluation'!C469,Hoja4!A6)+COUNTIF('3. Level A Evaluation'!C491,Hoja4!A6)+COUNTIF('3. Level A Evaluation'!C513,Hoja4!A6)+COUNTIF('3. Level A Evaluation'!C535,Hoja4!A6)+COUNTIF('3. Level A Evaluation'!C557,Hoja4!A6)+COUNTIF('3. Level A Evaluation'!C579,Hoja4!A6)+COUNTIF('3. Level A Evaluation'!C601,Hoja4!A6)+COUNTIF('3. Level A Evaluation'!C623,Hoja4!A6)+COUNTIF('3. Level A Evaluation'!C645,Hoja4!A6)+COUNTIF('3. Level A Evaluation'!C668,Hoja4!A6),"") -> 0 | E18: =IF('2. Sample pages'!B5>0,D18*100/B9,"") -> 0 | F18: =IF('2. Sample pages'!B5>0,COUNTIF('3. Level A Evaluation'!C7,Hoja4!A7)+COUNTIF('3. Level A Evaluation'!C29,Hoja4!A7)+COUNTIF('3. Level A Evaluation'!C51,Hoja4!A7)+COUNTIF('3. Level A Evaluation'!C73,Hoja4!A7)+COUNTIF('3. Level A Evaluation'!C95,Hoja4!A7)+COUNTIF('3. Level A Evaluation'!C117,Hoja4!A7)+COUNTIF('3. Level A Evaluation'!C139,Hoja4!A7)+COUNTIF('3. Level A Evaluation'!C161,Hoja4!A7)+COUNTIF('3. Level A Evaluation'!C183,Hoja4!A7)+COUNTIF('3. Level A Evaluation'!C205,Hoja4!A7)+COUNTIF('3. Level A Evaluation'!C227,Hoja4!A7)+COUNTIF('3. Level A Evaluation'!C249,Hoja4!A7)+COUNTIF('3. Level A Evaluation'!C271,Hoja4!A7)+COUNTIF('3. Level A Evaluation'!C293,Hoja4!A7)+COUNTIF('3. Level A Evaluation'!C315,Hoja4!A7)+COUNTIF('3. Level A Evaluation'!C337,Hoja4!A7)+COUNTIF('3. Level A Evaluation'!C359,Hoja4!A7)+COUNTIF('3. Level A Evaluation'!C381,Hoja4!A7)+COUNTIF('3. Level A Evaluation'!C403,Hoja4!A7)+COUNTIF('3. Level A Evaluation'!C425,Hoja4!A7)+COUNTIF('3. Level A Evaluation'!C447,Hoja4!A7)+COUNTIF('3. Level A Evaluation'!C469,Hoja4!A7)+COUNTIF('3. Level A Evaluation'!C491,Hoja4!A7)+COUNTIF('3. Level A Evaluation'!C513,Hoja4!A7)+COUNTIF('3. Level A Evaluation'!C535,Hoja4!A7)+COUNTIF('3. Level A Evaluation'!C557,Hoja4!A7)+COUNTIF('3. Level A Evaluation'!C579,Hoja4!A7)+COUNTIF('3. Level A Evaluation'!C601,Hoja4!A7)+COUNTIF('3. Level A Evaluation'!C623,Hoja4!A7)+COUNTIF('3. Level A Evaluation'!C645,Hoja4!A7)+COUNTIF('3. Level A Evaluation'!C668,Hoja4!A7),"") -> 0 | G18: =IF('2. Sample pages'!B5>0,F18*100/B9,"") -> 0 | H18: =IF('2. Sample pages'!B5>0,IF(ISERROR((B18*100)/(B9-F18)),0,(B18*100)/(B9-F18)),"") -> 0 | I18: =IF('2. Sample pages'!B5>0,IF(ISERROR((D18*100)/(B9-F18)),0,(D18*100)/(B9-F18)),"") -> 0
A19: ='2. Sample pages'!C9 -> Alias2 | B19: =IF('2. Sample pages'!B5>1,COUNTIF('3. Level A Evaluation'!C8,Hoja4!A5)+COUNTIF('3. Level A Evaluation'!C30,Hoja4!A5)+COUNTIF('3. Level A Evaluation'!C52,Hoja4!A5)+COUNTIF('3. Level A Evaluation'!C74,Hoja4!A5)+COUNTIF('3. Level A Evaluation'!C96,Hoja4!A5)+COUNTIF('3. Level A Evaluation'!C118,Hoja4!A5)+COUNTIF('3. Level A Evaluation'!C140,Hoja4!A5)+COUNTIF('3. Level A Evaluation'!C162,Hoja4!A5)+COUNTIF('3. Level A Evaluation'!C184,Hoja4!A5)+COUNTIF('3. Level A Evaluation'!C206,Hoja4!A5)+COUNTIF('3. Level A Evaluation'!C228,Hoja4!A5)+COUNTIF('3. Level A Evaluation'!C250,Hoja4!A5)+COUNTIF('3. Level A Evaluation'!C272,Hoja4!A5)+COUNTIF('3. Level A Evaluation'!C294,Hoja4!A5)+COUNTIF('3. Level A Evaluation'!C316,Hoja4!A5)+COUNTIF('3. Level A Evaluation'!C338,Hoja4!A5)+COUNTIF('3. Level A Evaluation'!C360,Hoja4!A5)+COUNTIF('3. Level A Evaluation'!C382,Hoja4!A5)+COUNTIF('3. Level A Evaluation'!C404,Hoja4!A5)+COUNTIF('3. Level A Evaluation'!C426,Hoja4!A5)+COUNTIF('3. Level A Evaluation'!C448,Hoja4!A5)+COUNTIF('3. Level A Evaluation'!C470,Hoja4!A5)+COUNTIF('3. Level A Evaluation'!C492,Hoja4!A5)+COUNTIF('3. Level A Evaluation'!C514,Hoja4!A5)+COUNTIF('3. Level A Evaluation'!C536,Hoja4!A5)+COUNTIF('3. Level A Evaluation'!C558,Hoja4!A5)+COUNTIF('3. Level A Evaluation'!C580,Hoja4!A5)+COUNTIF('3. Level A Evaluation'!C602,Hoja4!A5)+COUNTIF('3. Level A Evaluation'!C624,Hoja4!A5)+COUNTIF('3. Level A Evaluation'!C646,Hoja4!A5)+COUNTIF('3. Level A Evaluation'!C669,Hoja4!A5),"") -> 0 | C19: =IF('2. Sample pages'!B5>1,B19*100/B9,"") -> 0 | D19: =IF('2. Sample pages'!B5>1,COUNTIF('3. Level A Evaluation'!C8,Hoja4!A6)+COUNTIF('3. Level A Evaluation'!C30,Hoja4!A6)+COUNTIF('3. Level A Evaluation'!C52,Hoja4!A6)+COUNTIF('3. Level A Evaluation'!C74,Hoja4!A6)+COUNTIF('3. Level A Evaluation'!C96,Hoja4!A6)+COUNTIF('3. Level A Evaluation'!C118,Hoja4!A6)+COUNTIF('3. Level A Evaluation'!C140,Hoja4!A6)+COUNTIF('3. Level A Evaluation'!C162,Hoja4!A6)+COUNTIF('3. Level A Evaluation'!C184,Hoja4!A6)+COUNTIF('3. Level A Evaluation'!C206,Hoja4!A6)+COUNTIF('3. Level A Evaluation'!C228,Hoja4!A6)+COUNTIF('3. Level A Evaluation'!C250,Hoja4!A6)+COUNTIF('3. Level A Evaluation'!C272,Hoja4!A6)+COUNTIF('3. Level A Evaluation'!C294,Hoja4!A6)+COUNTIF('3. Level A Evaluation'!C316,Hoja4!A6)+COUNTIF('3. Level A Evaluation'!C338,Hoja4!A6)+COUNTIF('3. Level A Evaluation'!C360,Hoja4!A6)+COUNTIF('3. Level A Evaluation'!C382,Hoja4!A6)+COUNTIF('3. Level A Evaluation'!C404,Hoja4!A6)+COUNTIF('3. Level A Evaluation'!C426,Hoja4!A6)+COUNTIF('3. Level A Evaluation'!C448,Hoja4!A6)+COUNTIF('3. Level A Evaluation'!C470,Hoja4!A6)+COUNTIF('3. Level A Evaluation'!C492,Hoja4!A6)+COUNTIF('3. Level A Evaluation'!C514,Hoja4!A6)+COUNTIF('3. Level A Evaluation'!C536,Hoja4!A6)+COUNTIF('3. Level A Evaluation'!C558,Hoja4!A6)+COUNTIF('3. Level A Evaluation'!C580,Hoja4!A6)+COUNTIF('3. Level A Evaluation'!C602,Hoja4!A6)+COUNTIF('3. Level A Evaluation'!C624,Hoja4!A6)+COUNTIF('3. Level A Evaluation'!C646,Hoja4!A6)+COUNTIF('3. Level A Evaluation'!C669,Hoja4!A6),"") -> 0 | E19: =IF('2. Sample pages'!B5>1,D19*100/B9,"") -> 0 | F19: =IF('2. Sample pages'!B5>1,COUNTIF('3. Level A Evaluation'!C8,Hoja4!A7)+COUNTIF('3. Level A Evaluation'!C30,Hoja4!A7)+COUNTIF('3. Level A Evaluation'!C52,Hoja4!A7)+COUNTIF('3. Level A Evaluation'!C74,Hoja4!A7)+COUNTIF('3. Level A Evaluation'!C96,Hoja4!A7)+COUNTIF('3. Level A Evaluation'!C118,Hoja4!A7)+COUNTIF('3. Level A Evaluation'!C140,Hoja4!A7)+COUNTIF('3. Level A Evaluation'!C162,Hoja4!A7)+COUNTIF('3. Level A Evaluation'!C184,Hoja4!A7)+COUNTIF('3. Level A Evaluation'!C206,Hoja4!A7)+COUNTIF('3. Level A Evaluation'!C228,Hoja4!A7)+COUNTIF('3. Level A Evaluation'!C250,Hoja4!A7)+COUNTIF('3. Level A Evaluation'!C272,Hoja4!A7)+COUNTIF('3. Level A Evaluation'!C294,Hoja4!A7)+COUNTIF('3. Level A Evaluation'!C316,Hoja4!A7)+COUNTIF('3. Level A Evaluation'!C338,Hoja4!A7)+COUNTIF('3. Level A Evaluation'!C360,Hoja4!A7)+COUNTIF('3. Level A Evaluation'!C382,Hoja4!A7)+COUNTIF('3. Level A Evaluation'!C404,Hoja4!A7)+COUNTIF('3. Level A Evaluation'!C426,Hoja4!A7)+COUNTIF('3. Level A Evaluation'!C448,Hoja4!A7)+COUNTIF('3. Level A Evaluation'!C470,Hoja4!A7)+COUNTIF('3. Level A Evaluation'!C492,Hoja4!A7)+COUNTIF('3. Level A Evaluation'!C514,Hoja4!A7)+COUNTIF('3. Level A Evaluation'!C536,Hoja4!A7)+COUNTIF('3. Level A Evaluation'!C558,Hoja4!A7)+COUNTIF('3. Level A Evaluation'!C580,Hoja4!A7)+COUNTIF('3. Level A Evaluation'!C602,Hoja4!A7)+COUNTIF('3. Level A Evaluation'!C624,Hoja4!A7)+COUNTIF('3. Level A Evaluation'!C646,Hoja4!A7)+COUNTIF('3. Level A Evaluation'!C669,Hoja4!A7),"") -> 0 | G19: =IF('2. Sample pages'!B5>1,F19*100/B9,"") -> 0 | H19: =IF('2. Sample pages'!B5>1,IF(ISERROR((B19*100)/(B9-F19)),0,(B19*100)/(B9-F19)),"") -> 0 | I19: =IF('2. Sample pages'!B5>1,IF(ISERROR((D19*100)/(B9-F19)),0,(D19*100)/(B9-F19)),"") -> 0
A20: ='2. Sample pages'!C10 -> Alias3 | B20: =IF('2. Sample pages'!B5>2,COUNTIF('3. Level A Evaluation'!C9,Hoja4!A5)+COUNTIF('3. Level A Evaluation'!C31,Hoja4!A5)+COUNTIF('3. Level A Evaluation'!C53,Hoja4!A5)+COUNTIF('3. Level A Evaluation'!C75,Hoja4!A5)+COUNTIF('3. Level A Evaluation'!C97,Hoja4!A5)+COUNTIF('3. Level A Evaluation'!C119,Hoja4!A5)+COUNTIF('3. Level A Evaluation'!C141,Hoja4!A5)+COUNTIF('3. Level A Evaluation'!C163,Hoja4!A5)+COUNTIF('3. Level A Evaluation'!C185,Hoja4!A5)+COUNTIF('3. Level A Evaluation'!C207,Hoja4!A5)+COUNTIF('3. Level A Evaluation'!C229,Hoja4!A5)+COUNTIF('3. Level A Evaluation'!C251,Hoja4!A5)+COUNTIF('3. Level A Evaluation'!C273,Hoja4!A5)+COUNTIF('3. Level A Evaluation'!C295,Hoja4!A5)+COUNTIF('3. Level A Evaluation'!C317,Hoja4!A5)+COUNTIF('3. Level A Evaluation'!C339,Hoja4!A5)+COUNTIF('3. Level A Evaluation'!C361,Hoja4!A5)+COUNTIF('3. Level A Evaluation'!C383,Hoja4!A5)+COUNTIF('3. Level A Evaluation'!C405,Hoja4!A5)+COUNTIF('3. Level A Evaluation'!C427,Hoja4!A5)+COUNTIF('3. Level A Evaluation'!C449,Hoja4!A5)+COUNTIF('3. Level A Evaluation'!C471,Hoja4!A5)+COUNTIF('3. Level A Evaluation'!C493,Hoja4!A5)+COUNTIF('3. Level A Evaluation'!C515,Hoja4!A5)+COUNTIF('3. Level A Evaluation'!C537,Hoja4!A5)+COUNTIF('3. Level A Evaluation'!C559,Hoja4!A5)+COUNTIF('3. Level A Evaluation'!C581,Hoja4!A5)+COUNTIF('3. Level A Evaluation'!C603,Hoja4!A5)+COUNTIF('3. Level A Evaluation'!C625,Hoja4!A5)+COUNTIF('3. Level A Evaluation'!C647,Hoja4!A5)+COUNTIF('3. Level A Evaluation'!C670,Hoja4!A5),"") -> 0 | C20: =IF('2. Sample pages'!B5>2,B20*100/B9,"") -> 0 | D20: =IF('2. Sample pages'!B5>2,COUNTIF('3. Level A Evaluation'!C9,Hoja4!A6)+COUNTIF('3. Level A Evaluation'!C31,Hoja4!A6)+COUNTIF('3. Level A Evaluation'!C53,Hoja4!A6)+COUNTIF('3. Level A Evaluation'!C75,Hoja4!A6)+COUNTIF('3. Level A Evaluation'!C97,Hoja4!A6)+COUNTIF('3. Level A Evaluation'!C119,Hoja4!A6)+COUNTIF('3. Level A Evaluation'!C141,Hoja4!A6)+COUNTIF('3. Level A Evaluation'!C163,Hoja4!A6)+COUNTIF('3. Level A Evaluation'!C185,Hoja4!A6)+COUNTIF('3. Level A Evaluation'!C207,Hoja4!A6)+COUNTIF('3. Level A Evaluation'!C229,Hoja4!A6)+COUNTIF('3. Level A Evaluation'!C251,Hoja4!A6)+COUNTIF('3. Level A Evaluation'!C273,Hoja4!A6)+COUNTIF('3. Level A Evaluation'!C295,Hoja4!A6)+COUNTIF('3. Level A Evaluation'!C317,Hoja4!A6)+COUNTIF('3. Level A Evaluation'!C339,Hoja4!A6)+COUNTIF('3. Level A Evaluation'!C361,Hoja4!A6)+COUNTIF('3. Level A Evaluation'!C383,Hoja4!A6)+COUNTIF('3. Level A Evaluation'!C405,Hoja4!A6)+COUNTIF('3. Level A Evaluation'!C427,Hoja4!A6)+COUNTIF('3. Level A Evaluation'!C449,Hoja4!A6)+COUNTIF('3. Level A Evaluation'!C471,Hoja4!A6)+COUNTIF('3. Level A Evaluation'!C493,Hoja4!A6)+COUNTIF('3. Level A Evaluation'!C515,Hoja4!A6)+COUNTIF('3. Level A Evaluation'!C537,Hoja4!A6)+COUNTIF('3. Level A Evaluation'!C559,Hoja4!A6)+COUNTIF('3. Level A Evaluation'!C581,Hoja4!A6)+COUNTIF('3. Level A Evaluation'!C603,Hoja4!A6)+COUNTIF('3. Level A Evaluation'!C625,Hoja4!A6)+COUNTIF('3. Level A Evaluation'!C647,Hoja4!A6)+COUNTIF('3. Level A Evaluation'!C670,Hoja4!A6),"") -> 0 | E20: =IF('2. Sample pages'!B5>2,D20*100/B9,"") -> 0 | F20: =IF('2. Sample pages'!B5>2,COUNTIF('3. Level A Evaluation'!C9,Hoja4!A7)+COUNTIF('3. Level A Evaluation'!C31,Hoja4!A7)+COUNTIF('3. Level A Evaluation'!C53,Hoja4!A7)+COUNTIF('3. Level A Evaluation'!C75,Hoja4!A7)+COUNTIF('3. Level A Evaluation'!C97,Hoja4!A7)+COUNTIF('3. Level A Evaluation'!C119,Hoja4!A7)+COUNTIF('3. Level A Evaluation'!C141,Hoja4!A7)+COUNTIF('3. Level A Evaluation'!C163,Hoja4!A7)+COUNTIF('3. Level A Evaluation'!C185,Hoja4!A7)+COUNTIF('3. Level A Evaluation'!C207,Hoja4!A7)+COUNTIF('3. Level A Evaluation'!C229,Hoja4!A7)+COUNTIF('3. Level A Evaluation'!C251,Hoja4!A7)+COUNTIF('3. Level A Evaluation'!C273,Hoja4!A7)+COUNTIF('3. Level A Evaluation'!C295,Hoja4!A7)+COUNTIF('3. Level A Evaluation'!C317,Hoja4!A7)+COUNTIF('3. Level A Evaluation'!C339,Hoja4!A7)+COUNTIF('3. Level A Evaluation'!C361,Hoja4!A7)+COUNTIF('3. Level A Evaluation'!C383,Hoja4!A7)+COUNTIF('3. Level A Evaluation'!C405,Hoja4!A7)+COUNTIF('3. Level A Evaluation'!C427,Hoja4!A7)+COUNTIF('3. Level A Evaluation'!C449,Hoja4!A7)+COUNTIF('3. Level A Evaluation'!C471,Hoja4!A7)+COUNTIF('3. Level A Evaluation'!C493,Hoja4!A7)+COUNTIF('3. Level A Evaluation'!C515,Hoja4!A7)+COUNTIF('3. Level A Evaluation'!C537,Hoja4!A7)+COUNTIF('3. Level A Evaluation'!C559,Hoja4!A7)+COUNTIF('3. Level A Evaluation'!C581,Hoja4!A7)+COUNTIF('3. Level A Evaluation'!C603,Hoja4!A7)+COUNTIF('3. Level A Evaluation'!C625,Hoja4!A7)+COUNTIF('3. Level A Evaluation'!C647,Hoja4!A7)+COUNTIF('3. Level A Evaluation'!C670,Hoja4!A7),"") -> 0 | G20: =IF('2. Sample pages'!B5>2,F20*100/B9,"") -> 0 | H20: =IF('2. Sample pages'!B5>2,IF(ISERROR((B20*100)/(B9-F20)),0,(B20*100)/(B9-F20)),"") -> 0 | I20: =IF('2. Sample pages'!B5>2,IF(ISERROR((D20*100)/(B9-F20)),0,(D20*100)/(B9-F20)),"") -> 0
A21: ='2. Sample pages'!C11 -> Alias4 | B21: =IF('2. Sample pages'!B5>3,COUNTIF('3. Level A Evaluation'!C10,Hoja4!A5)+COUNTIF('3. Level A Evaluation'!C32,Hoja4!A5)+COUNTIF('3. Level A Evaluation'!C54,Hoja4!A5)+COUNTIF('3. Level A Evaluation'!C76,Hoja4!A5)+COUNTIF('3. Level A Evaluation'!C98,Hoja4!A5)+COUNTIF('3. Level A Evaluation'!C120,Hoja4!A5)+COUNTIF('3. Level A Evaluation'!C142,Hoja4!A5)+COUNTIF('3. Level A Evaluation'!C164,Hoja4!A5)+COUNTIF('3. Level A Evaluation'!C186,Hoja4!A5)+COUNTIF('3. Level A Evaluation'!C208,Hoja4!A5)+COUNTIF('3. Level A Evaluation'!C230,Hoja4!A5)+COUNTIF('3. Level A Evaluation'!C252,Hoja4!A5)+COUNTIF('3. Level A Evaluation'!C274,Hoja4!A5)+COUNTIF('3. Level A Evaluation'!C296,Hoja4!A5)+COUNTIF('3. Level A Evaluation'!C318,Hoja4!A5)+COUNTIF('3. Level A Evaluation'!C340,Hoja4!A5)+COUNTIF('3. Level A Evaluation'!C362,Hoja4!A5)+COUNTIF('3. Level A Evaluation'!C384,Hoja4!A5)+COUNTIF('3. Level A Evaluation'!C406,Hoja4!A5)+COUNTIF('3. Level A Evaluation'!C428,Hoja4!A5)+COUNTIF('3. Level A Evaluation'!C450,Hoja4!A5)+COUNTIF('3. Level A Evaluation'!C472,Hoja4!A5)+COUNTIF('3. Level A Evaluation'!C494,Hoja4!A5)+COUNTIF('3. Level A Evaluation'!C516,Hoja4!A5)+COUNTIF('3. Level A Evaluation'!C538,Hoja4!A5)+COUNTIF('3. Level A Evaluation'!C560,Hoja4!A5)+COUNTIF('3. Level A Evaluation'!C582,Hoja4!A5)+COUNTIF('3. Level A Evaluation'!C604,Hoja4!A5)+COUNTIF('3. Level A Evaluation'!C626,Hoja4!A5)+COUNTIF('3. Level A Evaluation'!C648,Hoja4!A5)+COUNTIF('3. Level A Evaluation'!C671,Hoja4!A5),"") -> 0 | C21: =IF('2. Sample pages'!B5>3,B21*100/B9,"") -> 0 | D21: =IF('2. Sample pages'!B5>3,COUNTIF('3. Level A Evaluation'!C10,Hoja4!A6)+COUNTIF('3. Level A Evaluation'!C32,Hoja4!A6)+COUNTIF('3. Level A Evaluation'!C54,Hoja4!A6)+COUNTIF('3. Level A Evaluation'!C76,Hoja4!A6)+COUNTIF('3. Level A Evaluation'!C98,Hoja4!A6)+COUNTIF('3. Level A Evaluation'!C120,Hoja4!A6)+COUNTIF('3. Level A Evaluation'!C142,Hoja4!A6)+COUNTIF('3. Level A Evaluation'!C164,Hoja4!A6)+COUNTIF('3. Level A Evaluation'!C186,Hoja4!A6)+COUNTIF('3. Level A Evaluation'!C208,Hoja4!A6)+COUNTIF('3. Level A Evaluation'!C230,Hoja4!A6)+COUNTIF('3. Level A Evaluation'!C252,Hoja4!A6)+COUNTIF('3. Level A Evaluation'!C274,Hoja4!A6)+COUNTIF('3. Level A Evaluation'!C296,Hoja4!A6)+COUNTIF('3. Level A Evaluation'!C318,Hoja4!A6)+COUNTIF('3. Level A Evaluation'!C340,Hoja4!A6)+COUNTIF('3. Level A Evaluation'!C362,Hoja4!A6)+COUNTIF('3. Level A Evaluation'!C384,Hoja4!A6)+COUNTIF('3. Level A Evaluation'!C406,Hoja4!A6)+COUNTIF('3. Level A Evaluation'!C428,Hoja4!A6)+COUNTIF('3. Level A Evaluation'!C450,Hoja4!A6)+COUNTIF('3. Level A Evaluation'!C472,Hoja4!A6)+COUNTIF('3. Level A Evaluation'!C494,Hoja4!A6)+COUNTIF('3. Level A Evaluation'!C516,Hoja4!A6)+COUNTIF('3. Level A Evaluation'!C538,Hoja4!A6)+COUNTIF('3. Level A Evaluation'!C560,Hoja4!A6)+COUNTIF('3. Level A Evaluation'!C582,Hoja4!A6)+COUNTIF('3. Level A Evaluation'!C604,Hoja4!A6)+COUNTIF('3. Level A Evaluation'!C626,Hoja4!A6)+COUNTIF('3. Level A Evaluation'!C648,Hoja4!A6)+COUNTIF('3. Level A Evaluation'!C671,Hoja4!A6),"") -> 0 | E21: =IF('2. Sample pages'!B5>3,D21*100/B9,"") -> 0 | F21: =IF('2. Sample pages'!B5>3,COUNTIF('3. Level A Evaluation'!C10,Hoja4!A7)+COUNTIF('3. Level A Evaluation'!C32,Hoja4!A7)+COUNTIF('3. Level A Evaluation'!C54,Hoja4!A7)+COUNTIF('3. Level A Evaluation'!C76,Hoja4!A7)+COUNTIF('3. Level A Evaluation'!C98,Hoja4!A7)+COUNTIF('3. Level A Evaluation'!C120,Hoja4!A7)+COUNTIF('3. Level A Evaluation'!C142,Hoja4!A7)+COUNTIF('3. Level A Evaluation'!C164,Hoja4!A7)+COUNTIF('3. Level A Evaluation'!C186,Hoja4!A7)+COUNTIF('3. Level A Evaluation'!C208,Hoja4!A7)+COUNTIF('3. Level A Evaluation'!C230,Hoja4!A7)+COUNTIF('3. Level A Evaluation'!C252,Hoja4!A7)+COUNTIF('3. Level A Evaluation'!C274,Hoja4!A7)+COUNTIF('3. Level A Evaluation'!C296,Hoja4!A7)+COUNTIF('3. Level A Evaluation'!C318,Hoja4!A7)+COUNTIF('3. Level A Evaluation'!C340,Hoja4!A7)+COUNTIF('3. Level A Evaluation'!C362,Hoja4!A7)+COUNTIF('3. Level A Evaluation'!C384,Hoja4!A7)+COUNTIF('3. Level A Evaluation'!C406,Hoja4!A7)+COUNTIF('3. Level A Evaluation'!C428,Hoja4!A7)+COUNTIF('3. Level A Evaluation'!C450,Hoja4!A7)+COUNTIF('3. Level A Evaluation'!C472,Hoja4!A7)+COUNTIF('3. Level A Evaluation'!C494,Hoja4!A7)+COUNTIF('3. Level A Evaluation'!C516,Hoja4!A7)+COUNTIF('3. Level A Evaluation'!C538,Hoja4!A7)+COUNTIF('3. Level A Evaluation'!C560,Hoja4!A7)+COUNTIF('3. Level A Evaluation'!C582,Hoja4!A7)+COUNTIF('3. Level A Evaluation'!C604,Hoja4!A7)+COUNTIF('3. Level A Evaluation'!C626,Hoja4!A7)+COUNTIF('3. Level A Evaluation'!C648,Hoja4!A7)+COUNTIF('3. Level A Evaluation'!C671,Hoja4!A7),"") -> 0 | G21: =IF('2. Sample pages'!B5>3,F21*100/B9,"") -> 0 | H21: =IF('2. Sample pages'!B5>3,IF(ISERROR((B21*100)/(B9-F21)),0,(B21*100)/(B9-F21)),"") -> 0 | I21: =IF('2. Sample pages'!B5>3,IF(ISERROR((D21*100)/(B9-F21)),0,(D21*100)/(B9-F21)),"") -> 0
A22: ='2. Sample pages'!C12 -> Alias5 | B22: =IF('2. Sample pages'!B5>4,COUNTIF('3. Level A Evaluation'!C11,Hoja4!A5)+COUNTIF('3. Level A Evaluation'!C33,Hoja4!A5)+COUNTIF('3. Level A Evaluation'!C55,Hoja4!A5)+COUNTIF('3. Level A Evaluation'!C77,Hoja4!A5)+COUNTIF('3. Level A Evaluation'!C99,Hoja4!A5)+COUNTIF('3. Level A Evaluation'!C121,Hoja4!A5)+COUNTIF('3. Level A Evaluation'!C143,Hoja4!A5)+COUNTIF('3. Level A Evaluation'!C165,Hoja4!A5)+COUNTIF('3. Level A Evaluation'!C187,Hoja4!A5)+COUNTIF('3. Level A Evaluation'!C209,Hoja4!A5)+COUNTIF('3. Level A Evaluation'!C231,Hoja4!A5)+COUNTIF('3. Level A Evaluation'!C253,Hoja4!A5)+COUNTIF('3. Level A Evaluation'!C275,Hoja4!A5)+COUNTIF('3. Level A Evaluation'!C297,Hoja4!A5)+COUNTIF('3. Level A Evaluation'!C319,Hoja4!A5)+COUNTIF('3. Level A Evaluation'!C341,Hoja4!A5)+COUNTIF('3. Level A Evaluation'!C363,Hoja4!A5)+COUNTIF('3. Level A Evaluation'!C385,Hoja4!A5)+COUNTIF('3. Level A Evaluation'!C407,Hoja4!A5)+COUNTIF('3. Level A Evaluation'!C429,Hoja4!A5)+COUNTIF('3. Level A Evaluation'!C451,Hoja4!A5)+COUNTIF('3. Level A Evaluation'!C473,Hoja4!A5)+COUNTIF('3. Level A Evaluation'!C495,Hoja4!A5)+COUNTIF('3. Level A Evaluation'!C517,Hoja4!A5)+COUNTIF('3. Level A Evaluation'!C539,Hoja4!A5)+COUNTIF('3. Level A Evaluation'!C561,Hoja4!A5)+COUNTIF('3. Level A Evaluation'!C583,Hoja4!A5)+COUNTIF('3. Level A Evaluation'!C605,Hoja4!A5)+COUNTIF('3. Level A Evaluation'!C627,Hoja4!A5)+COUNTIF('3. Level A Evaluation'!C649,Hoja4!A5)+COUNTIF('3. Level A Evaluation'!C672,Hoja4!A5),"") -> 0 | C22: =IF('2. Sample pages'!B5>4,B22*100/B9,"") -> 0 | D22: =IF('2. Sample pages'!B5>4,COUNTIF('3. Level A Evaluation'!C11,Hoja4!A6)+COUNTIF('3. Level A Evaluation'!C33,Hoja4!A6)+COUNTIF('3. Level A Evaluation'!C55,Hoja4!A6)+COUNTIF('3. Level A Evaluation'!C77,Hoja4!A6)+COUNTIF('3. Level A Evaluation'!C99,Hoja4!A6)+COUNTIF('3. Level A Evaluation'!C121,Hoja4!A6)+COUNTIF('3. Level A Evaluation'!C143,Hoja4!A6)+COUNTIF('3. Level A Evaluation'!C165,Hoja4!A6)+COUNTIF('3. Level A Evaluation'!C187,Hoja4!A6)+COUNTIF('3. Level A Evaluation'!C209,Hoja4!A6)+COUNTIF('3. Level A Evaluation'!C231,Hoja4!A6)+COUNTIF('3. Level A Evaluation'!C253,Hoja4!A6)+COUNTIF('3. Level A Evaluation'!C275,Hoja4!A6)+COUNTIF('3. Level A Evaluation'!C297,Hoja4!A6)+COUNTIF('3. Level A Evaluation'!C319,Hoja4!A6)+COUNTIF('3. Level A Evaluation'!C341,Hoja4!A6)+COUNTIF('3. Level A Evaluation'!C363,Hoja4!A6)+COUNTIF('3. Level A Evaluation'!C385,Hoja4!A6)+COUNTIF('3. Level A Evaluation'!C407,Hoja4!A6)+COUNTIF('3. Level A Evaluation'!C429,Hoja4!A6)+COUNTIF('3. Level A Evaluation'!C451,Hoja4!A6)+COUNTIF('3. Level A Evaluation'!C473,Hoja4!A6)+COUNTIF('3. Level A Evaluation'!C495,Hoja4!A6)+COUNTIF('3. Level A Evaluation'!C517,Hoja4!A6)+COUNTIF('3. Level A Evaluation'!C539,Hoja4!A6)+COUNTIF('3. Level A Evaluation'!C561,Hoja4!A6)+COUNTIF('3. Level A Evaluation'!C583,Hoja4!A6)+COUNTIF('3. Level A Evaluation'!C605,Hoja4!A6)+COUNTIF('3. Level A Evaluation'!C627,Hoja4!A6)+COUNTIF('3. Level A Evaluation'!C649,Hoja4!A6)+COUNTIF('3. Level A Evaluation'!C672,Hoja4!A6),"") -> 0 | E22: =IF('2. Sample pages'!B5>4,D22*100/B9,"") -> 0 | F22: =IF('2. Sample pages'!B5>4,COUNTIF('3. Level A Evaluation'!C11,Hoja4!A7)+COUNTIF('3. Level A Evaluation'!C33,Hoja4!A7)+COUNTIF('3. Level A Evaluation'!C55,Hoja4!A7)+COUNTIF('3. Level A Evaluation'!C77,Hoja4!A7)+COUNTIF('3. Level A Evaluation'!C99,Hoja4!A7)+COUNTIF('3. Level A Evaluation'!C121,Hoja4!A7)+COUNTIF('3. Level A Evaluation'!C143,Hoja4!A7)+COUNTIF('3. Level A Evaluation'!C165,Hoja4!A7)+COUNTIF('3. Level A Evaluation'!C187,Hoja4!A7)+COUNTIF('3. Level A Evaluation'!C209,Hoja4!A7)+COUNTIF('3. Level A Evaluation'!C231,Hoja4!A7)+COUNTIF('3. Level A Evaluation'!C253,Hoja4!A7)+COUNTIF('3. Level A Evaluation'!C275,Hoja4!A7)+COUNTIF('3. Level A Evaluation'!C297,Hoja4!A7)+COUNTIF('3. Level A Evaluation'!C319,Hoja4!A7)+COUNTIF('3. Level A Evaluation'!C341,Hoja4!A7)+COUNTIF('3. Level A Evaluation'!C363,Hoja4!A7)+COUNTIF('3. Level A Evaluation'!C385,Hoja4!A7)+COUNTIF('3. Level A Evaluation'!C407,Hoja4!A7)+COUNTIF('3. Level A Evaluation'!C429,Hoja4!A7)+COUNTIF('3. Level A Evaluation'!C451,Hoja4!A7)+COUNTIF('3. Level A Evaluation'!C473,Hoja4!A7)+COUNTIF('3. Level A Evaluation'!C495,Hoja4!A7)+COUNTIF('3. Level A Evaluation'!C517,Hoja4!A7)+COUNTIF('3. Level A Evaluation'!C539,Hoja4!A7)+COUNTIF('3. Level A Evaluation'!C561,Hoja4!A7)+COUNTIF('3. Level A Evaluation'!C583,Hoja4!A7)+COUNTIF('3. Level A Evaluation'!C605,Hoja4!A7)+COUNTIF('3. Level A Evaluation'!C627,Hoja4!A7)+COUNTIF('3. Level A Evaluation'!C649,Hoja4!A7)+COUNTIF('3. Level A Evaluation'!C672,Hoja4!A7),"") -> 0 | G22: =IF('2. Sample pages'!B5>4,F22*100/B9,"") -> 0 | H22: =IF('2. Sample pages'!B5>4,IF(ISERROR((B22*100)/(B9-F22)),0,(B22*100)/(B9-F22)),"") -> 0 | I22: =IF('2. Sample pages'!B5>4,IF(ISERROR((D22*100)/(B9-F22)),0,(D22*100)/(B9-F22)),"") -> 0
A23: ='2. Sample pages'!C13 -> Alias6 | B23: =IF('2. Sample pages'!B5>5,COUNTIF('3. Level A Evaluation'!C12,Hoja4!A5)+COUNTIF('3. Level A Evaluation'!C34,Hoja4!A5)+COUNTIF('3. Level A Evaluation'!C56,Hoja4!A5)+COUNTIF('3. Level A Evaluation'!C78,Hoja4!A5)+COUNTIF('3. Level A Evaluation'!C100,Hoja4!A5)+COUNTIF('3. Level A Evaluation'!C122,Hoja4!A5)+COUNTIF('3. Level A Evaluation'!C144,Hoja4!A5)+COUNTIF('3. Level A Evaluation'!C166,Hoja4!A5)+COUNTIF('3. Level A Evaluation'!C188,Hoja4!A5)+COUNTIF('3. Level A Evaluation'!C210,Hoja4!A5)+COUNTIF('3. Level A Evaluation'!C232,Hoja4!A5)+COUNTIF('3. Level A Evaluation'!C254,Hoja4!A5)+COUNTIF('3. Level A Evaluation'!C276,Hoja4!A5)+COUNTIF('3. Level A Evaluation'!C298,Hoja4!A5)+COUNTIF('3. Level A Evaluation'!C320,Hoja4!A5)+COUNTIF('3. Level A Evaluation'!C342,Hoja4!A5)+COUNTIF('3. Level A Evaluation'!C364,Hoja4!A5)+COUNTIF('3. Level A Evaluation'!C386,Hoja4!A5)+COUNTIF('3. Level A Evaluation'!C408,Hoja4!A5)+COUNTIF('3. Level A Evaluation'!C430,Hoja4!A5)+COUNTIF('3. Level A Evaluation'!C452,Hoja4!A5)+COUNTIF('3. Level A Evaluation'!C474,Hoja4!A5)+COUNTIF('3. Level A Evaluation'!C496,Hoja4!A5)+COUNTIF('3. Level A Evaluation'!C518,Hoja4!A5)+COUNTIF('3. Level A Evaluation'!C540,Hoja4!A5)+COUNTIF('3. Level A Evaluation'!C562,Hoja4!A5)+COUNTIF('3. Level A Evaluation'!C584,Hoja4!A5)+COUNTIF('3. Level A Evaluation'!C606,Hoja4!A5)+COUNTIF('3. Level A Evaluation'!C628,Hoja4!A5)+COUNTIF('3. Level A Evaluation'!C650,Hoja4!A5)+COUNTIF('3. Level A Evaluation'!C673,Hoja4!A5),"") -> 0 | C23: =IF('2. Sample pages'!B5>5,B23*100/B9,"") -> 0 | D23: =IF('2. Sample pages'!B5>5,COUNTIF('3. Level A Evaluation'!C12,Hoja4!A6)+COUNTIF('3. Level A Evaluation'!C34,Hoja4!A6)+COUNTIF('3. Level A Evaluation'!C56,Hoja4!A6)+COUNTIF('3. Level A Evaluation'!C78,Hoja4!A6)+COUNTIF('3. Level A Evaluation'!C100,Hoja4!A6)+COUNTIF('3. Level A Evaluation'!C122,Hoja4!A6)+COUNTIF('3. Level A Evaluation'!C144,Hoja4!A6)+COUNTIF('3. Level A Evaluation'!C166,Hoja4!A6)+COUNTIF('3. Level A Evaluation'!C188,Hoja4!A6)+COUNTIF('3. Level A Evaluation'!C210,Hoja4!A6)+COUNTIF('3. Level A Evaluation'!C232,Hoja4!A6)+COUNTIF('3. Level A Evaluation'!C254,Hoja4!A6)+COUNTIF('3. Level A Evaluation'!C276,Hoja4!A6)+COUNTIF('3. Level A Evaluation'!C298,Hoja4!A6)+COUNTIF('3. Level A Evaluation'!C320,Hoja4!A6)+COUNTIF('3. Level A Evaluation'!C342,Hoja4!A6)+COUNTIF('3. Level A Evaluation'!C364,Hoja4!A6)+COUNTIF('3. Level A Evaluation'!C386,Hoja4!A6)+COUNTIF('3. Level A Evaluation'!C408,Hoja4!A6)+COUNTIF('3. Level A Evaluation'!C430,Hoja4!A6)+COUNTIF('3. Level A Evaluation'!C452,Hoja4!A6)+COUNTIF('3. Level A Evaluation'!C474,Hoja4!A6)+COUNTIF('3. Level A Evaluation'!C496,Hoja4!A6)+COUNTIF('3. Level A Evaluation'!C518,Hoja4!A6)+COUNTIF('3. Level A Evaluation'!C540,Hoja4!A6)+COUNTIF('3. Level A Evaluation'!C562,Hoja4!A6)+COUNTIF('3. Level A Evaluation'!C584,Hoja4!A6)+COUNTIF('3. Level A Evaluation'!C606,Hoja4!A6)+COUNTIF('3. Level A Evaluation'!C628,Hoja4!A6)+COUNTIF('3. Level A Evaluation'!C650,Hoja4!A6)+COUNTIF('3. Level A Evaluation'!C673,Hoja4!A6),"") -> 0 | E23: =IF('2. Sample pages'!B5>5,D23*100/B9,"") -> 0 | F23: =IF('2. Sample pages'!B5>5,COUNTIF('3. Level A Evaluation'!C12,Hoja4!A7)+COUNTIF('3. Level A Evaluation'!C34,Hoja4!A7)+COUNTIF('3. Level A Evaluation'!C56,Hoja4!A7)+COUNTIF('3. Level A Evaluation'!C78,Hoja4!A7)+COUNTIF('3. Level A Evaluation'!C100,Hoja4!A7)+COUNTIF('3. Level A Evaluation'!C122,Hoja4!A7)+COUNTIF('3. Level A Evaluation'!C144,Hoja4!A7)+COUNTIF('3. Level A Evaluation'!C166,Hoja4!A7)+COUNTIF('3. Level A Evaluation'!C188,Hoja4!A7)+COUNTIF('3. Level A Evaluation'!C210,Hoja4!A7)+COUNTIF('3. Level A Evaluation'!C232,Hoja4!A7)+COUNTIF('3. Level A Evaluation'!C254,Hoja4!A7)+COUNTIF('3. Level A Evaluation'!C276,Hoja4!A7)+COUNTIF('3. Level A Evaluation'!C298,Hoja4!A7)+COUNTIF('3. Level A Evaluation'!C320,Hoja4!A7)+COUNTIF('3. Level A Evaluation'!C342,Hoja4!A7)+COUNTIF('3. Level A Evaluation'!C364,Hoja4!A7)+COUNTIF('3. Level A Evaluation'!C386,Hoja4!A7)+COUNTIF('3. Level A Evaluation'!C408,Hoja4!A7)+COUNTIF('3. Level A Evaluation'!C430,Hoja4!A7)+COUNTIF('3. Level A Evaluation'!C452,Hoja4!A7)+COUNTIF('3. Level A Evaluation'!C474,Hoja4!A7)+COUNTIF('3. Level A Evaluation'!C496,Hoja4!A7)+COUNTIF('3. Level A Evaluation'!C518,Hoja4!A7)+COUNTIF('3. Level A Evaluation'!C540,Hoja4!A7)+COUNTIF('3. Level A Evaluation'!C562,Hoja4!A7)+COUNTIF('3. Level A Evaluation'!C584,Hoja4!A7)+COUNTIF('3. Level A Evaluation'!C606,Hoja4!A7)+COUNTIF('3. Level A Evaluation'!C628,Hoja4!A7)+COUNTIF('3. Level A Evaluation'!C650,Hoja4!A7)+COUNTIF('3. Level A Evaluation'!C673,Hoja4!A7),"") -> 0 | G23: =IF('2. Sample pages'!B5>5,F23*100/B9,"") -> 0 | H23: =IF('2. Sample pages'!B5>5,IF(ISERROR((B23*100)/(B9-F23)),0,(B23*100)/(B9-F23)),"") -> 0 | I23: =IF('2. Sample pages'!B5>5,IF(ISERROR((D23*100)/(B9-F23)),0,(D23*100)/(B9-F23)),"") -> 0
A24: ='2. Sample pages'!C14 -> Alias7 | B24: =IF('2. Sample pages'!B5>6,COUNTIF('3. Level A Evaluation'!C13,Hoja4!A5)+COUNTIF('3. Level A Evaluation'!C35,Hoja4!A5)+COUNTIF('3. Level A Evaluation'!C57,Hoja4!A5)+COUNTIF('3. Level A Evaluation'!C79,Hoja4!A5)+COUNTIF('3. Level A Evaluation'!C101,Hoja4!A5)+COUNTIF('3. Level A Evaluation'!C123,Hoja4!A5)+COUNTIF('3. Level A Evaluation'!C145,Hoja4!A5)+COUNTIF('3. Level A Evaluation'!C167,Hoja4!A5)+COUNTIF('3. Level A Evaluation'!C189,Hoja4!A5)+COUNTIF('3. Level A Evaluation'!C211,Hoja4!A5)+COUNTIF('3. Level A Evaluation'!C233,Hoja4!A5)+COUNTIF('3. Level A Evaluation'!C255,Hoja4!A5)+COUNTIF('3. Level A Evaluation'!C277,Hoja4!A5)+COUNTIF('3. Level A Evaluation'!C299,Hoja4!A5)+COUNTIF('3. Level A Evaluation'!C321,Hoja4!A5)+COUNTIF('3. Level A Evaluation'!C343,Hoja4!A5)+COUNTIF('3. Level A Evaluation'!C365,Hoja4!A5)+COUNTIF('3. Level A Evaluation'!C387,Hoja4!A5)+COUNTIF('3. Level A Evaluation'!C409,Hoja4!A5)+COUNTIF('3. Level A Evaluation'!C431,Hoja4!A5)+COUNTIF('3. Level A Evaluation'!C453,Hoja4!A5)+COUNTIF('3. Level A Evaluation'!C475,Hoja4!A5)+COUNTIF('3. Level A Evaluation'!C497,Hoja4!A5)+COUNTIF('3. Level A Evaluation'!C519,Hoja4!A5)+COUNTIF('3. Level A Evaluation'!C541,Hoja4!A5)+COUNTIF('3. Level A Evaluation'!C563,Hoja4!A5)+COUNTIF('3. Level A Evaluation'!C585,Hoja4!A5)+COUNTIF('3. Level A Evaluation'!C607,Hoja4!A5)+COUNTIF('3. Level A Evaluation'!C629,Hoja4!A5)+COUNTIF('3. Level A Evaluation'!C651,Hoja4!A5)+COUNTIF('3. Level A Evaluation'!C674,Hoja4!A5),"") -> 0 | C24: =IF('2. Sample pages'!B5>6,B24*100/B9,"") -> 0 | D24: =IF('2. Sample pages'!B5>6,COUNTIF('3. Level A Evaluation'!C13,Hoja4!A6)+COUNTIF('3. Level A Evaluation'!C35,Hoja4!A6)+COUNTIF('3. Level A Evaluation'!C57,Hoja4!A6)+COUNTIF('3. Level A Evaluation'!C79,Hoja4!A6)+COUNTIF('3. Level A Evaluation'!C101,Hoja4!A6)+COUNTIF('3. Level A Evaluation'!C123,Hoja4!A6)+COUNTIF('3. Level A Evaluation'!C145,Hoja4!A6)+COUNTIF('3. Level A Evaluation'!C167,Hoja4!A6)+COUNTIF('3. Level A Evaluation'!C189,Hoja4!A6)+COUNTIF('3. Level A Evaluation'!C211,Hoja4!A6)+COUNTIF('3. Level A Evaluation'!C233,Hoja4!A6)+COUNTIF('3. Level A Evaluation'!C255,Hoja4!A6)+COUNTIF('3. Level A Evaluation'!C277,Hoja4!A6)+COUNTIF('3. Level A Evaluation'!C299,Hoja4!A6)+COUNTIF('3. Level A Evaluation'!C321,Hoja4!A6)+COUNTIF('3. Level A Evaluation'!C343,Hoja4!A6)+COUNTIF('3. Level A Evaluation'!C365,Hoja4!A6)+COUNTIF('3. Level A Evaluation'!C387,Hoja4!A6)+COUNTIF('3. Level A Evaluation'!C409,Hoja4!A6)+COUNTIF('3. Level A Evaluation'!C431,Hoja4!A6)+COUNTIF('3. Level A Evaluation'!C453,Hoja4!A6)+COUNTIF('3. Level A Evaluation'!C475,Hoja4!A6)+COUNTIF('3. Level A Evaluation'!C497,Hoja4!A6)+COUNTIF('3. Level A Evaluation'!C519,Hoja4!A6)+COUNTIF('3. Level A Evaluation'!C541,Hoja4!A6)+COUNTIF('3. Level A Evaluation'!C563,Hoja4!A6)+COUNTIF('3. Level A Evaluation'!C585,Hoja4!A6)+COUNTIF('3. Level A Evaluation'!C607,Hoja4!A6)+COUNTIF('3. Level A Evaluation'!C629,Hoja4!A6)+COUNTIF('3. Level A Evaluation'!C651,Hoja4!A6)+COUNTIF('3. Level A Evaluation'!C674,Hoja4!A6),"") -> 0 | E24: =IF('2. Sample pages'!B5>6,D24*100/B9,"") -> 0 | F24: =IF('2. Sample pages'!B5>6,COUNTIF('3. Level A Evaluation'!C13,Hoja4!A7)+COUNTIF('3. Level A Evaluation'!C35,Hoja4!A7)+COUNTIF('3. Level A Evaluation'!C57,Hoja4!A7)+COUNTIF('3. Level A Evaluation'!C79,Hoja4!A7)+COUNTIF('3. Level A Evaluation'!C101,Hoja4!A7)+COUNTIF('3. Level A Evaluation'!C123,Hoja4!A7)+COUNTIF('3. Level A Evaluation'!C145,Hoja4!A7)+COUNTIF('3. Level A Evaluation'!C167,Hoja4!A7)+COUNTIF('3. Level A Evaluation'!C189,Hoja4!A7)+COUNTIF('3. Level A Evaluation'!C211,Hoja4!A7)+COUNTIF('3. Level A Evaluation'!C233,Hoja4!A7)+COUNTIF('3. Level A Evaluation'!C255,Hoja4!A7)+COUNTIF('3. Level A Evaluation'!C277,Hoja4!A7)+COUNTIF('3. Level A Evaluation'!C299,Hoja4!A7)+COUNTIF('3. Level A Evaluation'!C321,Hoja4!A7)+COUNTIF('3. Level A Evaluation'!C343,Hoja4!A7)+COUNTIF('3. Level A Evaluation'!C365,Hoja4!A7)+COUNTIF('3. Level A Evaluation'!C387,Hoja4!A7)+COUNTIF('3. Level A Evaluation'!C409,Hoja4!A7)+COUNTIF('3. Level A Evaluation'!C431,Hoja4!A7)+COUNTIF('3. Level A Evaluation'!C453,Hoja4!A7)+COUNTIF('3. Level A Evaluation'!C475,Hoja4!A7)+COUNTIF('3. Level A Evaluation'!C497,Hoja4!A7)+COUNTIF('3. Level A Evaluation'!C519,Hoja4!A7)+COUNTIF('3. Level A Evaluation'!C541,Hoja4!A7)+COUNTIF('3. Level A Evaluation'!C563,Hoja4!A7)+COUNTIF('3. Level A Evaluation'!C585,Hoja4!A7)+COUNTIF('3. Level A Evaluation'!C607,Hoja4!A7)+COUNTIF('3. Level A Evaluation'!C629,Hoja4!A7)+COUNTIF('3. Level A Evaluation'!C651,Hoja4!A7)+COUNTIF('3. Level A Evaluation'!C674,Hoja4!A7),"") -> 0 | G24: =IF('2. Sample pages'!B5>6,F24*100/B9,"") -> 0 | H24: =IF('2. Sample pages'!B5>6,IF(ISERROR((B24*100)/(B9-F24)),0,(B24*100)/(B9-F24)),"") -> 0 | I24: =IF('2. Sample pages'!B5>6,IF(ISERROR((D24*100)/(B9-F24)),0,(D24*100)/(B9-F24)),"") -> 0
A25: ='2. Sample pages'!C15 -> Alias8 | B25: =IF('2. Sample pages'!B5>7,COUNTIF('3. Level A Evaluation'!C14,Hoja4!A5)+COUNTIF('3. Level A Evaluation'!C36,Hoja4!A5)+COUNTIF('3. Level A Evaluation'!C58,Hoja4!A5)+COUNTIF('3. Level A Evaluation'!C80,Hoja4!A5)+COUNTIF('3. Level A Evaluation'!C102,Hoja4!A5)+COUNTIF('3. Level A Evaluation'!C124,Hoja4!A5)+COUNTIF('3. Level A Evaluation'!C146,Hoja4!A5)+COUNTIF('3. Level A Evaluation'!C168,Hoja4!A5)+COUNTIF('3. Level A Evaluation'!C190,Hoja4!A5)+COUNTIF('3. Level A Evaluation'!C212,Hoja4!A5)+COUNTIF('3. Level A Evaluation'!C234,Hoja4!A5)+COUNTIF('3. Level A Evaluation'!C256,Hoja4!A5)+COUNTIF('3. Level A Evaluation'!C278,Hoja4!A5)+COUNTIF('3. Level A Evaluation'!C300,Hoja4!A5)+COUNTIF('3. Level A Evaluation'!C322,Hoja4!A5)+COUNTIF('3. Level A Evaluation'!C344,Hoja4!A5)+COUNTIF('3. Level A Evaluation'!C366,Hoja4!A5)+COUNTIF('3. Level A Evaluation'!C388,Hoja4!A5)+COUNTIF('3. Level A Evaluation'!C410,Hoja4!A5)+COUNTIF('3. Level A Evaluation'!C432,Hoja4!A5)+COUNTIF('3. Level A Evaluation'!C454,Hoja4!A5)+COUNTIF('3. Level A Evaluation'!C476,Hoja4!A5)+COUNTIF('3. Level A Evaluation'!C498,Hoja4!A5)+COUNTIF('3. Level A Evaluation'!C520,Hoja4!A5)+COUNTIF('3. Level A Evaluation'!C542,Hoja4!A5)+COUNTIF('3. Level A Evaluation'!C564,Hoja4!A5)+COUNTIF('3. Level A Evaluation'!C586,Hoja4!A5)+COUNTIF('3. Level A Evaluation'!C608,Hoja4!A5)+COUNTIF('3. Level A Evaluation'!C630,Hoja4!A5)+COUNTIF('3. Level A Evaluation'!C652,Hoja4!A5)+COUNTIF('3. Level A Evaluation'!C675,Hoja4!A5),"") -> 0 | C25: =IF('2. Sample pages'!B5>7,B25*100/B9,"") -> 0 | D25: =IF('2. Sample pages'!B5>7,COUNTIF('3. Level A Evaluation'!C14,Hoja4!A6)+COUNTIF('3. Level A Evaluation'!C36,Hoja4!A6)+COUNTIF('3. Level A Evaluation'!C58,Hoja4!A6)+COUNTIF('3. Level A Evaluation'!C80,Hoja4!A6)+COUNTIF('3. Level A Evaluation'!C102,Hoja4!A6)+COUNTIF('3. Level A Evaluation'!C124,Hoja4!A6)+COUNTIF('3. Level A Evaluation'!C146,Hoja4!A6)+COUNTIF('3. Level A Evaluation'!C168,Hoja4!A6)+COUNTIF('3. Level A Evaluation'!C190,Hoja4!A6)+COUNTIF('3. Level A Evaluation'!C212,Hoja4!A6)+COUNTIF('3. Level A Evaluation'!C234,Hoja4!A6)+COUNTIF('3. Level A Evaluation'!C256,Hoja4!A6)+COUNTIF('3. Level A Evaluation'!C278,Hoja4!A6)+COUNTIF('3. Level A Evaluation'!C300,Hoja4!A6)+COUNTIF('3. Level A Evaluation'!C322,Hoja4!A6)+COUNTIF('3. Level A Evaluation'!C344,Hoja4!A6)+COUNTIF('3. Level A Evaluation'!C366,Hoja4!A6)+COUNTIF('3. Level A Evaluation'!C388,Hoja4!A6)+COUNTIF('3. Level A Evaluation'!C410,Hoja4!A6)+COUNTIF('3. Level A Evaluation'!C432,Hoja4!A6)+COUNTIF('3. Level A Evaluation'!C454,Hoja4!A6)+COUNTIF('3. Level A Evaluation'!C476,Hoja4!A6)+COUNTIF('3. Level A Evaluation'!C498,Hoja4!A6)+COUNTIF('3. Level A Evaluation'!C520,Hoja4!A6)+COUNTIF('3. Level A Evaluation'!C542,Hoja4!A6)+COUNTIF('3. Level A Evaluation'!C564,Hoja4!A6)+COUNTIF('3. Level A Evaluation'!C586,Hoja4!A6)+COUNTIF('3. Level A Evaluation'!C608,Hoja4!A6)+COUNTIF('3. Level A Evaluation'!C630,Hoja4!A6)+COUNTIF('3. Level A Evaluation'!C652,Hoja4!A6)+COUNTIF('3. Level A Evaluation'!C675,Hoja4!A6),"") -> 0 | E25: =IF('2. Sample pages'!B5>7,D25*100/B9,"") -> 0 | F25: =IF('2. Sample pages'!B5>7,COUNTIF('3. Level A Evaluation'!C14,Hoja4!A7)+COUNTIF('3. Level A Evaluation'!C36,Hoja4!A7)+COUNTIF('3. Level A Evaluation'!C58,Hoja4!A7)+COUNTIF('3. Level A Evaluation'!C80,Hoja4!A7)+COUNTIF('3. Level A Evaluation'!C102,Hoja4!A7)+COUNTIF('3. Level A Evaluation'!C124,Hoja4!A7)+COUNTIF('3. Level A Evaluation'!C146,Hoja4!A7)+COUNTIF('3. Level A Evaluation'!C168,Hoja4!A7)+COUNTIF('3. Level A Evaluation'!C190,Hoja4!A7)+COUNTIF('3. Level A Evaluation'!C212,Hoja4!A7)+COUNTIF('3. Level A Evaluation'!C234,Hoja4!A7)+COUNTIF('3. Level A Evaluation'!C256,Hoja4!A7)+COUNTIF('3. Level A Evaluation'!C278,Hoja4!A7)+COUNTIF('3. Level A Evaluation'!C300,Hoja4!A7)+COUNTIF('3. Level A Evaluation'!C322,Hoja4!A7)+COUNTIF('3. Level A Evaluation'!C344,Hoja4!A7)+COUNTIF('3. Level A Evaluation'!C366,Hoja4!A7)+COUNTIF('3. Level A Evaluation'!C388,Hoja4!A7)+COUNTIF('3. Level A Evaluation'!C410,Hoja4!A7)+COUNTIF('3. Level A Evaluation'!C432,Hoja4!A7)+COUNTIF('3. Level A Evaluation'!C454,Hoja4!A7)+COUNTIF('3. Level A Evaluation'!C476,Hoja4!A7)+COUNTIF('3. Level A Evaluation'!C498,Hoja4!A7)+COUNTIF('3. Level A Evaluation'!C520,Hoja4!A7)+COUNTIF('3. Level A Evaluation'!C542,Hoja4!A7)+COUNTIF('3. Level A Evaluation'!C564,Hoja4!A7)+COUNTIF('3. Level A Evaluation'!C586,Hoja4!A7)+COUNTIF('3. Level A Evaluation'!C608,Hoja4!A7)+COUNTIF('3. Level A Evaluation'!C630,Hoja4!A7)+COUNTIF('3. Level A Evaluation'!C652,Hoja4!A7)+COUNTIF('3. Level A Evaluation'!C675,Hoja4!A7),"") -> 0 | G25: =IF('2. Sample pages'!B5>7,F25*100/B9,"") -> 0 | H25: =IF('2. Sample pages'!B5>7,IF(ISERROR((B25*100)/(B9-F25)),0,(B25*100)/(B9-F25)),"") -> 0 | I25: =IF('2. Sample pages'!B5>7,IF(ISERROR((D25*100)/(B9-F25)),0,(D25*100)/(B9-F25)),"") -> 0
A26: ='2. Sample pages'!C16 -> Alias9 | B26: =IF('2. Sample pages'!B5>8,COUNTIF('3. Level A Evaluation'!C15,Hoja4!A5)+COUNTIF('3. Level A Evaluation'!C37,Hoja4!A5)+COUNTIF('3. Level A Evaluation'!C59,Hoja4!A5)+COUNTIF('3. Level A Evaluation'!C81,Hoja4!A5)+COUNTIF('3. Level A Evaluation'!C103,Hoja4!A5)+COUNTIF('3. Level A Evaluation'!C125,Hoja4!A5)+COUNTIF('3. Level A Evaluation'!C147,Hoja4!A5)+COUNTIF('3. Level A Evaluation'!C169,Hoja4!A5)+COUNTIF('3. Level A Evaluation'!C191,Hoja4!A5)+COUNTIF('3. Level A Evaluation'!C213,Hoja4!A5)+COUNTIF('3. Level A Evaluation'!C235,Hoja4!A5)+COUNTIF('3. Level A Evaluation'!C257,Hoja4!A5)+COUNTIF('3. Level A Evaluation'!C279,Hoja4!A5)+COUNTIF('3. Level A Evaluation'!C301,Hoja4!A5)+COUNTIF('3. Level A Evaluation'!C323,Hoja4!A5)+COUNTIF('3. Level A Evaluation'!C345,Hoja4!A5)+COUNTIF('3. Level A Evaluation'!C367,Hoja4!A5)+COUNTIF('3. Level A Evaluation'!C389,Hoja4!A5)+COUNTIF('3. Level A Evaluation'!C411,Hoja4!A5)+COUNTIF('3. Level A Evaluation'!C433,Hoja4!A5)+COUNTIF('3. Level A Evaluation'!C455,Hoja4!A5)+COUNTIF('3. Level A Evaluation'!C477,Hoja4!A5)+COUNTIF('3. Level A Evaluation'!C499,Hoja4!A5)+COUNTIF('3. Level A Evaluation'!C521,Hoja4!A5)+COUNTIF('3. Level A Evaluation'!C543,Hoja4!A5)+COUNTIF('3. Level A Evaluation'!C565,Hoja4!A5)+COUNTIF('3. Level A Evaluation'!C587,Hoja4!A5)+COUNTIF('3. Level A Evaluation'!C609,Hoja4!A5)+COUNTIF('3. Level A Evaluation'!C631,Hoja4!A5)+COUNTIF('3. Level A Evaluation'!C653,Hoja4!A5)+COUNTIF('3. Level A Evaluation'!C676,Hoja4!A5),"") -> 0 | C26: =IF('2. Sample pages'!B5>8,B26*100/B9,"") -> 0 | D26: =IF('2. Sample pages'!B5>8,COUNTIF('3. Level A Evaluation'!C15,Hoja4!A6)+COUNTIF('3. Level A Evaluation'!C37,Hoja4!A6)+COUNTIF('3. Level A Evaluation'!C59,Hoja4!A6)+COUNTIF('3. Level A Evaluation'!C81,Hoja4!A6)+COUNTIF('3. Level A Evaluation'!C103,Hoja4!A6)+COUNTIF('3. Level A Evaluation'!C125,Hoja4!A6)+COUNTIF('3. Level A Evaluation'!C147,Hoja4!A6)+COUNTIF('3. Level A Evaluation'!C169,Hoja4!A6)+COUNTIF('3. Level A Evaluation'!C191,Hoja4!A6)+COUNTIF('3. Level A Evaluation'!C213,Hoja4!A6)+COUNTIF('3. Level A Evaluation'!C235,Hoja4!A6)+COUNTIF('3. Level A Evaluation'!C257,Hoja4!A6)+COUNTIF('3. Level A Evaluation'!C279,Hoja4!A6)+COUNTIF('3. Level A Evaluation'!C301,Hoja4!A6)+COUNTIF('3. Level A Evaluation'!C323,Hoja4!A6)+COUNTIF('3. Level A Evaluation'!C345,Hoja4!A6)+COUNTIF('3. Level A Evaluation'!C367,Hoja4!A6)+COUNTIF('3. Level A Evaluation'!C389,Hoja4!A6)+COUNTIF('3. Level A Evaluation'!C411,Hoja4!A6)+COUNTIF('3. Level A Evaluation'!C433,Hoja4!A6)+COUNTIF('3. Level A Evaluation'!C455,Hoja4!A6)+COUNTIF('3. Level A Evaluation'!C477,Hoja4!A6)+COUNTIF('3. Level A Evaluation'!C499,Hoja4!A6)+COUNTIF('3. Level A Evaluation'!C521,Hoja4!A6)+COUNTIF('3. Level A Evaluation'!C543,Hoja4!A6)+COUNTIF('3. Level A Evaluation'!C565,Hoja4!A6)+COUNTIF('3. Level A Evaluation'!C587,Hoja4!A6)+COUNTIF('3. Level A Evaluation'!C609,Hoja4!A6)+COUNTIF('3. Level A Evaluation'!C631,Hoja4!A6)+COUNTIF('3. Level A Evaluation'!C653,Hoja4!A6)+COUNTIF('3. Level A Evaluation'!C676,Hoja4!A6),"") -> 0 | E26: =IF('2. Sample pages'!B5>8,D26*100/B9,"") -> 0 | F26: =IF('2. Sample pages'!B5>8,COUNTIF('3. Level A Evaluation'!C15,Hoja4!A7)+COUNTIF('3. Level A Evaluation'!C37,Hoja4!A7)+COUNTIF('3. Level A Evaluation'!C59,Hoja4!A7)+COUNTIF('3. Level A Evaluation'!C81,Hoja4!A7)+COUNTIF('3. Level A Evaluation'!C103,Hoja4!A7)+COUNTIF('3. Level A Evaluation'!C125,Hoja4!A7)+COUNTIF('3. Level A Evaluation'!C147,Hoja4!A7)+COUNTIF('3. Level A Evaluation'!C169,Hoja4!A7)+COUNTIF('3. Level A Evaluation'!C191,Hoja4!A7)+COUNTIF('3. Level A Evaluation'!C213,Hoja4!A7)+COUNTIF('3. Level A Evaluation'!C235,Hoja4!A7)+COUNTIF('3. Level A Evaluation'!C257,Hoja4!A7)+COUNTIF('3. Level A Evaluation'!C279,Hoja4!A7)+COUNTIF('3. Level A Evaluation'!C301,Hoja4!A7)+COUNTIF('3. Level A Evaluation'!C323,Hoja4!A7)+COUNTIF('3. Level A Evaluation'!C345,Hoja4!A7)+COUNTIF('3. Level A Evaluation'!C367,Hoja4!A7)+COUNTIF('3. Level A Evaluation'!C389,Hoja4!A7)+COUNTIF('3. Level A Evaluation'!C411,Hoja4!A7)+COUNTIF('3. Level A Evaluation'!C433,Hoja4!A7)+COUNTIF('3. Level A Evaluation'!C455,Hoja4!A7)+COUNTIF('3. Level A Evaluation'!C477,Hoja4!A7)+COUNTIF('3. Level A Evaluation'!C499,Hoja4!A7)+COUNTIF('3. Level A Evaluation'!C521,Hoja4!A7)+COUNTIF('3. Level A Evaluation'!C543,Hoja4!A7)+COUNTIF('3. Level A Evaluation'!C565,Hoja4!A7)+COUNTIF('3. Level A Evaluation'!C587,Hoja4!A7)+COUNTIF('3. Level A Evaluation'!C609,Hoja4!A7)+COUNTIF('3. Level A Evaluation'!C631,Hoja4!A7)+COUNTIF('3. Level A Evaluation'!C653,Hoja4!A7)+COUNTIF('3. Level A Evaluation'!C676,Hoja4!A7),"") -> 0 | G26: =IF('2. Sample pages'!B5>8,F26*100/B9,"") -> 0 | H26: =IF('2. Sample pages'!B5>8,IF(ISERROR((B26*100)/(B9-F26)),0,(B26*100)/(B9-F26)),"") -> 0 | I26: =IF('2. Sample pages'!B5>8,IF(ISERROR((D26*100)/(B9-F26)),0,(D26*100)/(B9-F26)),"") -> 0
A27: ='2. Sample pages'!C17 -> Alias10 | B27: =IF('2. Sample pages'!B5>9,COUNTIF('3. Level A Evaluation'!C16,Hoja4!A5)+COUNTIF('3. Level A Evaluation'!C38,Hoja4!A5)+COUNTIF('3. Level A Evaluation'!C60,Hoja4!A5)+COUNTIF('3. Level A Evaluation'!C82,Hoja4!A5)+COUNTIF('3. Level A Evaluation'!C104,Hoja4!A5)+COUNTIF('3. Level A Evaluation'!C126,Hoja4!A5)+COUNTIF('3. Level A Evaluation'!C148,Hoja4!A5)+COUNTIF('3. Level A Evaluation'!C170,Hoja4!A5)+COUNTIF('3. Level A Evaluation'!C192,Hoja4!A5)+COUNTIF('3. Level A Evaluation'!C214,Hoja4!A5)+COUNTIF('3. Level A Evaluation'!C236,Hoja4!A5)+COUNTIF('3. Level A Evaluation'!C258,Hoja4!A5)+COUNTIF('3. Level A Evaluation'!C280,Hoja4!A5)+COUNTIF('3. Level A Evaluation'!C302,Hoja4!A5)+COUNTIF('3. Level A Evaluation'!C324,Hoja4!A5)+COUNTIF('3. Level A Evaluation'!C346,Hoja4!A5)+COUNTIF('3. Level A Evaluation'!C368,Hoja4!A5)+COUNTIF('3. Level A Evaluation'!C390,Hoja4!A5)+COUNTIF('3. Level A Evaluation'!C412,Hoja4!A5)+COUNTIF('3. Level A Evaluation'!C434,Hoja4!A5)+COUNTIF('3. Level A Evaluation'!C456,Hoja4!A5)+COUNTIF('3. Level A Evaluation'!C478,Hoja4!A5)+COUNTIF('3. Level A Evaluation'!C500,Hoja4!A5)+COUNTIF('3. Level A Evaluation'!C522,Hoja4!A5)+COUNTIF('3. Level A Evaluation'!C544,Hoja4!A5)+COUNTIF('3. Level A Evaluation'!C566,Hoja4!A5)+COUNTIF('3. Level A Evaluation'!C588,Hoja4!A5)++COUNTIF('3. Level A Evaluation'!C610,Hoja4!A5)+COUNTIF('3. Level A Evaluation'!C632,Hoja4!A5)+COUNTIF('3. Level A Evaluation'!C654,Hoja4!A5)+COUNTIF('3. Level A Evaluation'!C677,Hoja4!A5),"") -> 0 | C27: =IF('2. Sample pages'!B5>9,B27*100/B9,"") -> 0 | D27: =IF('2. Sample pages'!B5>9,COUNTIF('3. Level A Evaluation'!C16,Hoja4!A6)+COUNTIF('3. Level A Evaluation'!C38,Hoja4!A6)+COUNTIF('3. Level A Evaluation'!C60,Hoja4!A6)+COUNTIF('3. Level A Evaluation'!C82,Hoja4!A6)+COUNTIF('3. Level A Evaluation'!C104,Hoja4!A6)+COUNTIF('3. Level A Evaluation'!C126,Hoja4!A6)+COUNTIF('3. Level A Evaluation'!C148,Hoja4!A6)+COUNTIF('3. Level A Evaluation'!C170,Hoja4!A6)+COUNTIF('3. Level A Evaluation'!C192,Hoja4!A6)+COUNTIF('3. Level A Evaluation'!C214,Hoja4!A6)+COUNTIF('3. Level A Evaluation'!C236,Hoja4!A6)+COUNTIF('3. Level A Evaluation'!C258,Hoja4!A6)+COUNTIF('3. Level A Evaluation'!C280,Hoja4!A6)+COUNTIF('3. Level A Evaluation'!C302,Hoja4!A6)+COUNTIF('3. Level A Evaluation'!C324,Hoja4!A6)+COUNTIF('3. Level A Evaluation'!C346,Hoja4!A6)+COUNTIF('3. Level A Evaluation'!C368,Hoja4!A6)+COUNTIF('3. Level A Evaluation'!C390,Hoja4!A6)+COUNTIF('3. Level A Evaluation'!C412,Hoja4!A6)+COUNTIF('3. Level A Evaluation'!C434,Hoja4!A6)+COUNTIF('3. Level A Evaluation'!C456,Hoja4!A6)+COUNTIF('3. Level A Evaluation'!C478,Hoja4!A6)+COUNTIF('3. Level A Evaluation'!C500,Hoja4!A6)+COUNTIF('3. Level A Evaluation'!C522,Hoja4!A6)+COUNTIF('3. Level A Evaluation'!C544,Hoja4!A6)+COUNTIF('3. Level A Evaluation'!C566,Hoja4!A6)+COUNTIF('3. Level A Evaluation'!C588,Hoja4!A6)+COUNTIF('3. Level A Evaluation'!C610,Hoja4!A6)+COUNTIF('3. Level A Evaluation'!C632,Hoja4!A6)+COUNTIF('3. Level A Evaluation'!C654,Hoja4!A6)+COUNTIF('3. Level A Evaluation'!C677,Hoja4!A6),"") -> 0 | E27: =IF('2. Sample pages'!B5>9,D27*100/B9,"") -> 0 | F27: =IF('2. Sample pages'!B5>9,COUNTIF('3. Level A Evaluation'!C16,Hoja4!A7)+COUNTIF('3. Level A Evaluation'!C38,Hoja4!A7)+COUNTIF('3. Level A Evaluation'!C60,Hoja4!A7)+COUNTIF('3. Level A Evaluation'!C82,Hoja4!A7)+COUNTIF('3. Level A Evaluation'!C104,Hoja4!A7)+COUNTIF('3. Level A Evaluation'!C126,Hoja4!A7)+COUNTIF('3. Level A Evaluation'!C148,Hoja4!A7)+COUNTIF('3. Level A Evaluation'!C170,Hoja4!A7)+COUNTIF('3. Level A Evaluation'!C192,Hoja4!A7)+COUNTIF('3. Level A Evaluation'!C214,Hoja4!A7)+COUNTIF('3. Level A Evaluation'!C236,Hoja4!A7)+COUNTIF('3. Level A Evaluation'!C258,Hoja4!A7)+COUNTIF('3. Level A Evaluation'!C280,Hoja4!A7)+COUNTIF('3. Level A Evaluation'!C302,Hoja4!A7)+COUNTIF('3. Level A Evaluation'!C324,Hoja4!A7)+COUNTIF('3. Level A Evaluation'!C346,Hoja4!A7)+COUNTIF('3. Level A Evaluation'!C368,Hoja4!A7)+COUNTIF('3. Level A Evaluation'!C390,Hoja4!A7)+COUNTIF('3. Level A Evaluation'!C412,Hoja4!A7)+COUNTIF('3. Level A Evaluation'!C434,Hoja4!A7)+COUNTIF('3. Level A Evaluation'!C456,Hoja4!A7)+COUNTIF('3. Level A Evaluation'!C478,Hoja4!A7)+COUNTIF('3. Level A Evaluation'!C500,Hoja4!A7)+COUNTIF('3. Level A Evaluation'!C522,Hoja4!A7)+COUNTIF('3. Level A Evaluation'!C544,Hoja4!A7)+COUNTIF('3. Level A Evaluation'!C566,Hoja4!A7)+COUNTIF('3. Level A Evaluation'!C588,Hoja4!A7)+COUNTIF('3. Level A Evaluation'!C610,Hoja4!A7)+COUNTIF('3. Level A Evaluation'!C632,Hoja4!A7)+COUNTIF('3. Level A Evaluation'!C654,Hoja4!A7)+COUNTIF('3. Level A Evaluation'!C677,Hoja4!A7),"") -> 0 | G27: =IF('2. Sample pages'!B5>9,F27*100/B9,"") -> 0 | H27: =IF('2. Sample pages'!B5>9,IF(ISERROR((B27*100)/(B9-F27)),0,(B27*100)/(B9-F27)),"") -> 0 | I27: =IF('2. Sample pages'!B5>9,IF(ISERROR((D27*100)/(B9-F27)),0,(D27*100)/(B9-F27)),"") -> 0
A28: ='2. Sample pages'!C18 -> Alias11 | B28: =IF('2. Sample pages'!B5>10,COUNTIF('3. Level A Evaluation'!C17,Hoja4!A5)+COUNTIF('3. Level A Evaluation'!C39,Hoja4!A5)+COUNTIF('3. Level A Evaluation'!C61,Hoja4!A5)+COUNTIF('3. Level A Evaluation'!C83,Hoja4!A5)+COUNTIF('3. Level A Evaluation'!C105,Hoja4!A5)+COUNTIF('3. Level A Evaluation'!C127,Hoja4!A5)+COUNTIF('3. Level A Evaluation'!C149,Hoja4!A5)+COUNTIF('3. Level A Evaluation'!C171,Hoja4!A5)+COUNTIF('3. Level A Evaluation'!C193,Hoja4!A5)+COUNTIF('3. Level A Evaluation'!C215,Hoja4!A5)+COUNTIF('3. Level A Evaluation'!C237,Hoja4!A5)+COUNTIF('3. Level A Evaluation'!C259,Hoja4!A5)+COUNTIF('3. Level A Evaluation'!C281,Hoja4!A5)+COUNTIF('3. Level A Evaluation'!C303,Hoja4!A5)+COUNTIF('3. Level A Evaluation'!C325,Hoja4!A5)+COUNTIF('3. Level A Evaluation'!C347,Hoja4!A5)+COUNTIF('3. Level A Evaluation'!C369,Hoja4!A5)+COUNTIF('3. Level A Evaluation'!C391,Hoja4!A5)+COUNTIF('3. Level A Evaluation'!C413,Hoja4!A5)+COUNTIF('3. Level A Evaluation'!C435,Hoja4!A5)+COUNTIF('3. Level A Evaluation'!C457,Hoja4!A5)+COUNTIF('3. Level A Evaluation'!C479,Hoja4!A5)+COUNTIF('3. Level A Evaluation'!C501,Hoja4!A5)+COUNTIF('3. Level A Evaluation'!C523,Hoja4!A5)+COUNTIF('3. Level A Evaluation'!C545,Hoja4!A5)+COUNTIF('3. Level A Evaluation'!C567,Hoja4!A5)+COUNTIF('3. Level A Evaluation'!C589,Hoja4!A5)++COUNTIF('3. Level A Evaluation'!C611,Hoja4!A5)+COUNTIF('3. Level A Evaluation'!C633,Hoja4!A5)+COUNTIF('3. Level A Evaluation'!C655,Hoja4!A5)+COUNTIF('3. Level A Evaluation'!C678,Hoja4!A5),"") -> 0 | C28: =IF('2. Sample pages'!B5>10,B28*100/B9,"") -> 0 | D28: =IF('2. Sample pages'!B5>10,COUNTIF('3. Level A Evaluation'!C17,Hoja4!A6)+COUNTIF('3. Level A Evaluation'!C39,Hoja4!A6)+COUNTIF('3. Level A Evaluation'!C61,Hoja4!A6)+COUNTIF('3. Level A Evaluation'!C83,Hoja4!A6)+COUNTIF('3. Level A Evaluation'!C105,Hoja4!A6)+COUNTIF('3. Level A Evaluation'!C127,Hoja4!A6)+COUNTIF('3. Level A Evaluation'!C149,Hoja4!A6)+COUNTIF('3. Level A Evaluation'!C171,Hoja4!A6)+COUNTIF('3. Level A Evaluation'!C193,Hoja4!A6)+COUNTIF('3. Level A Evaluation'!C215,Hoja4!A6)+COUNTIF('3. Level A Evaluation'!C237,Hoja4!A6)+COUNTIF('3. Level A Evaluation'!C259,Hoja4!A6)+COUNTIF('3. Level A Evaluation'!C281,Hoja4!A6)+COUNTIF('3. Level A Evaluation'!C303,Hoja4!A6)+COUNTIF('3. Level A Evaluation'!C325,Hoja4!A6)+COUNTIF('3. Level A Evaluation'!C347,Hoja4!A6)+COUNTIF('3. Level A Evaluation'!C369,Hoja4!A6)+COUNTIF('3. Level A Evaluation'!C391,Hoja4!A6)+COUNTIF('3. Level A Evaluation'!C413,Hoja4!A6)+COUNTIF('3. Level A Evaluation'!C435,Hoja4!A6)+COUNTIF('3. Level A Evaluation'!C457,Hoja4!A6)+COUNTIF('3. Level A Evaluation'!C479,Hoja4!A6)+COUNTIF('3. Level A Evaluation'!C501,Hoja4!A6)+COUNTIF('3. Level A Evaluation'!C523,Hoja4!A6)+COUNTIF('3. Level A Evaluation'!C545,Hoja4!A6)+COUNTIF('3. Level A Evaluation'!C567,Hoja4!A6)+COUNTIF('3. Level A Evaluation'!C589,Hoja4!A6)+COUNTIF('3. Level A Evaluation'!C611,Hoja4!A6)+COUNTIF('3. Level A Evaluation'!C633,Hoja4!A6)+COUNTIF('3. Level A Evaluation'!C655,Hoja4!A6)+COUNTIF('3. Level A Evaluation'!C678,Hoja4!A6),"") -> 0 | E28: =IF('2. Sample pages'!B5>10,D28*100/B9,"") -> 0 | F28: =IF('2. Sample pages'!B5>10,COUNTIF('3. Level A Evaluation'!C17,Hoja4!A7)+COUNTIF('3. Level A Evaluation'!C39,Hoja4!A7)+COUNTIF('3. Level A Evaluation'!C61,Hoja4!A7)+COUNTIF('3. Level A Evaluation'!C83,Hoja4!A7)+COUNTIF('3. Level A Evaluation'!C105,Hoja4!A7)+COUNTIF('3. Level A Evaluation'!C127,Hoja4!A7)+COUNTIF('3. Level A Evaluation'!C149,Hoja4!A7)+COUNTIF('3. Level A Evaluation'!C171,Hoja4!A7)+COUNTIF('3. Level A Evaluation'!C193,Hoja4!A7)+COUNTIF('3. Level A Evaluation'!C215,Hoja4!A7)+COUNTIF('3. Level A Evaluation'!C237,Hoja4!A7)+COUNTIF('3. Level A Evaluation'!C259,Hoja4!A7)+COUNTIF('3. Level A Evaluation'!C281,Hoja4!A7)+COUNTIF('3. Level A Evaluation'!C303,Hoja4!A7)+COUNTIF('3. Level A Evaluation'!C325,Hoja4!A7)+COUNTIF('3. Level A Evaluation'!C347,Hoja4!A7)+COUNTIF('3. Level A Evaluation'!C369,Hoja4!A7)+COUNTIF('3. Level A Evaluation'!C391,Hoja4!A7)+COUNTIF('3. Level A Evaluation'!C413,Hoja4!A7)+COUNTIF('3. Level A Evaluation'!C435,Hoja4!A7)+COUNTIF('3. Level A Evaluation'!C457,Hoja4!A7)+COUNTIF('3. Level A Evaluation'!C479,Hoja4!A7)+COUNTIF('3. Level A Evaluation'!C501,Hoja4!A7)+COUNTIF('3. Level A Evaluation'!C523,Hoja4!A7)+COUNTIF('3. Level A Evaluation'!C545,Hoja4!A7)+COUNTIF('3. Level A Evaluation'!C567,Hoja4!A7)+COUNTIF('3. Level A Evaluation'!C589,Hoja4!A7)+COUNTIF('3. Level A Evaluation'!C611,Hoja4!A7)+COUNTIF('3. Level A Evaluation'!C633,Hoja4!A7)+COUNTIF('3. Level A Evaluation'!C655,Hoja4!A7)+COUNTIF('3. Level A Evaluation'!C678,Hoja4!A7),"") -> 0 | G28: =IF('2. Sample pages'!B5>10,F28*100/B9,"") -> 0 | H28: =IF('2. Sample pages'!B5>10,IF(ISERROR((B28*100)/(B9-F28)),0,(B28*100)/(B9-F28)),"") -> 0 | I28: =IF('2. Sample pages'!B5>10,IF(ISERROR((D28*100)/(B9-F28)),0,(D28*100)/(B9-F28)),"") -> 0
A29: ='2. Sample pages'!C19 -> Alias12 | B29: =IF('2. Sample pages'!B5>11,COUNTIF('3. Level A Evaluation'!C18,Hoja4!A5)+COUNTIF('3. Level A Evaluation'!C40,Hoja4!A5)+COUNTIF('3. Level A Evaluation'!C62,Hoja4!A5)+COUNTIF('3. Level A Evaluation'!C84,Hoja4!A5)+COUNTIF('3. Level A Evaluation'!C106,Hoja4!A5)+COUNTIF('3. Level A Evaluation'!C128,Hoja4!A5)+COUNTIF('3. Level A Evaluation'!C150,Hoja4!A5)+COUNTIF('3. Level A Evaluation'!C172,Hoja4!A5)+COUNTIF('3. Level A Evaluation'!C194,Hoja4!A5)+COUNTIF('3. Level A Evaluation'!C216,Hoja4!A5)+COUNTIF('3. Level A Evaluation'!C238,Hoja4!A5)+COUNTIF('3. Level A Evaluation'!C260,Hoja4!A5)+COUNTIF('3. Level A Evaluation'!C282,Hoja4!A5)+COUNTIF('3. Level A Evaluation'!C304,Hoja4!A5)+COUNTIF('3. Level A Evaluation'!C326,Hoja4!A5)+COUNTIF('3. Level A Evaluation'!C348,Hoja4!A5)+COUNTIF('3. Level A Evaluation'!C370,Hoja4!A5)+COUNTIF('3. Level A Evaluation'!C392,Hoja4!A5)+COUNTIF('3. Level A Evaluation'!C414,Hoja4!A5)+COUNTIF('3. Level A Evaluation'!C436,Hoja4!A5)+COUNTIF('3. Level A Evaluation'!C458,Hoja4!A5)+COUNTIF('3. Level A Evaluation'!C480,Hoja4!A5)+COUNTIF('3. Level A Evaluation'!C502,Hoja4!A5)+COUNTIF('3. Level A Evaluation'!C524,Hoja4!A5)+COUNTIF('3. Level A Evaluation'!C546,Hoja4!A5)+COUNTIF('3. Level A Evaluation'!C568,Hoja4!A5)+COUNTIF('3. Level A Evaluation'!C590,Hoja4!A5)++COUNTIF('3. Level A Evaluation'!C612,Hoja4!A5)+COUNTIF('3. Level A Evaluation'!C634,Hoja4!A5)+COUNTIF('3. Level A Evaluation'!C656,Hoja4!A5)+COUNTIF('3. Level A Evaluation'!C679,Hoja4!A5),"") -> 0 | C29: =IF('2. Sample pages'!B5>11,B29*100/B9,"") -> 0 | D29: =IF('2. Sample pages'!B5>11,COUNTIF('3. Level A Evaluation'!C18,Hoja4!A6)+COUNTIF('3. Level A Evaluation'!C40,Hoja4!A6)+COUNTIF('3. Level A Evaluation'!C62,Hoja4!A6)+COUNTIF('3. Level A Evaluation'!C84,Hoja4!A6)+COUNTIF('3. Level A Evaluation'!C106,Hoja4!A6)+COUNTIF('3. Level A Evaluation'!C128,Hoja4!A6)+COUNTIF('3. Level A Evaluation'!C150,Hoja4!A6)+COUNTIF('3. Level A Evaluation'!C172,Hoja4!A6)+COUNTIF('3. Level A Evaluation'!C194,Hoja4!A6)+COUNTIF('3. Level A Evaluation'!C216,Hoja4!A6)+COUNTIF('3. Level A Evaluation'!C238,Hoja4!A6)+COUNTIF('3. Level A Evaluation'!C260,Hoja4!A6)+COUNTIF('3. Level A Evaluation'!C282,Hoja4!A6)+COUNTIF('3. Level A Evaluation'!C304,Hoja4!A6)+COUNTIF('3. Level A Evaluation'!C326,Hoja4!A6)+COUNTIF('3. Level A Evaluation'!C348,Hoja4!A6)+COUNTIF('3. Level A Evaluation'!C370,Hoja4!A6)+COUNTIF('3. Level A Evaluation'!C392,Hoja4!A6)+COUNTIF('3. Level A Evaluation'!C414,Hoja4!A6)+COUNTIF('3. Level A Evaluation'!C436,Hoja4!A6)+COUNTIF('3. Level A Evaluation'!C458,Hoja4!A6)+COUNTIF('3. Level A Evaluation'!C480,Hoja4!A6)+COUNTIF('3. Level A Evaluation'!C502,Hoja4!A6)+COUNTIF('3. Level A Evaluation'!C524,Hoja4!A6)+COUNTIF('3. Level A Evaluation'!C546,Hoja4!A6)+COUNTIF('3. Level A Evaluation'!C568,Hoja4!A6)+COUNTIF('3. Level A Evaluation'!C590,Hoja4!A6)+COUNTIF('3. Level A Evaluation'!C612,Hoja4!A6)+COUNTIF('3. Level A Evaluation'!C634,Hoja4!A6)+COUNTIF('3. Level A Evaluation'!C656,Hoja4!A6)+COUNTIF('3. Level A Evaluation'!C679,Hoja4!A6),"") -> 0 | E29: =IF('2. Sample pages'!B5>11,D29*100/B9,"") -> 0 | F29: =IF('2. Sample pages'!B5>11,COUNTIF('3. Level A Evaluation'!C18,Hoja4!A7)+COUNTIF('3. Level A Evaluation'!C40,Hoja4!A7)+COUNTIF('3. Level A Evaluation'!C62,Hoja4!A7)+COUNTIF('3. Level A Evaluation'!C84,Hoja4!A7)+COUNTIF('3. Level A Evaluation'!C106,Hoja4!A7)+COUNTIF('3. Level A Evaluation'!C128,Hoja4!A7)+COUNTIF('3. Level A Evaluation'!C150,Hoja4!A7)+COUNTIF('3. Level A Evaluation'!C172,Hoja4!A7)+COUNTIF('3. Level A Evaluation'!C194,Hoja4!A7)+COUNTIF('3. Level A Evaluation'!C216,Hoja4!A7)+COUNTIF('3. Level A Evaluation'!C238,Hoja4!A7)+COUNTIF('3. Level A Evaluation'!C260,Hoja4!A7)+COUNTIF('3. Level A Evaluation'!C282,Hoja4!A7)+COUNTIF('3. Level A Evaluation'!C304,Hoja4!A7)+COUNTIF('3. Level A Evaluation'!C326,Hoja4!A7)+COUNTIF('3. Level A Evaluation'!C348,Hoja4!A7)+COUNTIF('3. Level A Evaluation'!C370,Hoja4!A7)+COUNTIF('3. Level A Evaluation'!C392,Hoja4!A7)+COUNTIF('3. Level A Evaluation'!C414,Hoja4!A7)+COUNTIF('3. Level A Evaluation'!C436,Hoja4!A7)+COUNTIF('3. Level A Evaluation'!C458,Hoja4!A7)+COUNTIF('3. Level A Evaluation'!C480,Hoja4!A7)+COUNTIF('3. Level A Evaluation'!C502,Hoja4!A7)+COUNTIF('3. Level A Evaluation'!C524,Hoja4!A7)+COUNTIF('3. Level A Evaluation'!C546,Hoja4!A7)+COUNTIF('3. Level A Evaluation'!C568,Hoja4!A7)+COUNTIF('3. Level A Evaluation'!C590,Hoja4!A7)+COUNTIF('3. Level A Evaluation'!C612,Hoja4!A7)+COUNTIF('3. Level A Evaluation'!C634,Hoja4!A7)+COUNTIF('3. Level A Evaluation'!C656,Hoja4!A7)+COUNTIF('3. Level A Evaluation'!C679,Hoja4!A7),"") -> 0 | G29: =IF('2. Sample pages'!B5>11,F29*100/B9,"") -> 0 | H29: =IF('2. Sample pages'!B5>11,IF(ISERROR((B29*100)/(B9-F29)),0,(B29*100)/(B9-F29)),"") -> 0 | I29: =IF('2. Sample pages'!B5>11,IF(ISERROR((D29*100)/(B9-F29)),0,(D29*100)/(B9-F29)),"") -> 0
A30: ='2. Sample pages'!C20 -> Alias13 | B30: =IF('2. Sample pages'!B5>12,COUNTIF('3. Level A Evaluation'!C19,Hoja4!A5)+COUNTIF('3. Level A Evaluation'!C41,Hoja4!A5)+COUNTIF('3. Level A Evaluation'!C63,Hoja4!A5)+COUNTIF('3. Level A Evaluation'!C85,Hoja4!A5)+COUNTIF('3. Level A Evaluation'!C107,Hoja4!A5)+COUNTIF('3. Level A Evaluation'!C129,Hoja4!A5)+COUNTIF('3. Level A Evaluation'!C151,Hoja4!A5)+COUNTIF('3. Level A Evaluation'!C173,Hoja4!A5)+COUNTIF('3. Level A Evaluation'!C195,Hoja4!A5)+COUNTIF('3. Level A Evaluation'!C217,Hoja4!A5)+COUNTIF('3. Level A Evaluation'!C239,Hoja4!A5)+COUNTIF('3. Level A Evaluation'!C261,Hoja4!A5)+COUNTIF('3. Level A Evaluation'!C283,Hoja4!A5)+COUNTIF('3. Level A Evaluation'!C305,Hoja4!A5)+COUNTIF('3. Level A Evaluation'!C327,Hoja4!A5)+COUNTIF('3. Level A Evaluation'!C349,Hoja4!A5)+COUNTIF('3. Level A Evaluation'!C371,Hoja4!A5)+COUNTIF('3. Level A Evaluation'!C393,Hoja4!A5)+COUNTIF('3. Level A Evaluation'!C415,Hoja4!A5)+COUNTIF('3. Level A Evaluation'!C437,Hoja4!A5)+COUNTIF('3. Level A Evaluation'!C459,Hoja4!A5)+COUNTIF('3. Level A Evaluation'!C481,Hoja4!A5)+COUNTIF('3. Level A Evaluation'!C503,Hoja4!A5)+COUNTIF('3. Level A Evaluation'!C525,Hoja4!A5)+COUNTIF('3. Level A Evaluation'!C547,Hoja4!A5)+COUNTIF('3. Level A Evaluation'!C569,Hoja4!A5)+COUNTIF('3. Level A Evaluation'!C591,Hoja4!A5)++COUNTIF('3. Level A Evaluation'!C613,Hoja4!A5)+COUNTIF('3. Level A Evaluation'!C635,Hoja4!A5)+COUNTIF('3. Level A Evaluation'!C657,Hoja4!A5)+COUNTIF('3. Level A Evaluation'!C680,Hoja4!A5),"") -> 0 | C30: =IF('2. Sample pages'!B5>12,B30*100/B9,"") -> 0 | D30: =IF('2. Sample pages'!B5>12,COUNTIF('3. Level A Evaluation'!C19,Hoja4!A6)+COUNTIF('3. Level A Evaluation'!C41,Hoja4!A6)+COUNTIF('3. Level A Evaluation'!C63,Hoja4!A6)+COUNTIF('3. Level A Evaluation'!C85,Hoja4!A6)+COUNTIF('3. Level A Evaluation'!C107,Hoja4!A6)+COUNTIF('3. Level A Evaluation'!C129,Hoja4!A6)+COUNTIF('3. Level A Evaluation'!C151,Hoja4!A6)+COUNTIF('3. Level A Evaluation'!C173,Hoja4!A6)+COUNTIF('3. Level A Evaluation'!C195,Hoja4!A6)+COUNTIF('3. Level A Evaluation'!C217,Hoja4!A6)+COUNTIF('3. Level A Evaluation'!C239,Hoja4!A6)+COUNTIF('3. Level A Evaluation'!C261,Hoja4!A6)+COUNTIF('3. Level A Evaluation'!C283,Hoja4!A6)+COUNTIF('3. Level A Evaluation'!C305,Hoja4!A6)+COUNTIF('3. Level A Evaluation'!C327,Hoja4!A6)+COUNTIF('3. Level A Evaluation'!C349,Hoja4!A6)+COUNTIF('3. Level A Evaluation'!C371,Hoja4!A6)+COUNTIF('3. Level A Evaluation'!C393,Hoja4!A6)+COUNTIF('3. Level A Evaluation'!C415,Hoja4!A6)+COUNTIF('3. Level A Evaluation'!C437,Hoja4!A6)+COUNTIF('3. Level A Evaluation'!C459,Hoja4!A6)+COUNTIF('3. Level A Evaluation'!C481,Hoja4!A6)+COUNTIF('3. Level A Evaluation'!C503,Hoja4!A6)+COUNTIF('3. Level A Evaluation'!C525,Hoja4!A6)+COUNTIF('3. Level A Evaluation'!C547,Hoja4!A6)+COUNTIF('3. Level A Evaluation'!C569,Hoja4!A6)+COUNTIF('3. Level A Evaluation'!C591,Hoja4!A6)+COUNTIF('3. Level A Evaluation'!C613,Hoja4!A6)+COUNTIF('3. Level A Evaluation'!C635,Hoja4!A6)+COUNTIF('3. Level A Evaluation'!C657,Hoja4!A6)+COUNTIF('3. Level A Evaluation'!C680,Hoja4!A6),"") -> 0 | E30: =IF('2. Sample pages'!B5>12,D30*100/B9,"") -> 0 | F30: =IF('2. Sample pages'!B5>12,COUNTIF('3. Level A Evaluation'!C19,Hoja4!A7)+COUNTIF('3. Level A Evaluation'!C41,Hoja4!A7)+COUNTIF('3. Level A Evaluation'!C63,Hoja4!A7)+COUNTIF('3. Level A Evaluation'!C85,Hoja4!A7)+COUNTIF('3. Level A Evaluation'!C107,Hoja4!A7)+COUNTIF('3. Level A Evaluation'!C129,Hoja4!A7)+COUNTIF('3. Level A Evaluation'!C151,Hoja4!A7)+COUNTIF('3. Level A Evaluation'!C173,Hoja4!A7)+COUNTIF('3. Level A Evaluation'!C195,Hoja4!A7)+COUNTIF('3. Level A Evaluation'!C217,Hoja4!A7)+COUNTIF('3. Level A Evaluation'!C239,Hoja4!A7)+COUNTIF('3. Level A Evaluation'!C261,Hoja4!A7)+COUNTIF('3. Level A Evaluation'!C283,Hoja4!A7)+COUNTIF('3. Level A Evaluation'!C305,Hoja4!A7)+COUNTIF('3. Level A Evaluation'!C327,Hoja4!A7)+COUNTIF('3. Level A Evaluation'!C349,Hoja4!A7)+COUNTIF('3. Level A Evaluation'!C371,Hoja4!A7)+COUNTIF('3. Level A Evaluation'!C393,Hoja4!A7)+COUNTIF('3. Level A Evaluation'!C415,Hoja4!A7)+COUNTIF('3. Level A Evaluation'!C437,Hoja4!A7)+COUNTIF('3. Level A Evaluation'!C459,Hoja4!A7)+COUNTIF('3. Level A Evaluation'!C481,Hoja4!A7)+COUNTIF('3. Level A Evaluation'!C503,Hoja4!A7)+COUNTIF('3. Level A Evaluation'!C525,Hoja4!A7)+COUNTIF('3. Level A Evaluation'!C547,Hoja4!A7)+COUNTIF('3. Level A Evaluation'!C569,Hoja4!A7)+COUNTIF('3. Level A Evaluation'!C591,Hoja4!A7)+COUNTIF('3. Level A Evaluation'!C613,Hoja4!A7)+COUNTIF('3. Level A Evaluation'!C635,Hoja4!A7)+COUNTIF('3. Level A Evaluation'!C657,Hoja4!A7)+COUNTIF('3. Level A Evaluation'!C680,Hoja4!A7),"") -> 0 | G30: =IF('2. Sample pages'!B5>12,F30*100/B9,"") -> 0 | H30: =IF('2. Sample pages'!B5>12,IF(ISERROR((B30*100)/(B9-F30)),0,(B30*100)/(B9-F30)),"") -> 0 | I30: =IF('2. Sample pages'!B5>12,IF(ISERROR((D30*100)/(B9-F30)),0,(D30*100)/(B9-F30)),"") -> 0
A31: ='2. Sample pages'!C21 -> Alias14 | B31: =IF('2. Sample pages'!B5>13,COUNTIF('3. Level A Evaluation'!C20,Hoja4!A5)+COUNTIF('3. Level A Evaluation'!C42,Hoja4!A5)+COUNTIF('3. Level A Evaluation'!C64,Hoja4!A5)+COUNTIF('3. Level A Evaluation'!C86,Hoja4!A5)+COUNTIF('3. Level A Evaluation'!C108,Hoja4!A5)+COUNTIF('3. Level A Evaluation'!C130,Hoja4!A5)+COUNTIF('3. Level A Evaluation'!C152,Hoja4!A5)+COUNTIF('3. Level A Evaluation'!C174,Hoja4!A5)+COUNTIF('3. Level A Evaluation'!C196,Hoja4!A5)+COUNTIF('3. Level A Evaluation'!C218,Hoja4!A5)+COUNTIF('3. Level A Evaluation'!C240,Hoja4!A5)+COUNTIF('3. Level A Evaluation'!C262,Hoja4!A5)+COUNTIF('3. Level A Evaluation'!C284,Hoja4!A5)+COUNTIF('3. Level A Evaluation'!C306,Hoja4!A5)+COUNTIF('3. Level A Evaluation'!C328,Hoja4!A5)+COUNTIF('3. Level A Evaluation'!C350,Hoja4!A5)+COUNTIF('3. Level A Evaluation'!C372,Hoja4!A5)+COUNTIF('3. Level A Evaluation'!C394,Hoja4!A5)+COUNTIF('3. Level A Evaluation'!C416,Hoja4!A5)+COUNTIF('3. Level A Evaluation'!C438,Hoja4!A5)+COUNTIF('3. Level A Evaluation'!C460,Hoja4!A5)+COUNTIF('3. Level A Evaluation'!C482,Hoja4!A5)+COUNTIF('3. Level A Evaluation'!C504,Hoja4!A5)+COUNTIF('3. Level A Evaluation'!C526,Hoja4!A5)+COUNTIF('3. Level A Evaluation'!C548,Hoja4!A5)+COUNTIF('3. Level A Evaluation'!C570,Hoja4!A5)+COUNTIF('3. Level A Evaluation'!C592,Hoja4!A5)++COUNTIF('3. Level A Evaluation'!C614,Hoja4!A5)+COUNTIF('3. Level A Evaluation'!C636,Hoja4!A5)+COUNTIF('3. Level A Evaluation'!C658,Hoja4!A5)+COUNTIF('3. Level A Evaluation'!C681,Hoja4!A5),"") -> 0 | C31: =IF('2. Sample pages'!B5>13,B31*100/B9,"") -> 0 | D31: =IF('2. Sample pages'!B5>13,COUNTIF('3. Level A Evaluation'!C20,Hoja4!A6)+COUNTIF('3. Level A Evaluation'!C42,Hoja4!A6)+COUNTIF('3. Level A Evaluation'!C64,Hoja4!A6)+COUNTIF('3. Level A Evaluation'!C86,Hoja4!A6)+COUNTIF('3. Level A Evaluation'!C108,Hoja4!A6)+COUNTIF('3. Level A Evaluation'!C130,Hoja4!A6)+COUNTIF('3. Level A Evaluation'!C152,Hoja4!A6)+COUNTIF('3. Level A Evaluation'!C174,Hoja4!A6)+COUNTIF('3. Level A Evaluation'!C196,Hoja4!A6)+COUNTIF('3. Level A Evaluation'!C218,Hoja4!A6)+COUNTIF('3. Level A Evaluation'!C240,Hoja4!A6)+COUNTIF('3. Level A Evaluation'!C262,Hoja4!A6)+COUNTIF('3. Level A Evaluation'!C284,Hoja4!A6)+COUNTIF('3. Level A Evaluation'!C306,Hoja4!A6)+COUNTIF('3. Level A Evaluation'!C328,Hoja4!A6)+COUNTIF('3. Level A Evaluation'!C350,Hoja4!A6)+COUNTIF('3. Level A Evaluation'!C372,Hoja4!A6)+COUNTIF('3. Level A Evaluation'!C394,Hoja4!A6)+COUNTIF('3. Level A Evaluation'!C416,Hoja4!A6)+COUNTIF('3. Level A Evaluation'!C438,Hoja4!A6)+COUNTIF('3. Level A Evaluation'!C460,Hoja4!A6)+COUNTIF('3. Level A Evaluation'!C482,Hoja4!A6)+COUNTIF('3. Level A Evaluation'!C504,Hoja4!A6)+COUNTIF('3. Level A Evaluation'!C526,Hoja4!A6)+COUNTIF('3. Level A Evaluation'!C548,Hoja4!A6)+COUNTIF('3. Level A Evaluation'!C570,Hoja4!A6)+COUNTIF('3. Level A Evaluation'!C592,Hoja4!A6)+COUNTIF('3. Level A Evaluation'!C614,Hoja4!A6)+COUNTIF('3. Level A Evaluation'!C636,Hoja4!A6)+COUNTIF('3. Level A Evaluation'!C658,Hoja4!A6)+COUNTIF('3. Level A Evaluation'!C681,Hoja4!A6),"") -> 0 | E31: =IF('2. Sample pages'!B5>13,D31*100/B9,"") -> 0 | F31: =IF('2. Sample pages'!B5>13,COUNTIF('3. Level A Evaluation'!C20,Hoja4!A7)+COUNTIF('3. Level A Evaluation'!C42,Hoja4!A7)+COUNTIF('3. Level A Evaluation'!C64,Hoja4!A7)+COUNTIF('3. Level A Evaluation'!C86,Hoja4!A7)+COUNTIF('3. Level A Evaluation'!C108,Hoja4!A7)+COUNTIF('3. Level A Evaluation'!C130,Hoja4!A7)+COUNTIF('3. Level A Evaluation'!C152,Hoja4!A7)+COUNTIF('3. Level A Evaluation'!C174,Hoja4!A7)+COUNTIF('3. Level A Evaluation'!C196,Hoja4!A7)+COUNTIF('3. Level A Evaluation'!C218,Hoja4!A7)+COUNTIF('3. Level A Evaluation'!C240,Hoja4!A7)+COUNTIF('3. Level A Evaluation'!C262,Hoja4!A7)+COUNTIF('3. Level A Evaluation'!C284,Hoja4!A7)+COUNTIF('3. Level A Evaluation'!C306,Hoja4!A7)+COUNTIF('3. Level A Evaluation'!C328,Hoja4!A7)+COUNTIF('3. Level A Evaluation'!C350,Hoja4!A7)+COUNTIF('3. Level A Evaluation'!C372,Hoja4!A7)+COUNTIF('3. Level A Evaluation'!C394,Hoja4!A7)+COUNTIF('3. Level A Evaluation'!C416,Hoja4!A7)+COUNTIF('3. Level A Evaluation'!C438,Hoja4!A7)+COUNTIF('3. Level A Evaluation'!C460,Hoja4!A7)+COUNTIF('3. Level A Evaluation'!C482,Hoja4!A7)+COUNTIF('3. Level A Evaluation'!C504,Hoja4!A7)+COUNTIF('3. Level A Evaluation'!C526,Hoja4!A7)+COUNTIF('3. Level A Evaluation'!C548,Hoja4!A7)+COUNTIF('3. Level A Evaluation'!C570,Hoja4!A7)+COUNTIF('3. Level A Evaluation'!C592,Hoja4!A7)+COUNTIF('3. Level A Evaluation'!C614,Hoja4!A7)+COUNTIF('3. Level A Evaluation'!C636,Hoja4!A7)+COUNTIF('3. Level A Evaluation'!C658,Hoja4!A7)+COUNTIF('3. Level A Evaluation'!C681,Hoja4!A7),"") -> 0 | G31: =IF('2. Sample pages'!B5>13,F31*100/B9,"") -> 0 | H31: =IF('2. Sample pages'!B5>13,IF(ISERROR((B31*100)/(B9-F31)),0,(B31*100)/(B9-F31)),"") -> 0 | I31: =IF('2. Sample pages'!B5>13,IF(ISERROR((D31*100)/(B9-F31)),0,(D31*100)/(B9-F31)),"") -> 0
A32: ='2. Sample pages'!C22 -> Alias15 | B32: =IF('2. Sample pages'!B5>14,COUNTIF('3. Level A Evaluation'!C21,Hoja4!A5)+COUNTIF('3. Level A Evaluation'!C43,Hoja4!A5)+COUNTIF('3. Level A Evaluation'!C65,Hoja4!A5)+COUNTIF('3. Level A Evaluation'!C87,Hoja4!A5)+COUNTIF('3. Level A Evaluation'!C109,Hoja4!A5)+COUNTIF('3. Level A Evaluation'!C131,Hoja4!A5)+COUNTIF('3. Level A Evaluation'!C153,Hoja4!A5)+COUNTIF('3. Level A Evaluation'!C175,Hoja4!A5)+COUNTIF('3. Level A Evaluation'!C197,Hoja4!A5)+COUNTIF('3. Level A Evaluation'!C219,Hoja4!A5)+COUNTIF('3. Level A Evaluation'!C241,Hoja4!A5)+COUNTIF('3. Level A Evaluation'!C263,Hoja4!A5)+COUNTIF('3. Level A Evaluation'!C285,Hoja4!A5)+COUNTIF('3. Level A Evaluation'!C307,Hoja4!A5)+COUNTIF('3. Level A Evaluation'!C329,Hoja4!A5)+COUNTIF('3. Level A Evaluation'!C351,Hoja4!A5)+COUNTIF('3. Level A Evaluation'!C373,Hoja4!A5)+COUNTIF('3. Level A Evaluation'!C395,Hoja4!A5)+COUNTIF('3. Level A Evaluation'!C417,Hoja4!A5)+COUNTIF('3. Level A Evaluation'!C439,Hoja4!A5)+COUNTIF('3. Level A Evaluation'!C461,Hoja4!A5)+COUNTIF('3. Level A Evaluation'!C483,Hoja4!A5)+COUNTIF('3. Level A Evaluation'!C505,Hoja4!A5)+COUNTIF('3. Level A Evaluation'!C527,Hoja4!A5)+COUNTIF('3. Level A Evaluation'!C549,Hoja4!A5)+COUNTIF('3. Level A Evaluation'!C571,Hoja4!A5)+COUNTIF('3. Level A Evaluation'!C593,Hoja4!A5)++COUNTIF('3. Level A Evaluation'!C615,Hoja4!A5)+COUNTIF('3. Level A Evaluation'!C637,Hoja4!A5)+COUNTIF('3. Level A Evaluation'!C659,Hoja4!A5)+COUNTIF('3. Level A Evaluation'!C682,Hoja4!A5),"") -> 0 | C32: =IF('2. Sample pages'!B5>14,B32*100/B9,"") -> 0 | D32: =IF('2. Sample pages'!B5>14,COUNTIF('3. Level A Evaluation'!C21,Hoja4!A6)+COUNTIF('3. Level A Evaluation'!C43,Hoja4!A6)+COUNTIF('3. Level A Evaluation'!C65,Hoja4!A6)+COUNTIF('3. Level A Evaluation'!C87,Hoja4!A6)+COUNTIF('3. Level A Evaluation'!C109,Hoja4!A6)+COUNTIF('3. Level A Evaluation'!C131,Hoja4!A6)+COUNTIF('3. Level A Evaluation'!C153,Hoja4!A6)+COUNTIF('3. Level A Evaluation'!C175,Hoja4!A6)+COUNTIF('3. Level A Evaluation'!C197,Hoja4!A6)+COUNTIF('3. Level A Evaluation'!C219,Hoja4!A6)+COUNTIF('3. Level A Evaluation'!C241,Hoja4!A6)+COUNTIF('3. Level A Evaluation'!C263,Hoja4!A6)+COUNTIF('3. Level A Evaluation'!C285,Hoja4!A6)+COUNTIF('3. Level A Evaluation'!C307,Hoja4!A6)+COUNTIF('3. Level A Evaluation'!C329,Hoja4!A6)+COUNTIF('3. Level A Evaluation'!C351,Hoja4!A6)+COUNTIF('3. Level A Evaluation'!C373,Hoja4!A6)+COUNTIF('3. Level A Evaluation'!C395,Hoja4!A6)+COUNTIF('3. Level A Evaluation'!C417,Hoja4!A6)+COUNTIF('3. Level A Evaluation'!C439,Hoja4!A6)+COUNTIF('3. Level A Evaluation'!C461,Hoja4!A6)+COUNTIF('3. Level A Evaluation'!C483,Hoja4!A6)+COUNTIF('3. Level A Evaluation'!C505,Hoja4!A6)+COUNTIF('3. Level A Evaluation'!C527,Hoja4!A6)+COUNTIF('3. Level A Evaluation'!C549,Hoja4!A6)+COUNTIF('3. Level A Evaluation'!C571,Hoja4!A6)+COUNTIF('3. Level A Evaluation'!C593,Hoja4!A6)+COUNTIF('3. Level A Evaluation'!C615,Hoja4!A6)+COUNTIF('3. Level A Evaluation'!C637,Hoja4!A6)+COUNTIF('3. Level A Evaluation'!C659,Hoja4!A6)+COUNTIF('3. Level A Evaluation'!C682,Hoja4!A6),"") -> 0 | E32: =IF('2. Sample pages'!B5>14,D32*100/B9,"") -> 0 | F32: =IF('2. Sample pages'!B5>14,COUNTIF('3. Level A Evaluation'!C21,Hoja4!A7)+COUNTIF('3. Level A Evaluation'!C43,Hoja4!A7)+COUNTIF('3. Level A Evaluation'!C65,Hoja4!A7)+COUNTIF('3. Level A Evaluation'!C87,Hoja4!A7)+COUNTIF('3. Level A Evaluation'!C109,Hoja4!A7)+COUNTIF('3. Level A Evaluation'!C131,Hoja4!A7)+COUNTIF('3. Level A Evaluation'!C153,Hoja4!A7)+COUNTIF('3. Level A Evaluation'!C175,Hoja4!A7)+COUNTIF('3. Level A Evaluation'!C197,Hoja4!A7)+COUNTIF('3. Level A Evaluation'!C219,Hoja4!A7)+COUNTIF('3. Level A Evaluation'!C241,Hoja4!A7)+COUNTIF('3. Level A Evaluation'!C263,Hoja4!A7)+COUNTIF('3. Level A Evaluation'!C285,Hoja4!A7)+COUNTIF('3. Level A Evaluation'!C307,Hoja4!A7)+COUNTIF('3. Level A Evaluation'!C329,Hoja4!A7)+COUNTIF('3. Level A Evaluation'!C351,Hoja4!A7)+COUNTIF('3. Level A Evaluation'!C373,Hoja4!A7)+COUNTIF('3. Level A Evaluation'!C395,Hoja4!A7)+COUNTIF('3. Level A Evaluation'!C417,Hoja4!A7)+COUNTIF('3. Level A Evaluation'!C439,Hoja4!A7)+COUNTIF('3. Level A Evaluation'!C461,Hoja4!A7)+COUNTIF('3. Level A Evaluation'!C483,Hoja4!A7)+COUNTIF('3. Level A Evaluation'!C505,Hoja4!A7)+COUNTIF('3. Level A Evaluation'!C527,Hoja4!A7)+COUNTIF('3. Level A Evaluation'!C549,Hoja4!A7)+COUNTIF('3. Level A Evaluation'!C571,Hoja4!A7)+COUNTIF('3. Level A Evaluation'!C593,Hoja4!A7)+COUNTIF('3. Level A Evaluation'!C615,Hoja4!A7)+COUNTIF('3. Level A Evaluation'!C637,Hoja4!A7)+COUNTIF('3. Level A Evaluation'!C659,Hoja4!A7)+COUNTIF('3. Level A Evaluation'!C682,Hoja4!A7),"") -> 0 | G32: =IF('2. Sample pages'!B5>14,F32*100/B9,"") -> 0 | H32: =IF('2. Sample pages'!B5>14,IF(ISERROR((B32*100)/(B9-F32)),0,(B32*100)/(B9-F32)),"") -> 0 | I32: =IF('2. Sample pages'!B5>14,IF(ISERROR((D32*100)/(B9-F32)),0,(D32*100)/(B9-F32)),"") -> 0
A35: Compliance Level A per page
A36: Compliance percentage excluding the "not applicable"
A72: Author: | B72: Olga Carreras Montoto
A73: Help: | B73: Help Page
A74: Version: | B74: E1.0 (2025)
A75: Copyright: | B75: Commercial use and distribution without permission of the author is prohibited.

Sheet 4. Level AA Evaluation
A1: Audit Tool WCAG 2.2 | E1: Author: Olga Carreras (Usable and accessible)
A3: 4. Assessment of compliance with Level AA criteria
A5: 1.2.4 Captions (Live) | C5: Meets? | E5: Help 1.2.4
A6: Captions are provided for all live audio content on synced media: https://www.w3.org/WAI/WCAG22/Understanding/captions-live | B6: ='2. Sample pages'!C8 -> Alias1 | E6: Audio-synchronized captions will be provided for all multimedia content offered live (audio-only broadcasts, video conferences, etc.)
B7: ='2. Sample pages'!C9 -> Alias2
B8: ='2. Sample pages'!C10 -> Alias3
B9: ='2. Sample pages'!C11 -> Alias4
B10: ='2. Sample pages'!C12 -> Alias5
B11: ='2. Sample pages'!C13 -> Alias6
B12: ='2. Sample pages'!C14 -> Alias7
B13: ='2. Sample pages'!C15 -> Alias8
B14: ='2. Sample pages'!C16 -> Alias9
B15: ='2. Sample pages'!C17 -> Alias10
B16: ='2. Sample pages'!C18 -> Alias11
B17: ='2. Sample pages'!C19 -> Alias12
B18: ='2. Sample pages'!C20 -> Alias13
... B20: ='2. Sample pages'!C22 -> Alias15
C21: Full sample | D21: =IF(C24>0,Hoja4!A6,IF(C25='2. Sample pages'!B5,Hoja4!A7,IF(SUM(C23:C25)=0,"",Hoja4!A5)))
A23: Summary 1.2.4 | B23: Number that comply: | C23: =COUNTIF(C6:C20,Hoja4!A5) -> 0
B24: Number that do not comply: | C24: =COUNTIF(C6:C20,Hoja4!A6) -> 0
B25: Number not applicable: | C25: =COUNTIF(C6:C20,Hoja4!A7) -> 0
A27: 1.2.5 Audio Description (Prerecorded) | C27: Meets? | E27: Help 1.2.5
A28: An audio description is provided for all video content recorded within synchronized media: https://www.w3.org/WAI/WCAG22/Understanding/audio-description-prerecorded | B28: ='2. Sample pages'!C8 -> Alias1 | E28: Audio descriptions will be provided for all video content. Note: This will only be necessary if the video transmits visual content that is not available by default in the audio track.
B29: ='2. Sample pages'!C9 -> Alias2
B30: ='2. Sample pages'!C10 -> Alias3
B31: ='2. Sample pages'!C11 -> Alias4
B32: ='2. Sample pages'!C12 -> Alias5
B33: ='2. Sample pages'!C13 -> Alias6
B34: ='2. Sample pages'!C14 -> Alias7
B35: ='2. Sample pages'!C15 -> Alias8
B36: ='2. Sample pages'!C16 -> Alias9
B37: ='2. Sample pages'!C17 -> Alias10
B38: ='2. Sample pages'!C18 -> Alias11
B39: ='2. Sample pages'!C19 -> Alias12
B40: ='2. Sample pages'!C20 -> Alias13
... B42: ='2. Sample pages'!C22 -> Alias15
C43: Full sample | D43: =IF(C46>0,Hoja4!A6,IF(C47='2. Sample pages'!B5,Hoja4!A7,IF(SUM(C45:C47)=0,"",Hoja4!A5)))
A45: Summary 1.2.5 | B45: Number that comply: | C45: =COUNTIF(C28:C42,Hoja4!A5) -> 0
B46: Number that do not comply: | C46: =COUNTIF(C28:C42,Hoja4!A6) -> 0
B47: Number not applicable: | C47: =COUNTIF(C28:C42,Hoja4!A7) -> 0
A49: 1.3.4 Orientation (New in WCAG 2.1) | C49: Meets? | E49: Help 1.3.4
A50: Content does not require that it be viewable and operated in a single screen orientation, such as portrait or landscape format, unless it is essential: https://www.w3.org/WAI/WCAG22/Understanding/orientation | B50: ='2. Sample pages'!C8 -> Alias1 | E50: Web sites and applications should support portrait and landscape orientation, ensuring that content and functionality are available in each orientation, while allowing content order and functionality to differ.
B51: ='2. Sample pages'!C9 -> Alias2 | E51: Examples of exceptions could be a piano app, virtual reality app, presentation slides, or a bank check. In these cases, the user must be warned that a specific orientation is mandatory.
B52: ='2. Sample pages'!C10 -> Alias3
B53: ='2. Sample pages'!C11 -> Alias4
B54: ='2. Sample pages'!C12 -> Alias5
B55: ='2. Sample pages'!C13 -> Alias6
B56: ='2. Sample pages'!C14 -> Alias7
B57: ='2. Sample pages'!C15 -> Alias8
B58: ='2. Sample pages'!C16 -> Alias9
B59: ='2. Sample pages'!C17 -> Alias10
B60: ='2. Sample pages'!C18 -> Alias11
B61: ='2. Sample pages'!C19 -> Alias12
B62: ='2. Sample pages'!C20 -> Alias13
B63: ='2. Sample pages'!C21 -> Alias14
B64: ='2. Sample pages'!C22 -> Alias15
C65: Full sample | D65: =IF(C68>0,Hoja4!A6,IF(C69='2. Sample pages'!B5,Hoja4!A7,IF(SUM(C67:C69)=0,"",Hoja4!A5)))
A67: Summary 1.3.4 | B67: Number that comply: | C67: =COUNTIF(C50:C64,Hoja4!A5) -> 0
B68: Number that do not comply: | C68: =COUNTIF(C50:C64,Hoja4!A6) -> 0
B69: Number not applicable: | C69: =COUNTIF(C50:C64,Hoja4!A7) -> 0
A71: 1.3.5 Identify Input Purpose (New in WCAG 2.1) | C71: Meets? | E71: Help 1.3.5
A72: The purpose of each field that collects user information can be determined by software when: • the field has an identified and concrete purpose; and • The field is implemented using technologies that allow its expected meaning to be identified in a form: https://www.w3.org/WAI/WCAG22/Understanding/identify-input-purpose | B72: ='2. Sample pages'!C8 -> Alias1 | E72: It must be one of the lists in section "7. Input Purposes for User Interface Components" ("name", "country", "postal-code", etc.). The list is based on the HTML 5.2 Autofill field section.
B73: ='2. Sample pages'!C9 -> Alias2
B74: ='2. Sample pages'!C10 -> Alias3 | E74: Resource of interest (HTML 5.2 Autofill field section):
B75: ='2. Sample pages'!C11 -> Alias4 | E75: https://www.w3.org/TR/html52/sec-forms.html#sec-autofill
B76: ='2. Sample pages'!C12 -> Alias5
B77: ='2. Sample pages'!C13 -> Alias6
B78: ='2. Sample pages'!C14 -> Alias7
B79: ='2. Sample pages'!C15 -> Alias8
B80: ='2. Sample pages'!C16 -> Alias9
B81: ='2. Sample pages'!C17 -> Alias10
B82: ='2. Sample pages'!C18 -> Alias11
B83: ='2. Sample pages'!C19 -> Alias12
B84: ='2. Sample pages'!C20 -> Alias13
B85: ='2. Sample pages'!C21 -> Alias14
B86: ='2. Sample pages'!C22 -> Alias15
C87: Full sample | D87: =IF(C90>0,Hoja4!A6,IF(C91='2. Sample pages'!B5,Hoja4!A7,IF(SUM(C89:C91)=0,"",Hoja4!A5)))
A89: Summary 1.3.5 | B89: Number that comply: | C89: =COUNTIF(C72:C86,Hoja4!A5) -> 0
B90: Number that do not comply: | C90: =COUNTIF(C72:C86,Hoja4!A6) -> 0
B91: Number not applicable: | C91: =COUNTIF(C72:C86,Hoja4!A7) -> 0
A93: 1.4.3 Contrast (Minimum) | C93: Meets? | E93: Help 1.4.3
A94: The visual presentation of text and text images has a contrast ratio of at least 4.5:1, except in the following cases: https://www.w3.org/WAI/WCAG22/Understanding/contrast-minimum | B94: ='2. Sample pages'!C8 -> Alias1 | E94: Text or text images must have a contrast ratio of at least 4.5:1, except in the following cases:
B95: ='2. Sample pages'!C9 -> Alias2 | E95: * Except for large text (more than 18 points or 14 points in bold), including text images, where the contrast ratio must be at least 3:1.
B96: ='2. Sample pages'!C10 -> Alias3 | E96: * Except for texts, or text images, that are part of an inactive UI component, that are merely decorative or not visible, that do not have a minimum contrast requirement.
B97: ='2. Sample pages'!C11 -> Alias4 | E97: * Except for text that is part of a logo or trademark, which does not have a minimum contrast requirement.
B98: ='2. Sample pages'!C12 -> Alias5
B99: ='2. Sample pages'!C13 -> Alias6 | E99: Colour Contrast Analyser Tools:
B100: ='2. Sample pages'!C14 -> Alias7 | E100: https://developer.paciellogroup.com/resources/contrastanalyser/
B101: ='2. Sample pages'!C15 -> Alias8
B102: ='2. Sample pages'!C16 -> Alias9
B103: ='2. Sample pages'!C17 -> Alias10
B104: ='2. Sample pages'!C18 -> Alias11
B105: ='2. Sample pages'!C19 -> Alias12
B106: ='2. Sample pages'!C20 -> Alias13
B107: ='2. Sample pages'!C21 -> Alias14
B108: ='2. Sample pages'!C22 -> Alias15
C109: Full sample | D109: =IF(C112>0,Hoja4!A6,IF(C113='2. Sample pages'!B5,Hoja4!A7,IF(SUM(C111:C113)=0,"",Hoja4!A5)))
A111: Summary 1.4.3 | B111: Number that comply: | C111: =COUNTIF(C94:C108,Hoja4!A5) -> 0
B112: Number that do not comply: | C112: =COUNTIF(C94:C108,Hoja4!A6) -> 0
B113: Number not applicable: | C113: =COUNTIF(C94:C108,Hoja4!A7) -> 0
...

Sheet 4.1 Graphs and statistics AA
A1: Audit Tool WCAG 2.2 | H1: Author: Olga Carreras (Usable and accessible)
A3: 4.1 4.1 Results of the evaluation for Level AA compliance.
A22: * Excluding 'not applicable' items ** Level AA = Level A criteria + Level AA criteria.
A23: Data from the entire sample
A25: Number of AA-only criteria: | B25: 24 | E25: Excluding the not applicable items
A26: Level AA criteria that met: | B26: =COUNTIF('4. Level AA Evaluation'!D5:E527,Hoja4!A5) -> 0 | C26: % Level AA compliance | D26: =B26*100/B25 -> 0 | E26: =IF(ISERROR((B26*100)/(B25-B28)),0,(B26*100)/(B25-B28)) -> 0
A27: Level AA criteria not met: | B27: =COUNTIF('4. Level AA Evaluation'!D5:D527,Hoja4!A6) -> 0 | C27: % Level AA non-compliance | D27: =B27*100/B25 -> 0 | E27: =IF(ISERROR((B27*100)/(B25-B28)),0,(B27*100)/(B25-B28)) -> 0
A28: Level AA-only "not applicable" criteria: | B28: =COUNTIF('4. Level AA Evaluation'!D5:D527,Hoja4!A7) -> 0 | C28: % Not applicable Level AA: | D28: =B28*100/B25 -> 0
B29: =SUM(B26:B28) -> 0 | D29: =SUM(D26:D28) -> 0 | E29: =SUM(E26:E28) -> 0
A31: Results A + AA (These are the relevant ones to determine the Level AA compliance)
A32: Number of A+AA criteria: | B32: 55 | E32: Excluding the not applicable items
A33: Level A+AA criteria that met: | B33: ='3.1 Graphs and statistics A'!B10+B26 -> 0 | C33: % Level A+AA compliance | D33: =B33*100/B32 -> 0 | E33: =IF(ISERROR((B33*100)/(B32-B35)),0,(B33*100)/(B32-B35)) -> 0
A34: Level A+AA criteria not met: | B34: ='3.1 Graphs and statistics A'!B11+'4.1 Graphs and statistics AA'!B27 -> 0 | C34: % Level A+AA non-compliance | D34: =B34*100/B32 -> 0 | E34: =IF(ISERROR((B34*100)/(B32-B35)),0,(B34*100)/(B32-B35)) -> 0
A35: Level A+AA "not applicable" criteria: | B35: ='3.1 Graphs and statistics A'!B12+'4.1 Graphs and statistics AA'!B28 -> 0 | C35: % Not applicable LevelA+ AA: | D35: =B35*100/B32 -> 0
B36: =SUM(B33:B35) -> 0 | D36: =SUM(D33:D35) -> 0 | E36: =SUM(E33:E35) -> 0
A40: Result for AA-only criteria:
B41: Meets | C41: % Meets | D41: Not met | E41: % Non-compliance | F41: Not applicable | G41: % Not applicable | H41: % comply excluding not applicable | I41: % Non-compliance excluding the not applicable items
A42: ='2. Sample pages'!C8 -> Alias1 | B42: =IF('2. Sample pages'!B5>0,COUNTIF('4. Level AA Evaluation'!C6,Hoja4!A5)+COUNTIF('4. Level AA Evaluation'!C28,Hoja4!A5)+COUNTIF('4. Level AA Evaluation'!C50,Hoja4!A5)+COUNTIF('4. Level AA Evaluation'!C72,Hoja4!A5)+COUNTIF('4. Level AA Evaluation'!C94,Hoja4!A5)+COUNTIF('4. Level AA Evaluation'!C116,Hoja4!A5)+COUNTIF('4. Level AA Evaluation'!C138,Hoja4!A5)+COUNTIF('4. Level AA Evaluation'!C160,Hoja4!A5)+COUNTIF('4. Level AA Evaluation'!C182,Hoja4!A5)+COUNTIF('4. Level AA Evaluation'!C204,Hoja4!A5)+COUNTIF('4. Level AA Evaluation'!C226,Hoja4!A5)+COUNTIF('4. Level AA Evaluation'!C248,Hoja4!A5)+COUNTIF('4. Level AA Evaluation'!C270,Hoja4!A5)+COUNTIF('4. Level AA Evaluation'!C292,Hoja4!A5)+COUNTIF('4. Level AA Evaluation'!C380,Hoja4!A5)+COUNTIF('4. Level AA Evaluation'!C402,Hoja4!A5)+COUNTIF('4. Level AA Evaluation'!C424,Hoja4!A5)+COUNTIF('4. Level AA Evaluation'!C446,Hoja4!A5)+COUNTIF('4. Level AA Evaluation'!C468,Hoja4!A5)+COUNTIF('4. Level AA Evaluation'!C512,Hoja4!A5)+COUNTIF('4. Level AA Evaluation'!C314,Hoja4!A5)+COUNTIF('4. Level AA Evaluation'!C336,Hoja4!A5)+COUNTIF('4. Level AA Evaluation'!C358,Hoja4!A5)+COUNTIF('4. Level AA Evaluation'!C490,Hoja4!A5),"") -> 0 | C42: =IF('2. Sample pages'!B5>0,B42*100/'4.1 Graphs and statistics AA'!B25,"") -> 0 | D42: =IF('2. Sample pages'!B5>0,COUNTIF('4. Level AA Evaluation'!C6,Hoja4!A6)+COUNTIF('4. Level AA Evaluation'!C28,Hoja4!A6)+COUNTIF('4. Level AA Evaluation'!C50,Hoja4!A6)+COUNTIF('4. Level AA Evaluation'!C72,Hoja4!A6)+COUNTIF('4. Level AA Evaluation'!C94,Hoja4!A6)+COUNTIF('4. Level AA Evaluation'!C116,Hoja4!A6)+COUNTIF('4. Level AA Evaluation'!C138,Hoja4!A6)+COUNTIF('4. Level AA Evaluation'!C160,Hoja4!A6)+COUNTIF('4. Level AA Evaluation'!C182,Hoja4!A6)+COUNTIF('4. Level AA Evaluation'!C204,Hoja4!A6)+COUNTIF('4. Level AA Evaluation'!C226,Hoja4!A6)+COUNTIF('4. Level AA Evaluation'!C248,Hoja4!A6)+COUNTIF('4. Level AA Evaluation'!C270,Hoja4!A6)+COUNTIF('4. Level AA Evaluation'!C292,Hoja4!A6)+COUNTIF('4. Level AA Evaluation'!C380,Hoja4!A6)+COUNTIF('4. Level AA Evaluation'!C402,Hoja4!A6)+COUNTIF('4. Level AA Evaluation'!C424,Hoja4!A6)+COUNTIF('4. Level AA Evaluation'!C446,Hoja4!A6)+COUNTIF('4. Level AA Evaluation'!C468,Hoja4!A6)+COUNTIF('4. Level AA Evaluation'!C512,Hoja4!A6)+COUNTIF('4. Level AA Evaluation'!C314,Hoja4!A6)+COUNTIF('4. Level AA Evaluation'!C336,Hoja4!A6)+COUNTIF('4. Level AA Evaluation'!C358,Hoja4!A6)+COUNTIF('4. Level AA Evaluation'!C490,Hoja4!A6),"") -> 0 | E42: =IF('2. Sample pages'!B5>0,D42*100/'4.1 Graphs and statistics AA'!B25,"") -> 0 | F42: =IF('2. Sample pages'!B5>0,COUNTIF('4. Level AA Evaluation'!C6,Hoja4!A7)+COUNTIF('4. Level AA Evaluation'!C28,Hoja4!A7)+COUNTIF('4. Level AA Evaluation'!C50,Hoja4!A7)+COUNTIF('4. Level AA Evaluation'!C72,Hoja4!A7)+COUNTIF('4. Level AA Evaluation'!C94,Hoja4!A7)+COUNTIF('4. Level AA Evaluation'!C116,Hoja4!A7)+COUNTIF('4. Level AA Evaluation'!C138,Hoja4!A7)+COUNTIF('4. Level AA Evaluation'!C160,Hoja4!A7)+COUNTIF('4. Level AA Evaluation'!C182,Hoja4!A7)+COUNTIF('4. Level AA Evaluation'!C204,Hoja4!A7)+COUNTIF('4. Level AA Evaluation'!C226,Hoja4!A7)+COUNTIF('4. Level AA Evaluation'!C248,Hoja4!A7)+COUNTIF('4. Level AA Evaluation'!C270,Hoja4!A7)+COUNTIF('4. Level AA Evaluation'!C292,Hoja4!A7)+COUNTIF('4. Level AA Evaluation'!C380,Hoja4!A7)+COUNTIF('4. Level AA Evaluation'!C402,Hoja4!A7)+COUNTIF('4. Level AA Evaluation'!C424,Hoja4!A7)+COUNTIF('4. Level AA Evaluation'!C446,Hoja4!A7)+COUNTIF('4. Level AA Evaluation'!C468,Hoja4!A7)+COUNTIF('4. Level AA Evaluation'!C512,Hoja4!A7)+COUNTIF('4. Level AA Evaluation'!C314,Hoja4!A7)+COUNTIF('4. Level AA Evaluation'!C336,Hoja4!A7)+COUNTIF('4. Level AA Evaluation'!C358,Hoja4!A7)+COUNTIF('4. Level AA Evaluation'!C490,Hoja4!A7),"") -> 0 | G42: =IF('2. Sample pages'!B5>0,F42*100/'4.1 Graphs and statistics AA'!B25,"") -> 0 | H42: =IF('2. Sample pages'!B5>0,IF(ISERROR((B42*100)/('4.1 Graphs and statistics AA'!B25-F42)),0,(B42*100)/('4.1 Graphs and statistics AA'!B25-F42)),"") -> 0 | I42: =IF('2. Sample pages'!B5>0,IF(ISERROR((D42*100)/('4.1 Graphs and statistics AA'!B25-F42)),0,(D42*100)/('4.1 Graphs and statistics AA'!B25-F42)),"") -> 0
A43: ='2. Sample pages'!C9 -> Alias2 | B43: =IF('2. Sample pages'!B5>1,COUNTIF('4. Level AA Evaluation'!C7,Hoja4!A5)+COUNTIF('4. Level AA Evaluation'!C29,Hoja4!A5)+COUNTIF('4. Level AA Evaluation'!C51,Hoja4!A5)+COUNTIF('4. Level AA Evaluation'!C73,Hoja4!A5)+COUNTIF('4. Level AA Evaluation'!C95,Hoja4!A5)+COUNTIF('4. Level AA Evaluation'!C117,Hoja4!A5)+COUNTIF('4. Level AA Evaluation'!C139,Hoja4!A5)+COUNTIF('4. Level AA Evaluation'!C161,Hoja4!A5)+COUNTIF('4. Level AA Evaluation'!C183,Hoja4!A5)+COUNTIF('4. Level AA Evaluation'!C205,Hoja4!A5)+COUNTIF('4. Level AA Evaluation'!C227,Hoja4!A5)+COUNTIF('4. Level AA Evaluation'!C249,Hoja4!A5)+COUNTIF('4. Level AA Evaluation'!C271,Hoja4!A5)+COUNTIF('4. Level AA Evaluation'!C293,Hoja4!A5)+COUNTIF('4. Level AA Evaluation'!C381,Hoja4!A5)+COUNTIF('4. Level AA Evaluation'!C403,Hoja4!A5)+COUNTIF('4. Level AA Evaluation'!C425,Hoja4!A5)+COUNTIF('4. Level AA Evaluation'!C447,Hoja4!A5)+COUNTIF('4. Level AA Evaluation'!C469,Hoja4!A5)+COUNTIF('4. Level AA Evaluation'!C513,Hoja4!A5)+COUNTIF('4. Level AA Evaluation'!C315,Hoja4!A5)+COUNTIF('4. Level AA Evaluation'!C337,Hoja4!A5)+COUNTIF('4. Level AA Evaluation'!C359,Hoja4!A5)+COUNTIF('4. Level AA Evaluation'!C491,Hoja4!A5),"") -> 0 | C43: =IF('2. Sample pages'!B5>1,B43*100/'4.1 Graphs and statistics AA'!B25,"") -> 0 | D43: =IF('2. Sample pages'!B5>1,COUNTIF('4. Level AA Evaluation'!C7,Hoja4!A6)+COUNTIF('4. Level AA Evaluation'!C29,Hoja4!A6)+COUNTIF('4. Level AA Evaluation'!C51,Hoja4!A6)+COUNTIF('4. Level AA Evaluation'!C73,Hoja4!A6)+COUNTIF('4. Level AA Evaluation'!C95,Hoja4!A6)+COUNTIF('4. Level AA Evaluation'!C117,Hoja4!A6)+COUNTIF('4. Level AA Evaluation'!C139,Hoja4!A6)+COUNTIF('4. Level AA Evaluation'!C161,Hoja4!A6)+COUNTIF('4. Level AA Evaluation'!C183,Hoja4!A6)+COUNTIF('4. Level AA Evaluation'!C205,Hoja4!A6)+COUNTIF('4. Level AA Evaluation'!C227,Hoja4!A6)+COUNTIF('4. Level AA Evaluation'!C249,Hoja4!A6)+COUNTIF('4. Level AA Evaluation'!C271,Hoja4!A6)+COUNTIF('4. Level AA Evaluation'!C293,Hoja4!A6)+COUNTIF('4. Level AA Evaluation'!C381,Hoja4!A6)+COUNTIF('4. Level AA Evaluation'!C403,Hoja4!A6)+COUNTIF('4. Level AA Evaluation'!C425,Hoja4!A6)+COUNTIF('4. Level AA Evaluation'!C447,Hoja4!A6)+COUNTIF('4. Level AA Evaluation'!C469,Hoja4!A6)+COUNTIF('4. Level AA Evaluation'!C513,Hoja4!A6)+COUNTIF('4. Level AA Evaluation'!C315,Hoja4!A6)+COUNTIF('4. Level AA Evaluation'!C337,Hoja4!A6)+COUNTIF('4. Level AA Evaluation'!C359,Hoja4!A6)+COUNTIF('4. Level AA Evaluation'!C491,Hoja4!A6),"") -> 0 | E43: =IF('2. Sample pages'!B5>1,D43*100/'4.1 Graphs and statistics AA'!B25,"") -> 0 | F43: =IF('2. Sample pages'!B5>1,COUNTIF('4. Level AA Evaluation'!C7,Hoja4!A7)+COUNTIF('4. Level AA Evaluation'!C29,Hoja4!A7)+COUNTIF('4. Level AA Evaluation'!C51,Hoja4!A7)+COUNTIF('4. Level AA Evaluation'!C73,Hoja4!A7)+COUNTIF('4. Level AA Evaluation'!C95,Hoja4!A7)+COUNTIF('4. Level AA Evaluation'!C117,Hoja4!A7)+COUNTIF('4. Level AA Evaluation'!C139,Hoja4!A7)+COUNTIF('4. Level AA Evaluation'!C161,Hoja4!A7)+COUNTIF('4. Level AA Evaluation'!C183,Hoja4!A7)+COUNTIF('4. Level AA Evaluation'!C205,Hoja4!A7)+COUNTIF('4. Level AA Evaluation'!C227,Hoja4!A7)+COUNTIF('4. Level AA Evaluation'!C249,Hoja4!A7)+COUNTIF('4. Level AA Evaluation'!C271,Hoja4!A7)+COUNTIF('4. Level AA Evaluation'!C293,Hoja4!A7)+COUNTIF('4. Level AA Evaluation'!C381,Hoja4!A7)+COUNTIF('4. Level AA Evaluation'!C403,Hoja4!A7)+COUNTIF('4. Level AA Evaluation'!C425,Hoja4!A7)+COUNTIF('4. Level AA Evaluation'!C447,Hoja4!A7)+COUNTIF('4. Level AA Evaluation'!C469,Hoja4!A7)+COUNTIF('4. Level AA Evaluation'!C513,Hoja4!A7)+COUNTIF('4. Level AA Evaluation'!C315,Hoja4!A7)+COUNTIF('4. Level AA Evaluation'!C337,Hoja4!A7)+COUNTIF('4. Level AA Evaluation'!C359,Hoja4!A7)+COUNTIF('4. Level AA Evaluation'!C491,Hoja4!A7),"") -> 0 | G43: =IF('2. Sample pages'!B5>1,F43*100/'4.1 Graphs and statistics AA'!B25,"") -> 0 | H43: =IF('2. Sample pages'!B5>1,IF(ISERROR((B43*100)/('4.1 Graphs and statistics AA'!B25-F43)),0,(B43*100)/('4.1 Graphs and statistics AA'!B25-F43)),"") -> 0 | I43: =IF('2. Sample pages'!B5>1,IF(ISERROR((D43*100)/('4.1 Graphs and statistics AA'!B25-F43)),0,(D43*100)/('4.1 Graphs and statistics AA'!B25-F43)),"") -> 0
A44: ='2. Sample pages'!C10 -> Alias3 | B44: =IF('2. Sample pages'!B5>2,COUNTIF('4. Level AA Evaluation'!C8,Hoja4!A5)+COUNTIF('4. Level AA Evaluation'!C30,Hoja4!A5)+COUNTIF('4. Level AA Evaluation'!C52,Hoja4!A5)+COUNTIF('4. Level AA Evaluation'!C74,Hoja4!A5)+COUNTIF('4. Level AA Evaluation'!C96,Hoja4!A5)+COUNTIF('4. Level AA Evaluation'!C118,Hoja4!A5)+COUNTIF('4. Level AA Evaluation'!C140,Hoja4!A5)+COUNTIF('4. Level AA Evaluation'!C162,Hoja4!A5)+COUNTIF('4. Level AA Evaluation'!C184,Hoja4!A5)+COUNTIF('4. Level AA Evaluation'!C206,Hoja4!A5)+COUNTIF('4. Level AA Evaluation'!C228,Hoja4!A5)+COUNTIF('4. Level AA Evaluation'!C250,Hoja4!A5)+COUNTIF('4. Level AA Evaluation'!C272,Hoja4!A5)+COUNTIF('4. Level AA Evaluation'!C294,Hoja4!A5)+COUNTIF('4. Level AA Evaluation'!C382,Hoja4!A5)+COUNTIF('4. Level AA Evaluation'!C404,Hoja4!A5)+COUNTIF('4. Level AA Evaluation'!C426,Hoja4!A5)+COUNTIF('4. Level AA Evaluation'!C448,Hoja4!A5)+COUNTIF('4. Level AA Evaluation'!C470,Hoja4!A5)+COUNTIF('4. Level AA Evaluation'!C514,Hoja4!A5)+COUNTIF('4. Level AA Evaluation'!C316,Hoja4!A5)+COUNTIF('4. Level AA Evaluation'!C338,Hoja4!A5)+COUNTIF('4. Level AA Evaluation'!C360,Hoja4!A5)+COUNTIF('4. Level AA Evaluation'!C492,Hoja4!A5),"") -> 0 | C44: =IF('2. Sample pages'!B5>2,B44*100/'4.1 Graphs and statistics AA'!B25,"") -> 0 | D44: =IF('2. Sample pages'!B5>2,COUNTIF('4. Level AA Evaluation'!C8,Hoja4!A6)+COUNTIF('4. Level AA Evaluation'!C30,Hoja4!A6)+COUNTIF('4. Level AA Evaluation'!C52,Hoja4!A6)+COUNTIF('4. Level AA Evaluation'!C74,Hoja4!A6)+COUNTIF('4. Level AA Evaluation'!C96,Hoja4!A6)+COUNTIF('4. Level AA Evaluation'!C118,Hoja4!A6)+COUNTIF('4. Level AA Evaluation'!C140,Hoja4!A6)+COUNTIF('4. Level AA Evaluation'!C162,Hoja4!A6)+COUNTIF('4. Level AA Evaluation'!C184,Hoja4!A6)+COUNTIF('4. Level AA Evaluation'!C206,Hoja4!A6)+COUNTIF('4. Level AA Evaluation'!C228,Hoja4!A6)+COUNTIF('4. Level AA Evaluation'!C250,Hoja4!A6)+COUNTIF('4. Level AA Evaluation'!C272,Hoja4!A6)+COUNTIF('4. Level AA Evaluation'!C294,Hoja4!A6)+COUNTIF('4. Level AA Evaluation'!C382,Hoja4!A6)+COUNTIF('4. Level AA Evaluation'!C404,Hoja4!A6)+COUNTIF('4. Level AA Evaluation'!C426,Hoja4!A6)+COUNTIF('4. Level AA Evaluation'!C448,Hoja4!A6)+COUNTIF('4. Level AA Evaluation'!C470,Hoja4!A6)+COUNTIF('4. Level AA Evaluation'!C514,Hoja4!A6)+COUNTIF('4. Level AA Evaluation'!C316,Hoja4!A6)+COUNTIF('4. Level AA Evaluation'!C338,Hoja4!A6)+COUNTIF('4. Level AA Evaluation'!C360,Hoja4!A6)+COUNTIF('4. Level AA Evaluation'!C492,Hoja4!A6),"") -> 0 | E44: =IF('2. Sample pages'!B5>2,D44*100/'4.1 Graphs and statistics AA'!B25,"") -> 0 | F44: =IF('2. Sample pages'!B5>2,COUNTIF('4. Level AA Evaluation'!C8,Hoja4!A7)+COUNTIF('4. Level AA Evaluation'!C30,Hoja4!A7)+COUNTIF('4. Level AA Evaluation'!C52,Hoja4!A7)+COUNTIF('4. Level AA Evaluation'!C74,Hoja4!A7)+COUNTIF('4. Level AA Evaluation'!C96,Hoja4!A7)+COUNTIF('4. Level AA Evaluation'!C118,Hoja4!A7)+COUNTIF('4. Level AA Evaluation'!C140,Hoja4!A7)+COUNTIF('4. Level AA Evaluation'!C162,Hoja4!A7)+COUNTIF('4. Level AA Evaluation'!C184,Hoja4!A7)+COUNTIF('4. Level AA Evaluation'!C206,Hoja4!A7)+COUNTIF('4. Level AA Evaluation'!C228,Hoja4!A7)+COUNTIF('4. Level AA Evaluation'!C250,Hoja4!A7)+COUNTIF('4. Level AA Evaluation'!C272,Hoja4!A7)+COUNTIF('4. Level AA Evaluation'!C294,Hoja4!A7)+COUNTIF('4. Level AA Evaluation'!C382,Hoja4!A7)+COUNTIF('4. Level AA Evaluation'!C404,Hoja4!A7)+COUNTIF('4. Level AA Evaluation'!C426,Hoja4!A7)+COUNTIF('4. Level AA Evaluation'!C448,Hoja4!A7)+COUNTIF('4. Level AA Evaluation'!C470,Hoja4!A7)+COUNTIF('4. Level AA Evaluation'!C514,Hoja4!A7)+COUNTIF('4. Level AA Evaluation'!C316,Hoja4!A7)+COUNTIF('4. Level AA Evaluation'!C338,Hoja4!A7)+COUNTIF('4. Level AA Evaluation'!C360,Hoja4!A7)+COUNTIF('4. Level AA Evaluation'!C492,Hoja4!A7),"") -> 0 | G44: =IF('2. Sample pages'!B5>2,F44*100/'4.1 Graphs and statistics AA'!B25,"") -> 0 | H44: =IF('2. Sample pages'!B5>2,IF(ISERROR((B44*100)/('4.1 Graphs and statistics AA'!B25-F44)),0,(B44*100)/('4.1 Graphs and statistics AA'!B25-F44)),"") -> 0 | I44: =IF('2. Sample pages'!B5>2,IF(ISERROR((D44*100)/('4.1 Graphs and statistics AA'!B25-F44)),0,(D44*100)/('4.1 Graphs and statistics AA'!B25-F44)),"") -> 0
A45: ='2. Sample pages'!C11 -> Alias4 | B45: =IF('2. Sample pages'!B5>3,COUNTIF('4. Level AA Evaluation'!C9,Hoja4!A5)+COUNTIF('4. Level AA Evaluation'!C31,Hoja4!A5)+COUNTIF('4. Level AA Evaluation'!C53,Hoja4!A5)+COUNTIF('4. Level AA Evaluation'!C75,Hoja4!A5)+COUNTIF('4. Level AA Evaluation'!C97,Hoja4!A5)+COUNTIF('4. Level AA Evaluation'!C119,Hoja4!A5)+COUNTIF('4. Level AA Evaluation'!C141,Hoja4!A5)+COUNTIF('4. Level AA Evaluation'!C163,Hoja4!A5)+COUNTIF('4. Level AA Evaluation'!C185,Hoja4!A5)+COUNTIF('4. Level AA Evaluation'!C207,Hoja4!A5)+COUNTIF('4. Level AA Evaluation'!C229,Hoja4!A5)+COUNTIF('4. Level AA Evaluation'!C251,Hoja4!A5)+COUNTIF('4. Level AA Evaluation'!C273,Hoja4!A5)+COUNTIF('4. Level AA Evaluation'!C295,Hoja4!A5)+COUNTIF('4. Level AA Evaluation'!C383,Hoja4!A5)+COUNTIF('4. Level AA Evaluation'!C405,Hoja4!A5)+COUNTIF('4. Level AA Evaluation'!C427,Hoja4!A5)+COUNTIF('4. Level AA Evaluation'!C449,Hoja4!A5)+COUNTIF('4. Level AA Evaluation'!C471,Hoja4!A5)+COUNTIF('4. Level AA Evaluation'!C515,Hoja4!A5)+COUNTIF('4. Level AA Evaluation'!C317,Hoja4!A5)+COUNTIF('4. Level AA Evaluation'!C339,Hoja4!A5)+COUNTIF('4. Level AA Evaluation'!C361,Hoja4!A5)+COUNTIF('4. Level AA Evaluation'!C493,Hoja4!A5),"") -> 0 | C45: =IF('2. Sample pages'!B5>3,B45*100/'4.1 Graphs and statistics AA'!B25,"") -> 0 | D45: =IF('2. Sample pages'!B5>3,COUNTIF('4. Level AA Evaluation'!C9,Hoja4!A6)+COUNTIF('4. Level AA Evaluation'!C31,Hoja4!A6)+COUNTIF('4. Level AA Evaluation'!C53,Hoja4!A6)+COUNTIF('4. Level AA Evaluation'!C75,Hoja4!A6)+COUNTIF('4. Level AA Evaluation'!C97,Hoja4!A6)+COUNTIF('4. Level AA Evaluation'!C119,Hoja4!A6)+COUNTIF('4. Level AA Evaluation'!C141,Hoja4!A6)+COUNTIF('4. Level AA Evaluation'!C163,Hoja4!A6)+COUNTIF('4. Level AA Evaluation'!C185,Hoja4!A6)+COUNTIF('4. Level AA Evaluation'!C207,Hoja4!A6)+COUNTIF('4. Level AA Evaluation'!C229,Hoja4!A6)+COUNTIF('4. Level AA Evaluation'!C251,Hoja4!A6)+COUNTIF('4. Level AA Evaluation'!C273,Hoja4!A6)+COUNTIF('4. Level AA Evaluation'!C295,Hoja4!A6)+COUNTIF('4. Level AA Evaluation'!C383,Hoja4!A6)+COUNTIF('4. Level AA Evaluation'!C405,Hoja4!A6)+COUNTIF('4. Level AA Evaluation'!C427,Hoja4!A6)+COUNTIF('4. Level AA Evaluation'!C449,Hoja4!A6)+COUNTIF('4. Level AA Evaluation'!C471,Hoja4!A6)+COUNTIF('4. Level AA Evaluation'!C515,Hoja4!A6)+COUNTIF('4. Level AA Evaluation'!C317,Hoja4!A6)+COUNTIF('4. Level AA Evaluation'!C339,Hoja4!A6)+COUNTIF('4. Level AA Evaluation'!C361,Hoja4!A6)+COUNTIF('4. Level AA Evaluation'!C493,Hoja4!A6),"") -> 0 | E45: =IF('2. Sample pages'!B5>3,D45*100/'4.1 Graphs and statistics AA'!B25,"") -> 0 | F45: =IF('2. Sample pages'!B5>3,COUNTIF('4. Level AA Evaluation'!C9,Hoja4!A7)+COUNTIF('4. Level AA Evaluation'!C31,Hoja4!A7)+COUNTIF('4. Level AA Evaluation'!C53,Hoja4!A7)+COUNTIF('4. Level AA Evaluation'!C75,Hoja4!A7)+COUNTIF('4. Level AA Evaluation'!C97,Hoja4!A7)+COUNTIF('4. Level AA Evaluation'!C119,Hoja4!A7)+COUNTIF('4. Level AA Evaluation'!C141,Hoja4!A7)+COUNTIF('4. Level AA Evaluation'!C163,Hoja4!A7)+COUNTIF('4. Level AA Evaluation'!C185,Hoja4!A7)+COUNTIF('4. Level AA Evaluation'!C207,Hoja4!A7)+COUNTIF('4. Level AA Evaluation'!C229,Hoja4!A7)+COUNTIF('4. Level AA Evaluation'!C251,Hoja4!A7)+COUNTIF('4. Level AA Evaluation'!C273,Hoja4!A7)+COUNTIF('4. Level AA Evaluation'!C295,Hoja4!A7)+COUNTIF('4. Level AA Evaluation'!C383,Hoja4!A7)+COUNTIF('4. Level AA Evaluation'!C405,Hoja4!A7)+COUNTIF('4. Level AA Evaluation'!C427,Hoja4!A7)+COUNTIF('4. Level AA Evaluation'!C449,Hoja4!A7)+COUNTIF('4. Level AA Evaluation'!C471,Hoja4!A7)+COUNTIF('4. Level AA Evaluation'!C515,Hoja4!A7)+COUNTIF('4. Level AA Evaluation'!C317,Hoja4!A7)+COUNTIF('4. Level AA Evaluation'!C339,Hoja4!A7)+COUNTIF('4. Level AA Evaluation'!C361,Hoja4!A7)+COUNTIF('4. Level AA Evaluation'!C493,Hoja4!A7),"") -> 0 | G45: =IF('2. Sample pages'!B5>3,F45*100/'4.1 Graphs and statistics AA'!B25,"") -> 0 | H45: =IF('2. Sample pages'!B5>3,IF(ISERROR((B45*100)/('4.1 Graphs and statistics AA'!B25-F45)),0,(B45*100)/('4.1 Graphs and statistics AA'!B25-F45)),"") -> 0 | I45: =IF('2. Sample pages'!B5>3,IF(ISERROR((D45*100)/('4.1 Graphs and statistics AA'!B25-F45)),0,(D45*100)/('4.1 Graphs and statistics AA'!B25-F45)),"") -> 0
A46: ='2. Sample pages'!C12 -> Alias5 | B46: =IF('2. Sample pages'!B5>4,COUNTIF('4. Level AA Evaluation'!C10,Hoja4!A5)+COUNTIF('4. Level AA Evaluation'!C32,Hoja4!A5)+COUNTIF('4. Level AA Evaluation'!C54,Hoja4!A5)+COUNTIF('4. Level AA Evaluation'!C76,Hoja4!A5)+COUNTIF('4. Level AA Evaluation'!C98,Hoja4!A5)+COUNTIF('4. Level AA Evaluation'!C120,Hoja4!A5)+COUNTIF('4. Level AA Evaluation'!C142,Hoja4!A5)+COUNTIF('4. Level AA Evaluation'!C164,Hoja4!A5)+COUNTIF('4. Level AA Evaluation'!C186,Hoja4!A5)+COUNTIF('4. Level AA Evaluation'!C208,Hoja4!A5)+COUNTIF('4. Level AA Evaluation'!C230,Hoja4!A5)+COUNTIF('4. Level AA Evaluation'!C252,Hoja4!A5)+COUNTIF('4. Level AA Evaluation'!C274,Hoja4!A5)+COUNTIF('4. Level AA Evaluation'!C296,Hoja4!A5)+COUNTIF('4. Level AA Evaluation'!C384,Hoja4!A5)+COUNTIF('4. Level AA Evaluation'!C406,Hoja4!A5)+COUNTIF('4. Level AA Evaluation'!C428,Hoja4!A5)+COUNTIF('4. Level AA Evaluation'!C450,Hoja4!A5)+COUNTIF('4. Level AA Evaluation'!C472,Hoja4!A5)+COUNTIF('4. Level AA Evaluation'!C516,Hoja4!A5)+COUNTIF('4. Level AA Evaluation'!C318,Hoja4!A5)+COUNTIF('4. Level AA Evaluation'!C340,Hoja4!A5)+COUNTIF('4. Level AA Evaluation'!C362,Hoja4!A5)+COUNTIF('4. Level AA Evaluation'!C494,Hoja4!A5),"") -> 0 | C46: =IF('2. Sample pages'!B5>4,B46*100/'4.1 Graphs and statistics AA'!B25,"") -> 0 | D46: =IF('2. Sample pages'!B5>4,COUNTIF('4. Level AA Evaluation'!C10,Hoja4!A6)+COUNTIF('4. Level AA Evaluation'!C32,Hoja4!A6)+COUNTIF('4. Level AA Evaluation'!C54,Hoja4!A6)+COUNTIF('4. Level AA Evaluation'!C76,Hoja4!A6)+COUNTIF('4. Level AA Evaluation'!C98,Hoja4!A6)+COUNTIF('4. Level AA Evaluation'!C120,Hoja4!A6)+COUNTIF('4. Level AA Evaluation'!C142,Hoja4!A6)+COUNTIF('4. Level AA Evaluation'!C164,Hoja4!A6)+COUNTIF('4. Level AA Evaluation'!C186,Hoja4!A6)+COUNTIF('4. Level AA Evaluation'!C208,Hoja4!A6)+COUNTIF('4. Level AA Evaluation'!C230,Hoja4!A6)+COUNTIF('4. Level AA Evaluation'!C252,Hoja4!A6)+COUNTIF('4. Level AA Evaluation'!C274,Hoja4!A6)+COUNTIF('4. Level AA Evaluation'!C296,Hoja4!A6)+COUNTIF('4. Level AA Evaluation'!C384,Hoja4!A6)+COUNTIF('4. Level AA Evaluation'!C406,Hoja4!A6)+COUNTIF('4. Level AA Evaluation'!C428,Hoja4!A6)+COUNTIF('4. Level AA Evaluation'!C450,Hoja4!A6)+COUNTIF('4. Level AA Evaluation'!C472,Hoja4!A6)+COUNTIF('4. Level AA Evaluation'!C516,Hoja4!A6)+COUNTIF('4. Level AA Evaluation'!C318,Hoja4!A6)+COUNTIF('4. Level AA Evaluation'!C340,Hoja4!A6)+COUNTIF('4. Level AA Evaluation'!C362,Hoja4!A6)+COUNTIF('4. Level AA Evaluation'!C494,Hoja4!A6),"") -> 0 | E46: =IF('2. Sample pages'!B5>4,D46*100/'4.1 Graphs and statistics AA'!B25,"") -> 0 | F46: =IF('2. Sample pages'!B5>4,COUNTIF('4. Level AA Evaluation'!C10,Hoja4!A7)+COUNTIF('4. Level AA Evaluation'!C32,Hoja4!A7)+COUNTIF('4. Level AA Evaluation'!C54,Hoja4!A7)+COUNTIF('4. Level AA Evaluation'!C76,Hoja4!A7)+COUNTIF('4. Level AA Evaluation'!C98,Hoja4!A7)+COUNTIF('4. Level AA Evaluation'!C120,Hoja4!A7)+COUNTIF('4. Level AA Evaluation'!C142,Hoja4!A7)+COUNTIF('4. Level AA Evaluation'!C164,Hoja4!A7)+COUNTIF('4. Level AA Evaluation'!C186,Hoja4!A7)+COUNTIF('4. Level AA Evaluation'!C208,Hoja4!A7)+COUNTIF('4. Level AA Evaluation'!C230,Hoja4!A7)+COUNTIF('4. Level AA Evaluation'!C252,Hoja4!A7)+COUNTIF('4. Level AA Evaluation'!C274,Hoja4!A7)+COUNTIF('4. Level AA Evaluation'!C296,Hoja4!A7)+COUNTIF('4. Level AA Evaluation'!C384,Hoja4!A7)+COUNTIF('4. Level AA Evaluation'!C406,Hoja4!A7)+COUNTIF('4. Level AA Evaluation'!C428,Hoja4!A7)+COUNTIF('4. Level AA Evaluation'!C450,Hoja4!A7)+COUNTIF('4. Level AA Evaluation'!C472,Hoja4!A7)+COUNTIF('4. Level AA Evaluation'!C516,Hoja4!A7)+COUNTIF('4. Level AA Evaluation'!C318,Hoja4!A7)+COUNTIF('4. Level AA Evaluation'!C340,Hoja4!A7)+COUNTIF('4. Level AA Evaluation'!C362,Hoja4!A7)+COUNTIF('4. Level AA Evaluation'!C494,Hoja4!A7),"") -> 0 | G46: =IF('2. Sample pages'!B5>4,F46*100/'4.1 Graphs and statistics AA'!B25,"") -> 0 | H46: =IF('2. Sample pages'!B5>4,IF(ISERROR((B46*100)/('4.1 Graphs and statistics AA'!B25-F46)),0,(B46*100)/('4.1 Graphs and statistics AA'!B25-F46)),"") -> 0 | I46: =IF('2. Sample pages'!B5>4,IF(ISERROR((D46*100)/('4.1 Graphs and statistics AA'!B25-F46)),0,(D46*100)/('4.1 Graphs and statistics AA'!B25-F46)),"") -> 0
A47: ='2. Sample pages'!C13 -> Alias6 | B47: =IF('2. Sample pages'!B5>5,COUNTIF('4. Level AA Evaluation'!C11,Hoja4!A5)+COUNTIF('4. Level AA Evaluation'!C33,Hoja4!A5)+COUNTIF('4. Level AA Evaluation'!C55,Hoja4!A5)+COUNTIF('4. Level AA Evaluation'!C77,Hoja4!A5)+COUNTIF('4. Level AA Evaluation'!C99,Hoja4!A5)+COUNTIF('4. Level AA Evaluation'!C121,Hoja4!A5)+COUNTIF('4. Level AA Evaluation'!C143,Hoja4!A5)+COUNTIF('4. Level AA Evaluation'!C165,Hoja4!A5)+COUNTIF('4. Level AA Evaluation'!C187,Hoja4!A5)+COUNTIF('4. Level AA Evaluation'!C209,Hoja4!A5)+COUNTIF('4. Level AA Evaluation'!C231,Hoja4!A5)+COUNTIF('4. Level AA Evaluation'!C253,Hoja4!A5)+COUNTIF('4. Level AA Evaluation'!C275,Hoja4!A5)+COUNTIF('4. Level AA Evaluation'!C297,Hoja4!A5)+COUNTIF('4. Level AA Evaluation'!C385,Hoja4!A5)+COUNTIF('4. Level AA Evaluation'!C407,Hoja4!A5)+COUNTIF('4. Level AA Evaluation'!C429,Hoja4!A5)+COUNTIF('4. Level AA Evaluation'!C451,Hoja4!A5)+COUNTIF('4. Level AA Evaluation'!C473,Hoja4!A5)+COUNTIF('4. Level AA Evaluation'!C517,Hoja4!A5)+COUNTIF('4. Level AA Evaluation'!C319,Hoja4!A5)+COUNTIF('4. Level AA Evaluation'!C341,Hoja4!A5)+COUNTIF('4. Level AA Evaluation'!C363,Hoja4!A5)+COUNTIF('4. Level AA Evaluation'!C495,Hoja4!A5),"") -> 0 | C47: =IF('2. Sample pages'!B5>5,B47*100/'4.1 Graphs and statistics AA'!B25,"") -> 0 | D47: =IF('2. Sample pages'!B5>5,COUNTIF('4. Level AA Evaluation'!C11,Hoja4!A6)+COUNTIF('4. Level AA Evaluation'!C33,Hoja4!A6)+COUNTIF('4. Level AA Evaluation'!C55,Hoja4!A6)+COUNTIF('4. Level AA Evaluation'!C77,Hoja4!A6)+COUNTIF('4. Level AA Evaluation'!C99,Hoja4!A6)+COUNTIF('4. Level AA Evaluation'!C121,Hoja4!A6)+COUNTIF('4. Level AA Evaluation'!C143,Hoja4!A6)+COUNTIF('4. Level AA Evaluation'!C165,Hoja4!A6)+COUNTIF('4. Level AA Evaluation'!C187,Hoja4!A6)+COUNTIF('4. Level AA Evaluation'!C209,Hoja4!A6)+COUNTIF('4. Level AA Evaluation'!C231,Hoja4!A6)+COUNTIF('4. Level AA Evaluation'!C253,Hoja4!A6)+COUNTIF('4. Level AA Evaluation'!C275,Hoja4!A6)+COUNTIF('4. Level AA Evaluation'!C297,Hoja4!A6)+COUNTIF('4. Level AA Evaluation'!C385,Hoja4!A6)+COUNTIF('4. Level AA Evaluation'!C407,Hoja4!A6)+COUNTIF('4. Level AA Evaluation'!C429,Hoja4!A6)+COUNTIF('4. Level AA Evaluation'!C451,Hoja4!A6)+COUNTIF('4. Level AA Evaluation'!C473,Hoja4!A6)+COUNTIF('4. Level AA Evaluation'!C517,Hoja4!A6)+COUNTIF('4. Level AA Evaluation'!C319,Hoja4!A6)+COUNTIF('4. Level AA Evaluation'!C341,Hoja4!A6)+COUNTIF('4. Level AA Evaluation'!C363,Hoja4!A6)+COUNTIF('4. Level AA Evaluation'!C495,Hoja4!A6),"") -> 0 | E47: =IF('2. Sample pages'!B5>5,D47*100/'4.1 Graphs and statistics AA'!B25,"") -> 0 | F47: =IF('2. Sample pages'!B5>5,COUNTIF('4. Level AA Evaluation'!C11,Hoja4!A7)+COUNTIF('4. Level AA Evaluation'!C33,Hoja4!A7)+COUNTIF('4. Level AA Evaluation'!C55,Hoja4!A7)+COUNTIF('4. Level AA Evaluation'!C77,Hoja4!A7)+COUNTIF('4. Level AA Evaluation'!C99,Hoja4!A7)+COUNTIF('4. Level AA Evaluation'!C121,Hoja4!A7)+COUNTIF('4. Level AA Evaluation'!C143,Hoja4!A7)+COUNTIF('4. Level AA Evaluation'!C165,Hoja4!A7)+COUNTIF('4. Level AA Evaluation'!C187,Hoja4!A7)+COUNTIF('4. Level AA Evaluation'!C209,Hoja4!A7)+COUNTIF('4. Level AA Evaluation'!C231,Hoja4!A7)+COUNTIF('4. Level AA Evaluation'!C253,Hoja4!A7)+COUNTIF('4. Level AA Evaluation'!C275,Hoja4!A7)+COUNTIF('4. Level AA Evaluation'!C297,Hoja4!A7)+COUNTIF('4. Level AA Evaluation'!C385,Hoja4!A7)+COUNTIF('4. Level AA Evaluation'!C407,Hoja4!A7)+COUNTIF('4. Level AA Evaluation'!C429,Hoja4!A7)+COUNTIF('4. Level AA Evaluation'!C451,Hoja4!A7)+COUNTIF('4. Level AA Evaluation'!C473,Hoja4!A7)+COUNTIF('4. Level AA Evaluation'!C517,Hoja4!A7)+COUNTIF('4. Level AA Evaluation'!C319,Hoja4!A7)+COUNTIF('4. Level AA Evaluation'!C341,Hoja4!A7)+COUNTIF('4. Level AA Evaluation'!C363,Hoja4!A7)+COUNTIF('4. Level AA Evaluation'!C495,Hoja4!A7),"") -> 0 | G47: =IF('2. Sample pages'!B5>5,F47*100/'4.1 Graphs and statistics AA'!B25,"") -> 0 | H47: =IF('2. Sample pages'!B5>5,IF(ISERROR((B47*100)/('4.1 Graphs and statistics AA'!B25-F47)),0,(B47*100)/('4.1 Graphs and statistics AA'!B25-F47)),"") -> 0 | I47: =IF('2. Sample pages'!B5>5,IF(ISERROR((D47*100)/('4.1 Graphs and statistics AA'!B25-F47)),0,(D47*100)/('4.1 Graphs and statistics AA'!B25-F47)),"") -> 0
A48: ='2. Sample pages'!C14 -> Alias7 | B48: =IF('2. Sample pages'!B5>6,COUNTIF('4. Level AA Evaluation'!C12,Hoja4!A5)+COUNTIF('4. Level AA Evaluation'!C34,Hoja4!A5)+COUNTIF('4. Level AA Evaluation'!C56,Hoja4!A5)+COUNTIF('4. Level AA Evaluation'!C78,Hoja4!A5)+COUNTIF('4. Level AA Evaluation'!C100,Hoja4!A5)+COUNTIF('4. Level AA Evaluation'!C122,Hoja4!A5)+COUNTIF('4. Level AA Evaluation'!C144,Hoja4!A5)+COUNTIF('4. Level AA Evaluation'!C166,Hoja4!A5)+COUNTIF('4. Level AA Evaluation'!C188,Hoja4!A5)+COUNTIF('4. Level AA Evaluation'!C210,Hoja4!A5)+COUNTIF('4. Level AA Evaluation'!C232,Hoja4!A5)+COUNTIF('4. Level AA Evaluation'!C254,Hoja4!A5)+COUNTIF('4. Level AA Evaluation'!C276,Hoja4!A5)+COUNTIF('4. Level AA Evaluation'!C298,Hoja4!A5)+COUNTIF('4. Level AA Evaluation'!C386,Hoja4!A5)+COUNTIF('4. Level AA Evaluation'!C408,Hoja4!A5)+COUNTIF('4. Level AA Evaluation'!C430,Hoja4!A5)+COUNTIF('4. Level AA Evaluation'!C452,Hoja4!A5)+COUNTIF('4. Level AA Evaluation'!C474,Hoja4!A5)+COUNTIF('4. Level AA Evaluation'!C518,Hoja4!A5)+COUNTIF('4. Level AA Evaluation'!C320,Hoja4!A5)+COUNTIF('4. Level AA Evaluation'!C342,Hoja4!A5)+COUNTIF('4. Level AA Evaluation'!C364,Hoja4!A5)+COUNTIF('4. Level AA Evaluation'!C496,Hoja4!A5),"") -> 0 | C48: =IF('2. Sample pages'!B5>6,B48*100/'4.1 Graphs and statistics AA'!B25,"") -> 0 | D48: =IF('2. Sample pages'!B5>6,COUNTIF('4. Level AA Evaluation'!C12,Hoja4!A6)+COUNTIF('4. Level AA Evaluation'!C34,Hoja4!A6)+COUNTIF('4. Level AA Evaluation'!C56,Hoja4!A6)+COUNTIF('4. Level AA Evaluation'!C78,Hoja4!A6)+COUNTIF('4. Level AA Evaluation'!C100,Hoja4!A6)+COUNTIF('4. Level AA Evaluation'!C122,Hoja4!A6)+COUNTIF('4. Level AA Evaluation'!C144,Hoja4!A6)+COUNTIF('4. Level AA Evaluation'!C166,Hoja4!A6)+COUNTIF('4. Level AA Evaluation'!C188,Hoja4!A6)+COUNTIF('4. Level AA Evaluation'!C210,Hoja4!A6)+COUNTIF('4. Level AA Evaluation'!C232,Hoja4!A6)+COUNTIF('4. Level AA Evaluation'!C254,Hoja4!A6)+COUNTIF('4. Level AA Evaluation'!C276,Hoja4!A6)+COUNTIF('4. Level AA Evaluation'!C298,Hoja4!A6)+COUNTIF('4. Level AA Evaluation'!C386,Hoja4!A6)+COUNTIF('4. Level AA Evaluation'!C408,Hoja4!A6)+COUNTIF('4. Level AA Evaluation'!C430,Hoja4!A6)+COUNTIF('4. Level AA Evaluation'!C452,Hoja4!A6)+COUNTIF('4. Level AA Evaluation'!C474,Hoja4!A6)+COUNTIF('4. Level AA Evaluation'!C518,Hoja4!A6)+COUNTIF('4. Level AA Evaluation'!C320,Hoja4!A6)+COUNTIF('4. Level AA Evaluation'!C342,Hoja4!A6)+COUNTIF('4. Level AA Evaluation'!C364,Hoja4!A6)+COUNTIF('4. Level AA Evaluation'!C496,Hoja4!A6),"") -> 0 | E48: =IF('2. Sample pages'!B5>6,D48*100/'4.1 Graphs and statistics AA'!B25,"") -> 0 | F48: =IF('2. Sample pages'!B5>6,COUNTIF('4. Level AA Evaluation'!C12,Hoja4!A7)+COUNTIF('4. Level AA Evaluation'!C34,Hoja4!A7)+COUNTIF('4. Level AA Evaluation'!C56,Hoja4!A7)+COUNTIF('4. Level AA Evaluation'!C78,Hoja4!A7)+COUNTIF('4. Level AA Evaluation'!C100,Hoja4!A7)+COUNTIF('4. Level AA Evaluation'!C122,Hoja4!A7)+COUNTIF('4. Level AA Evaluation'!C144,Hoja4!A7)+COUNTIF('4. Level AA Evaluation'!C166,Hoja4!A7)+COUNTIF('4. Level AA Evaluation'!C188,Hoja4!A7)+COUNTIF('4. Level AA Evaluation'!C210,Hoja4!A7)+COUNTIF('4. Level AA Evaluation'!C232,Hoja4!A7)+COUNTIF('4. Level AA Evaluation'!C254,Hoja4!A7)+COUNTIF('4. Level AA Evaluation'!C276,Hoja4!A7)+COUNTIF('4. Level AA Evaluation'!C298,Hoja4!A7)+COUNTIF('4. Level AA Evaluation'!C386,Hoja4!A7)+COUNTIF('4. Level AA Evaluation'!C408,Hoja4!A7)+COUNTIF('4. Level AA Evaluation'!C430,Hoja4!A7)+COUNTIF('4. Level AA Evaluation'!C452,Hoja4!A7)+COUNTIF('4. Level AA Evaluation'!C474,Hoja4!A7)+COUNTIF('4. Level AA Evaluation'!C518,Hoja4!A7)+COUNTIF('4. Level AA Evaluation'!C320,Hoja4!A7)+COUNTIF('4. Level AA Evaluation'!C342,Hoja4!A7)+COUNTIF('4. Level AA Evaluation'!C364,Hoja4!A7)+COUNTIF('4. Level AA Evaluation'!C496,Hoja4!A7),"") -> 0 | G48: =IF('2. Sample pages'!B5>6,F48*100/'4.1 Graphs and statistics AA'!B25,"") -> 0 | H48: =IF('2. Sample pages'!B5>6,IF(ISERROR((B48*100)/('4.1 Graphs and statistics AA'!B25-F48)),0,(B48*100)/('4.1 Graphs and statistics AA'!B25-F48)),"") -> 0 | I48: =IF('2. Sample pages'!B5>6,IF(ISERROR((D48*100)/('4.1 Graphs and statistics AA'!B25-F48)),0,(D48*100)/('4.1 Graphs and statistics AA'!B25-F48)),"") -> 0
A49: ='2. Sample pages'!C15 -> Alias8 | B49: =IF('2. Sample pages'!B5>7,COUNTIF('4. Level AA Evaluation'!C13,Hoja4!A5)+COUNTIF('4. Level AA Evaluation'!C35,Hoja4!A5)+COUNTIF('4. Level AA Evaluation'!C57,Hoja4!A5)+COUNTIF('4. Level AA Evaluation'!C79,Hoja4!A5)+COUNTIF('4. Level AA Evaluation'!C101,Hoja4!A5)+COUNTIF('4. Level AA Evaluation'!C123,Hoja4!A5)+COUNTIF('4. Level AA Evaluation'!C145,Hoja4!A5)+COUNTIF('4. Level AA Evaluation'!C167,Hoja4!A5)+COUNTIF('4. Level AA Evaluation'!C189,Hoja4!A5)+COUNTIF('4. Level AA Evaluation'!C211,Hoja4!A5)+COUNTIF('4. Level AA Evaluation'!C233,Hoja4!A5)+COUNTIF('4. Level AA Evaluation'!C255,Hoja4!A5)+COUNTIF('4. Level AA Evaluation'!C277,Hoja4!A5)+COUNTIF('4. Level AA Evaluation'!C299,Hoja4!A5)+COUNTIF('4. Level AA Evaluation'!C387,Hoja4!A5)+COUNTIF('4. Level AA Evaluation'!C409,Hoja4!A5)+COUNTIF('4. Level AA Evaluation'!C431,Hoja4!A5)+COUNTIF('4. Level AA Evaluation'!C453,Hoja4!A5)+COUNTIF('4. Level AA Evaluation'!C475,Hoja4!A5)+COUNTIF('4. Level AA Evaluation'!C519,Hoja4!A5)+COUNTIF('4. Level AA Evaluation'!C321,Hoja4!A5)+COUNTIF('4. Level AA Evaluation'!C343,Hoja4!A5)+COUNTIF('4. Level AA Evaluation'!C365,Hoja4!A5)+COUNTIF('4. Level AA Evaluation'!C497,Hoja4!A5),"") -> 0 | C49: =IF('2. Sample pages'!B5>7,B49*100/'4.1 Graphs and statistics AA'!B25,"") -> 0 | D49: =IF('2. Sample pages'!B5>7,COUNTIF('4. Level AA Evaluation'!C13,Hoja4!A6)+COUNTIF('4. Level AA Evaluation'!C35,Hoja4!A6)+COUNTIF('4. Level AA Evaluation'!C57,Hoja4!A6)+COUNTIF('4. Level AA Evaluation'!C79,Hoja4!A6)+COUNTIF('4. Level AA Evaluation'!C101,Hoja4!A6)+COUNTIF('4. Level AA Evaluation'!C123,Hoja4!A6)+COUNTIF('4. Level AA Evaluation'!C145,Hoja4!A6)+COUNTIF('4. Level AA Evaluation'!C167,Hoja4!A6)+COUNTIF('4. Level AA Evaluation'!C189,Hoja4!A6)+COUNTIF('4. Level AA Evaluation'!C211,Hoja4!A6)+COUNTIF('4. Level AA Evaluation'!C233,Hoja4!A6)+COUNTIF('4. Level AA Evaluation'!C255,Hoja4!A6)+COUNTIF('4. Level AA Evaluation'!C277,Hoja4!A6)+COUNTIF('4. Level AA Evaluation'!C299,Hoja4!A6)+COUNTIF('4. Level AA Evaluation'!C387,Hoja4!A6)+COUNTIF('4. Level AA Evaluation'!C409,Hoja4!A6)+COUNTIF('4. Level AA Evaluation'!C431,Hoja4!A6)+COUNTIF('4. Level AA Evaluation'!C453,Hoja4!A6)+COUNTIF('4. Level AA Evaluation'!C475,Hoja4!A6)+COUNTIF('4. Level AA Evaluation'!C519,Hoja4!A6)+COUNTIF('4. Level AA Evaluation'!C321,Hoja4!A6)+COUNTIF('4. Level AA Evaluation'!C343,Hoja4!A6)+COUNTIF('4. Level AA Evaluation'!C365,Hoja4!A6)+COUNTIF('4. Level AA Evaluation'!C497,Hoja4!A6),"") -> 0 | E49: =IF('2. Sample pages'!B5>7,D49*100/'4.1 Graphs and statistics AA'!B25,"") -> 0 | F49: =IF('2. Sample pages'!B5>7,COUNTIF('4. Level AA Evaluation'!C13,Hoja4!A7)+COUNTIF('4. Level AA Evaluation'!C35,Hoja4!A7)+COUNTIF('4. Level AA Evaluation'!C57,Hoja4!A7)+COUNTIF('4. Level AA Evaluation'!C79,Hoja4!A7)+COUNTIF('4. Level AA Evaluation'!C101,Hoja4!A7)+COUNTIF('4. Level AA Evaluation'!C123,Hoja4!A7)+COUNTIF('4. Level AA Evaluation'!C145,Hoja4!A7)+COUNTIF('4. Level AA Evaluation'!C167,Hoja4!A7)+COUNTIF('4. Level AA Evaluation'!C189,Hoja4!A7)+COUNTIF('4. Level AA Evaluation'!C211,Hoja4!A7)+COUNTIF('4. Level AA Evaluation'!C233,Hoja4!A7)+COUNTIF('4. Level AA Evaluation'!C255,Hoja4!A7)+COUNTIF('4. Level AA Evaluation'!C277,Hoja4!A7)+COUNTIF('4. Level AA Evaluation'!C299,Hoja4!A7)+COUNTIF('4. Level AA Evaluation'!C387,Hoja4!A7)+COUNTIF('4. Level AA Evaluation'!C409,Hoja4!A7)+COUNTIF('4. Level AA Evaluation'!C431,Hoja4!A7)+COUNTIF('4. Level AA Evaluation'!C453,Hoja4!A7)+COUNTIF('4. Level AA Evaluation'!C475,Hoja4!A7)+COUNTIF('4. Level AA Evaluation'!C519,Hoja4!A7)+COUNTIF('4. Level AA Evaluation'!C321,Hoja4!A7)+COUNTIF('4. Level AA Evaluation'!C343,Hoja4!A7)+COUNTIF('4. Level AA Evaluation'!C365,Hoja4!A7)+COUNTIF('4. Level AA Evaluation'!C497,Hoja4!A7),"") -> 0 | G49: =IF('2. Sample pages'!B5>7,F49*100/'4.1 Graphs and statistics AA'!B25,"") -> 0 | H49: =IF('2. Sample pages'!B5>7,IF(ISERROR((B49*100)/('4.1 Graphs and statistics AA'!B25-F49)),0,(B49*100)/('4.1 Graphs and statistics AA'!B25-F49)),"") -> 0 | I49: =IF('2. Sample pages'!B5>7,IF(ISERROR((D49*100)/('4.1 Graphs and statistics AA'!B25-F49)),0,(D49*100)/('4.1 Graphs and statistics AA'!B25-F49)),"") -> 0
A50: ='2. Sample pages'!C16 -> Alias9 | B50: =IF('2. Sample pages'!B5>8,COUNTIF('4. Level AA Evaluation'!C14,Hoja4!A5)+COUNTIF('4. Level AA Evaluation'!C36,Hoja4!A5)+COUNTIF('4. Level AA Evaluation'!C58,Hoja4!A5)+COUNTIF('4. Level AA Evaluation'!C80,Hoja4!A5)+COUNTIF('4. Level AA Evaluation'!C102,Hoja4!A5)+COUNTIF('4. Level AA Evaluation'!C124,Hoja4!A5)+COUNTIF('4. Level AA Evaluation'!C146,Hoja4!A5)+COUNTIF('4. Level AA Evaluation'!C168,Hoja4!A5)+COUNTIF('4. Level AA Evaluation'!C190,Hoja4!A5)+COUNTIF('4. Level AA Evaluation'!C212,Hoja4!A5)+COUNTIF('4. Level AA Evaluation'!C234,Hoja4!A5)+COUNTIF('4. Level AA Evaluation'!C256,Hoja4!A5)+COUNTIF('4. Level AA Evaluation'!C278,Hoja4!A5)+COUNTIF('4. Level AA Evaluation'!C300,Hoja4!A5)+COUNTIF('4. Level AA Evaluation'!C388,Hoja4!A5)+COUNTIF('4. Level AA Evaluation'!C410,Hoja4!A5)+COUNTIF('4. Level AA Evaluation'!C432,Hoja4!A5)+COUNTIF('4. Level AA Evaluation'!C454,Hoja4!A5)+COUNTIF('4. Level AA Evaluation'!C476,Hoja4!A5)+COUNTIF('4. Level AA Evaluation'!C520,Hoja4!A5)+COUNTIF('4. Level AA Evaluation'!C322,Hoja4!A5)+COUNTIF('4. Level AA Evaluation'!C344,Hoja4!A5)+COUNTIF('4. Level AA Evaluation'!C366,Hoja4!A5)+COUNTIF('4. Level AA Evaluation'!C498,Hoja4!A5),"") -> 0 | C50: =IF('2. Sample pages'!B5>8,B50*100/'4.1 Graphs and statistics AA'!B25,"") -> 0 | D50: =IF('2. Sample pages'!B5>8,COUNTIF('4. Level AA Evaluation'!C14,Hoja4!A6)+COUNTIF('4. Level AA Evaluation'!C36,Hoja4!A6)+COUNTIF('4. Level AA Evaluation'!C58,Hoja4!A6)+COUNTIF('4. Level AA Evaluation'!C80,Hoja4!A6)+COUNTIF('4. Level AA Evaluation'!C102,Hoja4!A6)+COUNTIF('4. Level AA Evaluation'!C124,Hoja4!A6)+COUNTIF('4. Level AA Evaluation'!C146,Hoja4!A6)+COUNTIF('4. Level AA Evaluation'!C168,Hoja4!A6)+COUNTIF('4. Level AA Evaluation'!C190,Hoja4!A6)+COUNTIF('4. Level AA Evaluation'!C212,Hoja4!A6)+COUNTIF('4. Level AA Evaluation'!C234,Hoja4!A6)+COUNTIF('4. Level AA Evaluation'!C256,Hoja4!A6)+COUNTIF('4. Level AA Evaluation'!C278,Hoja4!A6)+COUNTIF('4. Level AA Evaluation'!C300,Hoja4!A6)+COUNTIF('4. Level AA Evaluation'!C388,Hoja4!A6)+COUNTIF('4. Level AA Evaluation'!C410,Hoja4!A6)+COUNTIF('4. Level AA Evaluation'!C432,Hoja4!A6)+COUNTIF('4. Level AA Evaluation'!C454,Hoja4!A6)+COUNTIF('4. Level AA Evaluation'!C476,Hoja4!A6)+COUNTIF('4. Level AA Evaluation'!C520,Hoja4!A6)+COUNTIF('4. Level AA Evaluation'!C322,Hoja4!A6)+COUNTIF('4. Level AA Evaluation'!C344,Hoja4!A6)+COUNTIF('4. Level AA Evaluation'!C366,Hoja4!A6)+COUNTIF('4. Level AA Evaluation'!C498,Hoja4!A6),"") -> 0 | E50: =IF('2. Sample pages'!B5>8,D50*100/'4.1 Graphs and statistics AA'!B25,"") -> 0 | F50: =IF('2. Sample pages'!B5>8,COUNTIF('4. Level AA Evaluation'!C14,Hoja4!A7)+COUNTIF('4. Level AA Evaluation'!C36,Hoja4!A7)+COUNTIF('4. Level AA Evaluation'!C58,Hoja4!A7)+COUNTIF('4. Level AA Evaluation'!C80,Hoja4!A7)+COUNTIF('4. Level AA Evaluation'!C102,Hoja4!A7)+COUNTIF('4. Level AA Evaluation'!C124,Hoja4!A7)+COUNTIF('4. Level AA Evaluation'!C146,Hoja4!A7)+COUNTIF('4. Level AA Evaluation'!C168,Hoja4!A7)+COUNTIF('4. Level AA Evaluation'!C190,Hoja4!A7)+COUNTIF('4. Level AA Evaluation'!C212,Hoja4!A7)+COUNTIF('4. Level AA Evaluation'!C234,Hoja4!A7)+COUNTIF('4. Level AA Evaluation'!C256,Hoja4!A7)+COUNTIF('4. Level AA Evaluation'!C278,Hoja4!A7)+COUNTIF('4. Level AA Evaluation'!C300,Hoja4!A7)+COUNTIF('4. Level AA Evaluation'!C388,Hoja4!A7)+COUNTIF('4. Level AA Evaluation'!C410,Hoja4!A7)+COUNTIF('4. Level AA Evaluation'!C432,Hoja4!A7)+COUNTIF('4. Level AA Evaluation'!C454,Hoja4!A7)+COUNTIF('4. Level AA Evaluation'!C476,Hoja4!A7)+COUNTIF('4. Level AA Evaluation'!C520,Hoja4!A7)+COUNTIF('4. Level AA Evaluation'!C322,Hoja4!A7)+COUNTIF('4. Level AA Evaluation'!C344,Hoja4!A7)+COUNTIF('4. Level AA Evaluation'!C366,Hoja4!A7)+COUNTIF('4. Level AA Evaluation'!C498,Hoja4!A7),"") -> 0 | G50: =IF('2. Sample pages'!B5>8,F50*100/'4.1 Graphs and statistics AA'!B25,"") -> 0 | H50: =IF('2. Sample pages'!B5>8,IF(ISERROR((B50*100)/('4.1 Graphs and statistics AA'!B25-F50)),0,(B50*100)/('4.1 Graphs and statistics AA'!B25-F50)),"") -> 0 | I50: =IF('2. Sample pages'!B5>8,IF(ISERROR((D50*100)/('4.1 Graphs and statistics AA'!B25-F50)),0,(D50*100)/('4.1 Graphs and statistics AA'!B25-F50)),"") -> 0
A51: ='2. Sample pages'!C17 -> Alias10 | B51: =IF('2. Sample pages'!B5>9,COUNTIF('4. Level AA Evaluation'!C15,Hoja4!A5)+COUNTIF('4. Level AA Evaluation'!C37,Hoja4!A5)+COUNTIF('4. Level AA Evaluation'!C59,Hoja4!A5)+COUNTIF('4. Level AA Evaluation'!C81,Hoja4!A5)+COUNTIF('4. Level AA Evaluation'!C103,Hoja4!A5)+COUNTIF('4. Level AA Evaluation'!C125,Hoja4!A5)+COUNTIF('4. Level AA Evaluation'!C147,Hoja4!A5)+COUNTIF('4. Level AA Evaluation'!C169,Hoja4!A5)+COUNTIF('4. Level AA Evaluation'!C191,Hoja4!A5)+COUNTIF('4. Level AA Evaluation'!C213,Hoja4!A5)+COUNTIF('4. Level AA Evaluation'!C235,Hoja4!A5)+COUNTIF('4. Level AA Evaluation'!C257,Hoja4!A5)+COUNTIF('4. Level AA Evaluation'!C279,Hoja4!A5)+COUNTIF('4. Level AA Evaluation'!C301,Hoja4!A5)+COUNTIF('4. Level AA Evaluation'!C389,Hoja4!A5)+COUNTIF('4. Level AA Evaluation'!C411,Hoja4!A5)+COUNTIF('4. Level AA Evaluation'!C433,Hoja4!A5)+COUNTIF('4. Level AA Evaluation'!C455,Hoja4!A5)+COUNTIF('4. Level AA Evaluation'!C477,Hoja4!A5)+COUNTIF('4. Level AA Evaluation'!C521,Hoja4!A5)+COUNTIF('4. Level AA Evaluation'!C323,Hoja4!A5)+COUNTIF('4. Level AA Evaluation'!C345,Hoja4!A5)+COUNTIF('4. Level AA Evaluation'!C367,Hoja4!A5)+COUNTIF('4. Level AA Evaluation'!C499,Hoja4!A5),"") -> 0 | C51: =IF('2. Sample pages'!B5>9,B51*100/'4.1 Graphs and statistics AA'!B25,"") -> 0 | D51: =IF('2. Sample pages'!B5>9,COUNTIF('4. Level AA Evaluation'!C15,Hoja4!A6)+COUNTIF('4. Level AA Evaluation'!C37,Hoja4!A6)+COUNTIF('4. Level AA Evaluation'!C59,Hoja4!A6)+COUNTIF('4. Level AA Evaluation'!C81,Hoja4!A6)+COUNTIF('4. Level AA Evaluation'!C103,Hoja4!A6)+COUNTIF('4. Level AA Evaluation'!C125,Hoja4!A6)+COUNTIF('4. Level AA Evaluation'!C147,Hoja4!A6)+COUNTIF('4. Level AA Evaluation'!C169,Hoja4!A6)+COUNTIF('4. Level AA Evaluation'!C191,Hoja4!A6)+COUNTIF('4. Level AA Evaluation'!C213,Hoja4!A6)+COUNTIF('4. Level AA Evaluation'!C235,Hoja4!A6)+COUNTIF('4. Level AA Evaluation'!C257,Hoja4!A6)+COUNTIF('4. Level AA Evaluation'!C279,Hoja4!A6)+COUNTIF('4. Level AA Evaluation'!C301,Hoja4!A6)+COUNTIF('4. Level AA Evaluation'!C389,Hoja4!A6)+COUNTIF('4. Level AA Evaluation'!C411,Hoja4!A6)+COUNTIF('4. Level AA Evaluation'!C433,Hoja4!A6)+COUNTIF('4. Level AA Evaluation'!C455,Hoja4!A6)+COUNTIF('4. Level AA Evaluation'!C477,Hoja4!A6)+COUNTIF('4. Level AA Evaluation'!C521,Hoja4!A6)+COUNTIF('4. Level AA Evaluation'!C323,Hoja4!A6)+COUNTIF('4. Level AA Evaluation'!C345,Hoja4!A6)+COUNTIF('4. Level AA Evaluation'!C367,Hoja4!A6)+COUNTIF('4. Level AA Evaluation'!C499,Hoja4!A6),"") -> 0 | E51: =IF('2. Sample pages'!B5>9,D51*100/'4.1 Graphs and statistics AA'!B25,"") -> 0 | F51: =IF('2. Sample pages'!B5>9,COUNTIF('4. Level AA Evaluation'!C15,Hoja4!A7)+COUNTIF('4. Level AA Evaluation'!C37,Hoja4!A7)+COUNTIF('4. Level AA Evaluation'!C59,Hoja4!A7)+COUNTIF('4. Level AA Evaluation'!C81,Hoja4!A7)+COUNTIF('4. Level AA Evaluation'!C103,Hoja4!A7)+COUNTIF('4. Level AA Evaluation'!C125,Hoja4!A7)+COUNTIF('4. Level AA Evaluation'!C147,Hoja4!A7)+COUNTIF('4. Level AA Evaluation'!C169,Hoja4!A7)+COUNTIF('4. Level AA Evaluation'!C191,Hoja4!A7)+COUNTIF('4. Level AA Evaluation'!C213,Hoja4!A7)+COUNTIF('4. Level AA Evaluation'!C235,Hoja4!A7)+COUNTIF('4. Level AA Evaluation'!C257,Hoja4!A7)+COUNTIF('4. Level AA Evaluation'!C279,Hoja4!A7)+COUNTIF('4. Level AA Evaluation'!C301,Hoja4!A7)+COUNTIF('4. Level AA Evaluation'!C389,Hoja4!A7)+COUNTIF('4. Level AA Evaluation'!C411,Hoja4!A7)+COUNTIF('4. Level AA Evaluation'!C433,Hoja4!A7)+COUNTIF('4. Level AA Evaluation'!C455,Hoja4!A7)+COUNTIF('4. Level AA Evaluation'!C477,Hoja4!A7)+COUNTIF('4. Level AA Evaluation'!C521,Hoja4!A7)+COUNTIF('4. Level AA Evaluation'!C323,Hoja4!A7)+COUNTIF('4. Level AA Evaluation'!C345,Hoja4!A7)+COUNTIF('4. Level AA Evaluation'!C367,Hoja4!A7)+COUNTIF('4. Level AA Evaluation'!C499,Hoja4!A7),"") -> 0 | G51: =IF('2. Sample pages'!B5>9,F51*100/'4.1 Graphs and statistics AA'!B25,"") -> 0 | H51: =IF('2. Sample pages'!B5>9,IF(ISERROR((B51*100)/('4.1 Graphs and statistics AA'!B25-F51)),0,(B51*100)/('4.1 Graphs and statistics AA'!B25-F51)),"") -> 0 | I51: =IF('2. Sample pages'!B5>9,IF(ISERROR((D51*100)/('4.1 Graphs and statistics AA'!B25-F51)),0,(D51*100)/('4.1 Graphs and statistics AA'!B25-F51)),"") -> 0
A52: ='2. Sample pages'!C18 -> Alias11 | B52: =IF('2. Sample pages'!B5>10,COUNTIF('4. Level AA Evaluation'!C16,Hoja4!A5)+COUNTIF('4. Level AA Evaluation'!C38,Hoja4!A5)+COUNTIF('4. Level AA Evaluation'!C60,Hoja4!A5)+COUNTIF('4. Level AA Evaluation'!C82,Hoja4!A5)+COUNTIF('4. Level AA Evaluation'!C104,Hoja4!A5)+COUNTIF('4. Level AA Evaluation'!C126,Hoja4!A5)+COUNTIF('4. Level AA Evaluation'!C148,Hoja4!A5)+COUNTIF('4. Level AA Evaluation'!C170,Hoja4!A5)+COUNTIF('4. Level AA Evaluation'!C192,Hoja4!A5)+COUNTIF('4. Level AA Evaluation'!C214,Hoja4!A5)+COUNTIF('4. Level AA Evaluation'!C236,Hoja4!A5)+COUNTIF('4. Level AA Evaluation'!C258,Hoja4!A5)+COUNTIF('4. Level AA Evaluation'!C280,Hoja4!A5)+COUNTIF('4. Level AA Evaluation'!C302,Hoja4!A5)+COUNTIF('4. Level AA Evaluation'!C390,Hoja4!A5)+COUNTIF('4. Level AA Evaluation'!C412,Hoja4!A5)+COUNTIF('4. Level AA Evaluation'!C434,Hoja4!A5)+COUNTIF('4. Level AA Evaluation'!C456,Hoja4!A5)+COUNTIF('4. Level AA Evaluation'!C478,Hoja4!A5)+COUNTIF('4. Level AA Evaluation'!C522,Hoja4!A5)+COUNTIF('4. Level AA Evaluation'!C324,Hoja4!A5)+COUNTIF('4. Level AA Evaluation'!C346,Hoja4!A5)+COUNTIF('4. Level AA Evaluation'!C368,Hoja4!A5)+COUNTIF('4. Level AA Evaluation'!C500,Hoja4!A5),"") -> 0 | C52: =IF('2. Sample pages'!B5>10,B52*100/'4.1 Graphs and statistics AA'!B25,"") -> 0 | D52: =IF('2. Sample pages'!B5>10,COUNTIF('4. Level AA Evaluation'!C16,Hoja4!A6)+COUNTIF('4. Level AA Evaluation'!C38,Hoja4!A6)+COUNTIF('4. Level AA Evaluation'!C60,Hoja4!A6)+COUNTIF('4. Level AA Evaluation'!C82,Hoja4!A6)+COUNTIF('4. Level AA Evaluation'!C104,Hoja4!A6)+COUNTIF('4. Level AA Evaluation'!C126,Hoja4!A6)+COUNTIF('4. Level AA Evaluation'!C148,Hoja4!A6)+COUNTIF('4. Level AA Evaluation'!C170,Hoja4!A6)+COUNTIF('4. Level AA Evaluation'!C192,Hoja4!A6)+COUNTIF('4. Level AA Evaluation'!C214,Hoja4!A6)+COUNTIF('4. Level AA Evaluation'!C236,Hoja4!A6)+COUNTIF('4. Level AA Evaluation'!C258,Hoja4!A6)+COUNTIF('4. Level AA Evaluation'!C280,Hoja4!A6)+COUNTIF('4. Level AA Evaluation'!C302,Hoja4!A6)+COUNTIF('4. Level AA Evaluation'!C390,Hoja4!A6)+COUNTIF('4. Level AA Evaluation'!C412,Hoja4!A6)+COUNTIF('4. Level AA Evaluation'!C434,Hoja4!A6)+COUNTIF('4. Level AA Evaluation'!C456,Hoja4!A6)+COUNTIF('4. Level AA Evaluation'!C478,Hoja4!A6)+COUNTIF('4. Level AA Evaluation'!C522,Hoja4!A6)+COUNTIF('4. Level AA Evaluation'!C324,Hoja4!A6)+COUNTIF('4. Level AA Evaluation'!C346,Hoja4!A6)+COUNTIF('4. Level AA Evaluation'!C368,Hoja4!A6)+COUNTIF('4. Level AA Evaluation'!C500,Hoja4!A6),"") -> 0 | E52: =IF('2. Sample pages'!B5>10,D52*100/'4.1 Graphs and statistics AA'!B25,"") -> 0 | F52: =IF('2. Sample pages'!B5>10,COUNTIF('4. Level AA Evaluation'!C16,Hoja4!A7)+COUNTIF('4. Level AA Evaluation'!C38,Hoja4!A7)+COUNTIF('4. Level AA Evaluation'!C60,Hoja4!A7)+COUNTIF('4. Level AA Evaluation'!C82,Hoja4!A7)+COUNTIF('4. Level AA Evaluation'!C104,Hoja4!A7)+COUNTIF('4. Level AA Evaluation'!C126,Hoja4!A7)+COUNTIF('4. Level AA Evaluation'!C148,Hoja4!A7)+COUNTIF('4. Level AA Evaluation'!C170,Hoja4!A7)+COUNTIF('4. Level AA Evaluation'!C192,Hoja4!A7)+COUNTIF('4. Level AA Evaluation'!C214,Hoja4!A7)+COUNTIF('4. Level AA Evaluation'!C236,Hoja4!A7)+COUNTIF('4. Level AA Evaluation'!C258,Hoja4!A7)+COUNTIF('4. Level AA Evaluation'!C280,Hoja4!A7)+COUNTIF('4. Level AA Evaluation'!C302,Hoja4!A7)+COUNTIF('4. Level AA Evaluation'!C390,Hoja4!A7)+COUNTIF('4. Level AA Evaluation'!C412,Hoja4!A7)+COUNTIF('4. Level AA Evaluation'!C434,Hoja4!A7)+COUNTIF('4. Level AA Evaluation'!C456,Hoja4!A7)+COUNTIF('4. Level AA Evaluation'!C478,Hoja4!A7)+COUNTIF('4. Level AA Evaluation'!C522,Hoja4!A7)+COUNTIF('4. Level AA Evaluation'!C324,Hoja4!A7)+COUNTIF('4. Level AA Evaluation'!C346,Hoja4!A7)+COUNTIF('4. Level AA Evaluation'!C368,Hoja4!A7)+COUNTIF('4. Level AA Evaluation'!C500,Hoja4!A7),"") -> 0 | G52: =IF('2. Sample pages'!B5>10,F52*100/'4.1 Graphs and statistics AA'!B25,"") -> 0 | H52: =IF('2. Sample pages'!B5>10,IF(ISERROR((B52*100)/('4.1 Graphs and statistics AA'!B25-F52)),0,(B52*100)/('4.1 Graphs and statistics AA'!B25-F52)),"") -> 0 | I52: =IF('2. Sample pages'!B5>10,IF(ISERROR((D52*100)/('4.1 Graphs and statistics AA'!B25-F52)),0,(D52*100)/('4.1 Graphs and statistics AA'!B25-F52)),"") -> 0
A53: ='2. Sample pages'!C19 -> Alias12 | B53: =IF('2. Sample pages'!B5>11,COUNTIF('4. Level AA Evaluation'!C17,Hoja4!A5)+COUNTIF('4. Level AA Evaluation'!C39,Hoja4!A5)+COUNTIF('4. Level AA Evaluation'!C61,Hoja4!A5)+COUNTIF('4. Level AA Evaluation'!C83,Hoja4!A5)+COUNTIF('4. Level AA Evaluation'!C105,Hoja4!A5)+COUNTIF('4. Level AA Evaluation'!C127,Hoja4!A5)+COUNTIF('4. Level AA Evaluation'!C149,Hoja4!A5)+COUNTIF('4. Level AA Evaluation'!C171,Hoja4!A5)+COUNTIF('4. Level AA Evaluation'!C193,Hoja4!A5)+COUNTIF('4. Level AA Evaluation'!C215,Hoja4!A5)+COUNTIF('4. Level AA Evaluation'!C237,Hoja4!A5)+COUNTIF('4. Level AA Evaluation'!C259,Hoja4!A5)+COUNTIF('4. Level AA Evaluation'!C281,Hoja4!A5)+COUNTIF('4. Level AA Evaluation'!C303,Hoja4!A5)+COUNTIF('4. Level AA Evaluation'!C391,Hoja4!A5)+COUNTIF('4. Level AA Evaluation'!C413,Hoja4!A5)+COUNTIF('4. Level AA Evaluation'!C435,Hoja4!A5)+COUNTIF('4. Level AA Evaluation'!C457,Hoja4!A5)+COUNTIF('4. Level AA Evaluation'!C479,Hoja4!A5)+COUNTIF('4. Level AA Evaluation'!C523,Hoja4!A5)+COUNTIF('4. Level AA Evaluation'!C325,Hoja4!A5)+COUNTIF('4. Level AA Evaluation'!C347,Hoja4!A5)+COUNTIF('4. Level AA Evaluation'!C369,Hoja4!A5)+COUNTIF('4. Level AA Evaluation'!C501,Hoja4!A5),"") -> 0 | C53: =IF('2. Sample pages'!B5>11,B53*100/'4.1 Graphs and statistics AA'!B25,"") -> 0 | D53: =IF('2. Sample pages'!B5>11,COUNTIF('4. Level AA Evaluation'!C17,Hoja4!A6)+COUNTIF('4. Level AA Evaluation'!C39,Hoja4!A6)+COUNTIF('4. Level AA Evaluation'!C61,Hoja4!A6)+COUNTIF('4. Level AA Evaluation'!C83,Hoja4!A6)+COUNTIF('4. Level AA Evaluation'!C105,Hoja4!A6)+COUNTIF('4. Level AA Evaluation'!C127,Hoja4!A6)+COUNTIF('4. Level AA Evaluation'!C149,Hoja4!A6)+COUNTIF('4. Level AA Evaluation'!C171,Hoja4!A6)+COUNTIF('4. Level AA Evaluation'!C193,Hoja4!A6)+COUNTIF('4. Level AA Evaluation'!C215,Hoja4!A6)+COUNTIF('4. Level AA Evaluation'!C237,Hoja4!A6)+COUNTIF('4. Level AA Evaluation'!C259,Hoja4!A6)+COUNTIF('4. Level AA Evaluation'!C281,Hoja4!A6)+COUNTIF('4. Level AA Evaluation'!C303,Hoja4!A6)+COUNTIF('4. Level AA Evaluation'!C391,Hoja4!A6)+COUNTIF('4. Level AA Evaluation'!C413,Hoja4!A6)+COUNTIF('4. Level AA Evaluation'!C435,Hoja4!A6)+COUNTIF('4. Level AA Evaluation'!C457,Hoja4!A6)+COUNTIF('4. Level AA Evaluation'!C479,Hoja4!A6)+COUNTIF('4. Level AA Evaluation'!C523,Hoja4!A6)+COUNTIF('4. Level AA Evaluation'!C325,Hoja4!A6)+COUNTIF('4. Level AA Evaluation'!C347,Hoja4!A6)+COUNTIF('4. Level AA Evaluation'!C369,Hoja4!A6)+COUNTIF('4. Level AA Evaluation'!C501,Hoja4!A6),"") -> 0 | E53: =IF('2. Sample pages'!B5>11,D53*100/'4.1 Graphs and statistics AA'!B25,"") -> 0 | F53: =IF('2. Sample pages'!B5>11,COUNTIF('4. Level AA Evaluation'!C17,Hoja4!A7)+COUNTIF('4. Level AA Evaluation'!C39,Hoja4!A7)+COUNTIF('4. Level AA Evaluation'!C61,Hoja4!A7)+COUNTIF('4. Level AA Evaluation'!C83,Hoja4!A7)+COUNTIF('4. Level AA Evaluation'!C105,Hoja4!A7)+COUNTIF('4. Level AA Evaluation'!C127,Hoja4!A7)+COUNTIF('4. Level AA Evaluation'!C149,Hoja4!A7)+COUNTIF('4. Level AA Evaluation'!C171,Hoja4!A7)+COUNTIF('4. Level AA Evaluation'!C193,Hoja4!A7)+COUNTIF('4. Level AA Evaluation'!C215,Hoja4!A7)+COUNTIF('4. Level AA Evaluation'!C237,Hoja4!A7)+COUNTIF('4. Level AA Evaluation'!C259,Hoja4!A7)+COUNTIF('4. Level AA Evaluation'!C281,Hoja4!A7)+COUNTIF('4. Level AA Evaluation'!C303,Hoja4!A7)+COUNTIF('4. Level AA Evaluation'!C391,Hoja4!A7)+COUNTIF('4. Level AA Evaluation'!C413,Hoja4!A7)+COUNTIF('4. Level AA Evaluation'!C435,Hoja4!A7)+COUNTIF('4. Level AA Evaluation'!C457,Hoja4!A7)+COUNTIF('4. Level AA Evaluation'!C479,Hoja4!A7)+COUNTIF('4. Level AA Evaluation'!C523,Hoja4!A7)+COUNTIF('4. Level AA Evaluation'!C325,Hoja4!A7)+COUNTIF('4. Level AA Evaluation'!C347,Hoja4!A7)+COUNTIF('4. Level AA Evaluation'!C369,Hoja4!A7)+COUNTIF('4. Level AA Evaluation'!C501,Hoja4!A7),"") -> 0 | G53: =IF('2. Sample pages'!B5>11,F53*100/'4.1 Graphs and statistics AA'!B25,"") -> 0 | H53: =IF('2. Sample pages'!B5>11,IF(ISERROR((B53*100)/('4.1 Graphs and statistics AA'!B25-F53)),0,(B53*100)/('4.1 Graphs and statistics AA'!B25-F53)),"") -> 0 | I53: =IF('2. Sample pages'!B5>11,IF(ISERROR((D53*100)/('4.1 Graphs and statistics AA'!B25-F53)),0,(D53*100)/('4.1 Graphs and statistics AA'!B25-F53)),"") -> 0
A54: ='2. Sample pages'!C20 -> Alias13 | B54: =IF('2. Sample pages'!B5>12,COUNTIF('4. Level AA Evaluation'!C18,Hoja4!A5)+COUNTIF('4. Level AA Evaluation'!C40,Hoja4!A5)+COUNTIF('4. Level AA Evaluation'!C62,Hoja4!A5)+COUNTIF('4. Level AA Evaluation'!C84,Hoja4!A5)+COUNTIF('4. Level AA Evaluation'!C106,Hoja4!A5)+COUNTIF('4. Level AA Evaluation'!C128,Hoja4!A5)+COUNTIF('4. Level AA Evaluation'!C150,Hoja4!A5)+COUNTIF('4. Level AA Evaluation'!C172,Hoja4!A5)+COUNTIF('4. Level AA Evaluation'!C194,Hoja4!A5)+COUNTIF('4. Level AA Evaluation'!C216,Hoja4!A5)+COUNTIF('4. Level AA Evaluation'!C238,Hoja4!A5)+COUNTIF('4. Level AA Evaluation'!C260,Hoja4!A5)+COUNTIF('4. Level AA Evaluation'!C282,Hoja4!A5)+COUNTIF('4. Level AA Evaluation'!C304,Hoja4!A5)+COUNTIF('4. Level AA Evaluation'!C392,Hoja4!A5)+COUNTIF('4. Level AA Evaluation'!C414,Hoja4!A5)+COUNTIF('4. Level AA Evaluation'!C436,Hoja4!A5)+COUNTIF('4. Level AA Evaluation'!C458,Hoja4!A5)+COUNTIF('4. Level AA Evaluation'!C480,Hoja4!A5)+COUNTIF('4. Level AA Evaluation'!C524,Hoja4!A5)+COUNTIF('4. Level AA Evaluation'!C326,Hoja4!A5)+COUNTIF('4. Level AA Evaluation'!C348,Hoja4!A5)+COUNTIF('4. Level AA Evaluation'!C370,Hoja4!A5)+COUNTIF('4. Level AA Evaluation'!C502,Hoja4!A5),"") -> 0 | C54: =IF('2. Sample pages'!B5>12,B54*100/'4.1 Graphs and statistics AA'!B25,"") -> 0 | D54: =IF('2. Sample pages'!B5>12,COUNTIF('4. Level AA Evaluation'!C18,Hoja4!A6)+COUNTIF('4. Level AA Evaluation'!C40,Hoja4!A6)+COUNTIF('4. Level AA Evaluation'!C62,Hoja4!A6)+COUNTIF('4. Level AA Evaluation'!C84,Hoja4!A6)+COUNTIF('4. Level AA Evaluation'!C106,Hoja4!A6)+COUNTIF('4. Level AA Evaluation'!C128,Hoja4!A6)+COUNTIF('4. Level AA Evaluation'!C150,Hoja4!A6)+COUNTIF('4. Level AA Evaluation'!C172,Hoja4!A6)+COUNTIF('4. Level AA Evaluation'!C194,Hoja4!A6)+COUNTIF('4. Level AA Evaluation'!C216,Hoja4!A6)+COUNTIF('4. Level AA Evaluation'!C238,Hoja4!A6)+COUNTIF('4. Level AA Evaluation'!C260,Hoja4!A6)+COUNTIF('4. Level AA Evaluation'!C282,Hoja4!A6)+COUNTIF('4. Level AA Evaluation'!C304,Hoja4!A6)+COUNTIF('4. Level AA Evaluation'!C392,Hoja4!A6)+COUNTIF('4. Level AA Evaluation'!C414,Hoja4!A6)+COUNTIF('4. Level AA Evaluation'!C436,Hoja4!A6)+COUNTIF('4. Level AA Evaluation'!C458,Hoja4!A6)+COUNTIF('4. Level AA Evaluation'!C480,Hoja4!A6)+COUNTIF('4. Level AA Evaluation'!C524,Hoja4!A6)+COUNTIF('4. Level AA Evaluation'!C326,Hoja4!A6)+COUNTIF('4. Level AA Evaluation'!C348,Hoja4!A6)+COUNTIF('4. Level AA Evaluation'!C370,Hoja4!A6)+COUNTIF('4. Level AA Evaluation'!C502,Hoja4!A6),"") -> 0 | E54: =IF('2. Sample pages'!B5>12,D54*100/'4.1 Graphs and statistics AA'!B25,"") -> 0 | F54: =IF('2. Sample pages'!B5>12,COUNTIF('4. Level AA Evaluation'!C18,Hoja4!A7)+COUNTIF('4. Level AA Evaluation'!C40,Hoja4!A7)+COUNTIF('4. Level AA Evaluation'!C62,Hoja4!A7)+COUNTIF('4. Level AA Evaluation'!C84,Hoja4!A7)+COUNTIF('4. Level AA Evaluation'!C106,Hoja4!A7)+COUNTIF('4. Level AA Evaluation'!C128,Hoja4!A7)+COUNTIF('4. Level AA Evaluation'!C150,Hoja4!A7)+COUNTIF('4. Level AA Evaluation'!C172,Hoja4!A7)+COUNTIF('4. Level AA Evaluation'!C194,Hoja4!A7)+COUNTIF('4. Level AA Evaluation'!C216,Hoja4!A7)+COUNTIF('4. Level AA Evaluation'!C238,Hoja4!A7)+COUNTIF('4. Level AA Evaluation'!C260,Hoja4!A7)+COUNTIF('4. Level AA Evaluation'!C282,Hoja4!A7)+COUNTIF('4. Level AA Evaluation'!C304,Hoja4!A7)+COUNTIF('4. Level AA Evaluation'!C392,Hoja4!A7)+COUNTIF('4. Level AA Evaluation'!C414,Hoja4!A7)+COUNTIF('4. Level AA Evaluation'!C436,Hoja4!A7)+COUNTIF('4. Level AA Evaluation'!C458,Hoja4!A7)+COUNTIF('4. Level AA Evaluation'!C480,Hoja4!A7)+COUNTIF('4. Level AA Evaluation'!C524,Hoja4!A7)+COUNTIF('4. Level AA Evaluation'!C326,Hoja4!A7)+COUNTIF('4. Level AA Evaluation'!C348,Hoja4!A7)+COUNTIF('4. Level AA Evaluation'!C370,Hoja4!A7)+COUNTIF('4. Level AA Evaluation'!C502,Hoja4!A7),"") -> 0 | G54: =IF('2. Sample pages'!B5>12,F54*100/'4.1 Graphs and statistics AA'!B25,"") -> 0 | H54: =IF('2. Sample pages'!B5>12,IF(ISERROR((B54*100)/('4.1 Graphs and statistics AA'!B25-F54)),0,(B54*100)/('4.1 Graphs and statistics AA'!B25-F54)),"") -> 0 | I54: =IF('2. Sample pages'!B5>12,IF(ISERROR((D54*100)/('4.1 Graphs and statistics AA'!B25-F54)),0,(D54*100)/('4.1 Graphs and statistics AA'!B25-F54)),"") -> 0
A55: ='2. Sample pages'!C21 -> Alias14 | B55: =IF('2. Sample pages'!B5>13,COUNTIF('4. Level AA Evaluation'!C19,Hoja4!A5)+COUNTIF('4. Level AA Evaluation'!C41,Hoja4!A5)+COUNTIF('4. Level AA Evaluation'!C63,Hoja4!A5)+COUNTIF('4. Level AA Evaluation'!C85,Hoja4!A5)+COUNTIF('4. Level AA Evaluation'!C107,Hoja4!A5)+COUNTIF('4. Level AA Evaluation'!C129,Hoja4!A5)+COUNTIF('4. Level AA Evaluation'!C151,Hoja4!A5)+COUNTIF('4. Level AA Evaluation'!C173,Hoja4!A5)+COUNTIF('4. Level AA Evaluation'!C195,Hoja4!A5)+COUNTIF('4. Level AA Evaluation'!C217,Hoja4!A5)+COUNTIF('4. Level AA Evaluation'!C239,Hoja4!A5)+COUNTIF('4. Level AA Evaluation'!C261,Hoja4!A5)+COUNTIF('4. Level AA Evaluation'!C283,Hoja4!A5)+COUNTIF('4. Level AA Evaluation'!C305,Hoja4!A5)+COUNTIF('4. Level AA Evaluation'!C393,Hoja4!A5)+COUNTIF('4. Level AA Evaluation'!C415,Hoja4!A5)+COUNTIF('4. Level AA Evaluation'!C437,Hoja4!A5)+COUNTIF('4. Level AA Evaluation'!C459,Hoja4!A5)+COUNTIF('4. Level AA Evaluation'!C481,Hoja4!A5)+COUNTIF('4. Level AA Evaluation'!C525,Hoja4!A5)+COUNTIF('4. Level AA Evaluation'!C327,Hoja4!A5)+COUNTIF('4. Level AA Evaluation'!C349,Hoja4!A5)+COUNTIF('4. Level AA Evaluation'!C371,Hoja4!A5)+COUNTIF('4. Level AA Evaluation'!C503,Hoja4!A5),"") -> 0 | C55: =IF('2. Sample pages'!B5>13,B55*100/'4.1 Graphs and statistics AA'!B25,"") -> 0 | D55: =IF('2. Sample pages'!B5>13,COUNTIF('4. Level AA Evaluation'!C19,Hoja4!A6)+COUNTIF('4. Level AA Evaluation'!C41,Hoja4!A6)+COUNTIF('4. Level AA Evaluation'!C63,Hoja4!A6)+COUNTIF('4. Level AA Evaluation'!C85,Hoja4!A6)+COUNTIF('4. Level AA Evaluation'!C107,Hoja4!A6)+COUNTIF('4. Level AA Evaluation'!C129,Hoja4!A6)+COUNTIF('4. Level AA Evaluation'!C151,Hoja4!A6)+COUNTIF('4. Level AA Evaluation'!C173,Hoja4!A6)+COUNTIF('4. Level AA Evaluation'!C195,Hoja4!A6)+COUNTIF('4. Level AA Evaluation'!C217,Hoja4!A6)+COUNTIF('4. Level AA Evaluation'!C239,Hoja4!A6)+COUNTIF('4. Level AA Evaluation'!C261,Hoja4!A6)+COUNTIF('4. Level AA Evaluation'!C283,Hoja4!A6)+COUNTIF('4. Level AA Evaluation'!C305,Hoja4!A6)+COUNTIF('4. Level AA Evaluation'!C393,Hoja4!A6)+COUNTIF('4. Level AA Evaluation'!C415,Hoja4!A6)+COUNTIF('4. Level AA Evaluation'!C437,Hoja4!A6)+COUNTIF('4. Level AA Evaluation'!C459,Hoja4!A6)+COUNTIF('4. Level AA Evaluation'!C481,Hoja4!A6)+COUNTIF('4. Level AA Evaluation'!C525,Hoja4!A6)+COUNTIF('4. Level AA Evaluation'!C327,Hoja4!A6)+COUNTIF('4. Level AA Evaluation'!C349,Hoja4!A6)+COUNTIF('4. Level AA Evaluation'!C371,Hoja4!A6)+COUNTIF('4. Level AA Evaluation'!C503,Hoja4!A6),"") -> 0 | E55: =IF('2. Sample pages'!B5>13,D55*100/'4.1 Graphs and statistics AA'!B25,"") -> 0 | F55: =IF('2. Sample pages'!B5>13,COUNTIF('4. Level AA Evaluation'!C19,Hoja4!A7)+COUNTIF('4. Level AA Evaluation'!C41,Hoja4!A7)+COUNTIF('4. Level AA Evaluation'!C63,Hoja4!A7)+COUNTIF('4. Level AA Evaluation'!C85,Hoja4!A7)+COUNTIF('4. Level AA Evaluation'!C107,Hoja4!A7)+COUNTIF('4. Level AA Evaluation'!C129,Hoja4!A7)+COUNTIF('4. Level AA Evaluation'!C151,Hoja4!A7)+COUNTIF('4. Level AA Evaluation'!C173,Hoja4!A7)+COUNTIF('4. Level AA Evaluation'!C195,Hoja4!A7)+COUNTIF('4. Level AA Evaluation'!C217,Hoja4!A7)+COUNTIF('4. Level AA Evaluation'!C239,Hoja4!A7)+COUNTIF('4. Level AA Evaluation'!C261,Hoja4!A7)+COUNTIF('4. Level AA Evaluation'!C283,Hoja4!A7)+COUNTIF('4. Level AA Evaluation'!C305,Hoja4!A7)+COUNTIF('4. Level AA Evaluation'!C393,Hoja4!A7)+COUNTIF('4. Level AA Evaluation'!C415,Hoja4!A7)+COUNTIF('4. Level AA Evaluation'!C437,Hoja4!A7)+COUNTIF('4. Level AA Evaluation'!C459,Hoja4!A7)+COUNTIF('4. Level AA Evaluation'!C481,Hoja4!A7)+COUNTIF('4. Level AA Evaluation'!C525,Hoja4!A7)+COUNTIF('4. Level AA Evaluation'!C327,Hoja4!A7)+COUNTIF('4. Level AA Evaluation'!C349,Hoja4!A7)+COUNTIF('4. Level AA Evaluation'!C371,Hoja4!A7)+COUNTIF('4. Level AA Evaluation'!C503,Hoja4!A7),"") -> 0 | G55: =IF('2. Sample pages'!B5>13,F55*100/'4.1 Graphs and statistics AA'!B25,"") -> 0 | H55: =IF('2. Sample pages'!B5>13,IF(ISERROR((B55*100)/('4.1 Graphs and statistics AA'!B25-F55)),0,(B55*100)/('4.1 Graphs and statistics AA'!B25-F55)),"") -> 0 | I55: =IF('2. Sample pages'!B5>13,IF(ISERROR((D55*100)/('4.1 Graphs and statistics AA'!B25-F55)),0,(D55*100)/('4.1 Graphs and statistics AA'!B25-F55)),"") -> 0
A56: ='2. Sample pages'!C22 -> Alias15 | B56: =IF('2. Sample pages'!B5>14,COUNTIF('4. Level AA Evaluation'!C20,Hoja4!A5)+COUNTIF('4. Level AA Evaluation'!C42,Hoja4!A5)+COUNTIF('4. Level AA Evaluation'!C64,Hoja4!A5)+COUNTIF('4. Level AA Evaluation'!C86,Hoja4!A5)+COUNTIF('4. Level AA Evaluation'!C108,Hoja4!A5)+COUNTIF('4. Level AA Evaluation'!C130,Hoja4!A5)+COUNTIF('4. Level AA Evaluation'!C152,Hoja4!A5)+COUNTIF('4. Level AA Evaluation'!C174,Hoja4!A5)+COUNTIF('4. Level AA Evaluation'!C196,Hoja4!A5)+COUNTIF('4. Level AA Evaluation'!C218,Hoja4!A5)+COUNTIF('4. Level AA Evaluation'!C240,Hoja4!A5)+COUNTIF('4. Level AA Evaluation'!C262,Hoja4!A5)+COUNTIF('4. Level AA Evaluation'!C284,Hoja4!A5)+COUNTIF('4. Level AA Evaluation'!C306,Hoja4!A5)+COUNTIF('4. Level AA Evaluation'!C394,Hoja4!A5)+COUNTIF('4. Level AA Evaluation'!C416,Hoja4!A5)+COUNTIF('4. Level AA Evaluation'!C438,Hoja4!A5)+COUNTIF('4. Level AA Evaluation'!C460,Hoja4!A5)+COUNTIF('4. Level AA Evaluation'!C482,Hoja4!A5)+COUNTIF('4. Level AA Evaluation'!C526,Hoja4!A5)+COUNTIF('4. Level AA Evaluation'!C328,Hoja4!A5)+COUNTIF('4. Level AA Evaluation'!C350,Hoja4!A5)+COUNTIF('4. Level AA Evaluation'!C372,Hoja4!A5)+COUNTIF('4. Level AA Evaluation'!C504,Hoja4!A5),"") -> 0 | C56: =IF('2. Sample pages'!B5>14,B56*100/'4.1 Graphs and statistics AA'!B25,"") -> 0 | D56: =IF('2. Sample pages'!B5>14,COUNTIF('4. Level AA Evaluation'!C20,Hoja4!A6)+COUNTIF('4. Level AA Evaluation'!C42,Hoja4!A6)+COUNTIF('4. Level AA Evaluation'!C64,Hoja4!A6)+COUNTIF('4. Level AA Evaluation'!C86,Hoja4!A6)+COUNTIF('4. Level AA Evaluation'!C108,Hoja4!A6)+COUNTIF('4. Level AA Evaluation'!C130,Hoja4!A6)+COUNTIF('4. Level AA Evaluation'!C152,Hoja4!A6)+COUNTIF('4. Level AA Evaluation'!C174,Hoja4!A6)+COUNTIF('4. Level AA Evaluation'!C196,Hoja4!A6)+COUNTIF('4. Level AA Evaluation'!C218,Hoja4!A6)+COUNTIF('4. Level AA Evaluation'!C240,Hoja4!A6)+COUNTIF('4. Level AA Evaluation'!C262,Hoja4!A6)+COUNTIF('4. Level AA Evaluation'!C284,Hoja4!A6)+COUNTIF('4. Level AA Evaluation'!C306,Hoja4!A6)+COUNTIF('4. Level AA Evaluation'!C394,Hoja4!A6)+COUNTIF('4. Level AA Evaluation'!C416,Hoja4!A6)+COUNTIF('4. Level AA Evaluation'!C438,Hoja4!A6)+COUNTIF('4. Level AA Evaluation'!C460,Hoja4!A6)+COUNTIF('4. Level AA Evaluation'!C482,Hoja4!A6)+COUNTIF('4. Level AA Evaluation'!C526,Hoja4!A6)+COUNTIF('4. Level AA Evaluation'!C328,Hoja4!A6)+COUNTIF('4. Level AA Evaluation'!C350,Hoja4!A6)+COUNTIF('4. Level AA Evaluation'!C372,Hoja4!A6)+COUNTIF('4. Level AA Evaluation'!C504,Hoja4!A6),"") -> 0 | E56: =IF('2. Sample pages'!B5>14,D56*100/'4.1 Graphs and statistics AA'!B25,"") -> 0 | F56: =IF('2. Sample pages'!B5>14,COUNTIF('4. Level AA Evaluation'!C20,Hoja4!A7)+COUNTIF('4. Level AA Evaluation'!C42,Hoja4!A7)+COUNTIF('4. Level AA Evaluation'!C64,Hoja4!A7)+COUNTIF('4. Level AA Evaluation'!C86,Hoja4!A7)+COUNTIF('4. Level AA Evaluation'!C108,Hoja4!A7)+COUNTIF('4. Level AA Evaluation'!C130,Hoja4!A7)+COUNTIF('4. Level AA Evaluation'!C152,Hoja4!A7)+COUNTIF('4. Level AA Evaluation'!C174,Hoja4!A7)+COUNTIF('4. Level AA Evaluation'!C196,Hoja4!A7)+COUNTIF('4. Level AA Evaluation'!C218,Hoja4!A7)+COUNTIF('4. Level AA Evaluation'!C240,Hoja4!A7)+COUNTIF('4. Level AA Evaluation'!C262,Hoja4!A7)+COUNTIF('4. Level AA Evaluation'!C284,Hoja4!A7)+COUNTIF('4. Level AA Evaluation'!C306,Hoja4!A7)+COUNTIF('4. Level AA Evaluation'!C394,Hoja4!A7)+COUNTIF('4. Level AA Evaluation'!C416,Hoja4!A7)+COUNTIF('4. Level AA Evaluation'!C438,Hoja4!A7)+COUNTIF('4. Level AA Evaluation'!C460,Hoja4!A7)+COUNTIF('4. Level AA Evaluation'!C482,Hoja4!A7)+COUNTIF('4. Level AA Evaluation'!C526,Hoja4!A7)+COUNTIF('4. Level AA Evaluation'!C328,Hoja4!A7)+COUNTIF('4. Level AA Evaluation'!C350,Hoja4!A7)+COUNTIF('4. Level AA Evaluation'!C372,Hoja4!A7)+COUNTIF('4. Level AA Evaluation'!C504,Hoja4!A7),"") -> 0 | G56: =IF('2. Sample pages'!B5>14,F56*100/'4.1 Graphs and statistics AA'!B25,"") -> 0 | H56: =IF('2. Sample pages'!B5>14,IF(ISERROR((B56*100)/('4.1 Graphs and statistics AA'!B25-F56)),0,(B56*100)/('4.1 Graphs and statistics AA'!B25-F56)),"") -> 0 | I56: =IF('2. Sample pages'!B5>14,IF(ISERROR((D56*100)/('4.1 Graphs and statistics AA'!B25-F56)),0,(D56*100)/('4.1 Graphs and statistics AA'!B25-F56)),"") -> 0
A59: Actual AA results (A+AA)
B61: Meets | C61: % Meets | D61: Not met | E61: % Non-compliance | F61: Not applicable | G61: % Not applicable | H61: % Comply excluding not applicable | I61: % Non-compliance excluding the not applicable items
A62: ='2. Sample pages'!C8 -> Alias1 | B62: =IF('2. Sample pages'!B5>0,'3.1 Graphs and statistics A'!B18+'4.1 Graphs and statistics AA'!B42,"") -> 0 | C62: =IF('2. Sample pages'!B5>0,B62*100/'4.1 Graphs and statistics AA'!B32,"") -> 0 | D62: =IF('2. Sample pages'!B5>0,'3.1 Graphs and statistics A'!D18+'4.1 Graphs and statistics AA'!D42,"") -> 0 | E62: =IF('2. Sample pages'!B5>0,D62*100/'4.1 Graphs and statistics AA'!B32,"") -> 0 | F62: =IF('2. Sample pages'!B5>0,'3.1 Graphs and statistics A'!F18+'4.1 Graphs and statistics AA'!F42,"") -> 0 | G62: =IF('2. Sample pages'!B5>0,F62*100/'4.1 Graphs and statistics AA'!B32,"") -> 0 | H62: =IF('2. Sample pages'!B5>0,IF(ISERROR((B62*100)/('4.1 Graphs and statistics AA'!B32-F62)),0,(B62*100)/('4.1 Graphs and statistics AA'!B32-F62)),"") -> 0 | I62: =IF('2. Sample pages'!B5>0,IF(ISERROR((D62*100)/('4.1 Graphs and statistics AA'!B32-F62)),0,(D62*100)/('4.1 Graphs and statistics AA'!B32-F62)),"") -> 0
A63: ='2. Sample pages'!C9 -> Alias2 | B63: =IF('2. Sample pages'!B5>1,'3.1 Graphs and statistics A'!B19+'4.1 Graphs and statistics AA'!B43,"") -> 0 | C63: =IF('2. Sample pages'!B5>1,B63*100/'4.1 Graphs and statistics AA'!B32,"") -> 0 | D63: =IF('2. Sample pages'!B5>1,'3.1 Graphs and statistics A'!D19+'4.1 Graphs and statistics AA'!D43,"") -> 0 | E63: =IF('2. Sample pages'!B5>1,D63*100/'4.1 Graphs and statistics AA'!B32,"") -> 0 | F63: =IF('2. Sample pages'!B5>1,'3.1 Graphs and statistics A'!F19+'4.1 Graphs and statistics AA'!F43,"") -> 0 | G63: =IF('2. Sample pages'!B5>1,F63*100/'4.1 Graphs and statistics AA'!B32,"") -> 0 | H63: =IF('2. Sample pages'!B5>1,IF(ISERROR((B63*100)/('4.1 Graphs and statistics AA'!B32-F63)),0,(B63*100)/('4.1 Graphs and statistics AA'!B32-F63)),"") -> 0 | I63: =IF('2. Sample pages'!B5>1,IF(ISERROR((D63*100)/('4.1 Graphs and statistics AA'!B32-F63)),0,(D63*100)/('4.1 Graphs and statistics AA'!B32-F63)),"") -> 0
A64: ='2. Sample pages'!C10 -> Alias3 | B64: =IF('2. Sample pages'!B5>2,'3.1 Graphs and statistics A'!B20+'4.1 Graphs and statistics AA'!B44,"") -> 0 | C64: =IF('2. Sample pages'!B5>2,B64*100/'4.1 Graphs and statistics AA'!B32,"") -> 0 | D64: =IF('2. Sample pages'!B5>2,'3.1 Graphs and statistics A'!D20+'4.1 Graphs and statistics AA'!D44,"") -> 0 | E64: =IF('2. Sample pages'!B5>2,D64*100/'4.1 Graphs and statistics AA'!B32,"") -> 0 | F64: =IF('2. Sample pages'!B5>2,'3.1 Graphs and statistics A'!F20+'4.1 Graphs and statistics AA'!F44,"") -> 0 | G64: =IF('2. Sample pages'!B5>2,F64*100/'4.1 Graphs and statistics AA'!B32,"") -> 0 | H64: =IF('2. Sample pages'!B5>2,IF(ISERROR((B64*100)/('4.1 Graphs and statistics AA'!B32-F64)),0,(B64*100)/('4.1 Graphs and statistics AA'!B32-F64)),"") -> 0 | I64: =IF('2. Sample pages'!B5>2,IF(ISERROR((D64*100)/('4.1 Graphs and statistics AA'!B32-F64)),0,(D64*100)/('4.1 Graphs and statistics AA'!B32-F64)),"") -> 0
A65: ='2. Sample pages'!C11 -> Alias4 | B65: =IF('2. Sample pages'!B5>3,'3.1 Graphs and statistics A'!B21+'4.1 Graphs and statistics AA'!B45,"") -> 0 | C65: =IF('2. Sample pages'!B5>3,B65*100/'4.1 Graphs and statistics AA'!B32,"") -> 0 | D65: =IF('2. Sample pages'!B5>3,'3.1 Graphs and statistics A'!D21+'4.1 Graphs and statistics AA'!D45,"") -> 0 | E65: =IF('2. Sample pages'!B5>3,D65*100/'4.1 Graphs and statistics AA'!B32,"") -> 0 | F65: =IF('2. Sample pages'!B5>3,'3.1 Graphs and statistics A'!F21+'4.1 Graphs and statistics AA'!F45,"") -> 0 | G65: =IF('2. Sample pages'!B5>3,F65*100/'4.1 Graphs and statistics AA'!B32,"") -> 0 | H65: =IF('2. Sample pages'!B5>3,IF(ISERROR((B65*100)/('4.1 Graphs and statistics AA'!B32-F65)),0,(B65*100)/('4.1 Graphs and statistics AA'!B32-F65)),"") -> 0 | I65: =IF('2. Sample pages'!B5>3,IF(ISERROR((D65*100)/('4.1 Graphs and statistics AA'!B32-F65)),0,(D65*100)/('4.1 Graphs and statistics AA'!B32-F65)),"") -> 0
A66: ='2. Sample pages'!C12 -> Alias5 | B66: =IF('2. Sample pages'!B5>4,'3.1 Graphs and statistics A'!B22+'4.1 Graphs and statistics AA'!B46,"") -> 0 | C66: =IF('2. Sample pages'!B5>4,B66*100/'4.1 Graphs and statistics AA'!B32,"") -> 0 | D66: =IF('2. Sample pages'!B5>4,'3.1 Graphs and statistics A'!D22+'4.1 Graphs and statistics AA'!D46,"") -> 0 | E66: =IF('2. Sample pages'!B5>4,D66*100/'4.1 Graphs and statistics AA'!B32,"") -> 0 | F66: =IF('2. Sample pages'!B5>4,'3.1 Graphs and statistics A'!F22+'4.1 Graphs and statistics AA'!F46,"") -> 0 | G66: =IF('2. Sample pages'!B5>4,F66*100/'4.1 Graphs and statistics AA'!B32,"") -> 0 | H66: =IF('2. Sample pages'!B5>4,IF(ISERROR((B66*100)/('4.1 Graphs and statistics AA'!B32-F66)),0,(B66*100)/('4.1 Graphs and statistics AA'!B32-F66)),"") -> 0 | I66: =IF('2. Sample pages'!B5>4,IF(ISERROR((D66*100)/('4.1 Graphs and statistics AA'!B32-F66)),0,(D66*100)/('4.1 Graphs and statistics AA'!B32-F66)),"") -> 0
A67: ='2. Sample pages'!C13 -> Alias6 | B67: =IF('2. Sample pages'!B5>5,'3.1 Graphs and statistics A'!B23+'4.1 Graphs and statistics AA'!B47,"") -> 0 | C67: =IF('2. Sample pages'!B5>5,B67*100/'4.1 Graphs and statistics AA'!B32,"") -> 0 | D67: =IF('2. Sample pages'!B5>5,'3.1 Graphs and statistics A'!D23+'4.1 Graphs and statistics AA'!D47,"") -> 0 | E67: =IF('2. Sample pages'!B5>5,D67*100/'4.1 Graphs and statistics AA'!B32,"") -> 0 | F67: =IF('2. Sample pages'!B5>5,'3.1 Graphs and statistics A'!F23+'4.1 Graphs and statistics AA'!F47,"") -> 0 | G67: =IF('2. Sample pages'!B5>5,F67*100/'4.1 Graphs and statistics AA'!B32,"") -> 0 | H67: =IF('2. Sample pages'!B5>5,IF(ISERROR((B67*100)/('4.1 Graphs and statistics AA'!B32-F67)),0,(B67*100)/('4.1 Graphs and statistics AA'!B32-F67)),"") -> 0 | I67: =IF('2. Sample pages'!B5>5,IF(ISERROR((D67*100)/('4.1 Graphs and statistics AA'!B32-F67)),0,(D67*100)/('4.1 Graphs and statistics AA'!B32-F67)),"") -> 0
A68: ='2. Sample pages'!C14 -> Alias7 | B68: =IF('2. Sample pages'!B5>6,'3.1 Graphs and statistics A'!B24+'4.1 Graphs and statistics AA'!B48,"") -> 0 | C68: =IF('2. Sample pages'!B5>6,B68*100/'4.1 Graphs and statistics AA'!B32,"") -> 0 | D68: =IF('2. Sample pages'!B5>6,'3.1 Graphs and statistics A'!D24+'4.1 Graphs and statistics AA'!D48,"") -> 0 | E68: =IF('2. Sample pages'!B5>6,D68*100/'4.1 Graphs and statistics AA'!B32,"") -> 0 | F68: =IF('2. Sample pages'!B5>6,'3.1 Graphs and statistics A'!F24+'4.1 Graphs and statistics AA'!F48,"") -> 0 | G68: =IF('2. Sample pages'!B5>6,F68*100/'4.1 Graphs and statistics AA'!B32,"") -> 0 | H68: =IF('2. Sample pages'!B5>6,IF(ISERROR((B68*100)/('4.1 Graphs and statistics AA'!B32-F68)),0,(B68*100)/('4.1 Graphs and statistics AA'!B32-F68)),"") -> 0 | I68: =IF('2. Sample pages'!B5>6,IF(ISERROR((D68*100)/('4.1 Graphs and statistics AA'!B32-F68)),0,(D68*100)/('4.1 Graphs and statistics AA'!B32-F68)),"") -> 0
A69: ='2. Sample pages'!C15 -> Alias8 | B69: =IF('2. Sample pages'!B5>7,'3.1 Graphs and statistics A'!B25+'4.1 Graphs and statistics AA'!B49,"") -> 0 | C69: =IF('2. Sample pages'!B5>7,B69*100/'4.1 Graphs and statistics AA'!B32,"") -> 0 | D69: =IF('2. Sample pages'!B5>7,'3.1 Graphs and statistics A'!D25+'4.1 Graphs and statistics AA'!D49,"") -> 0 | E69: =IF('2. Sample pages'!B5>7,D69*100/'4.1 Graphs and statistics AA'!B32,"") -> 0 | F69: =IF('2. Sample pages'!B5>7,'3.1 Graphs and statistics A'!F25+'4.1 Graphs and statistics AA'!F49,"") -> 0 | G69: =IF('2. Sample pages'!B5>7,F69*100/'4.1 Graphs and statistics AA'!B32,"") -> 0 | H69: =IF('2. Sample pages'!B5>7,IF(ISERROR((B69*100)/('4.1 Graphs and statistics AA'!B32-F69)),0,(B69*100)/('4.1 Graphs and statistics AA'!B32-F69)),"") -> 0 | I69: =IF('2. Sample pages'!B5>7,IF(ISERROR((D69*100)/('4.1 Graphs and statistics AA'!B32-F69)),0,(D69*100)/('4.1 Graphs and statistics AA'!B32-F69)),"") -> 0
A70: ='2. Sample pages'!C16 -> Alias9 | B70: =IF('2. Sample pages'!B5>8,'3.1 Graphs and statistics A'!B26+'4.1 Graphs and statistics AA'!B50,"") -> 0 | C70: =IF('2. Sample pages'!B5>8,B70*100/'4.1 Graphs and statistics AA'!B32,"") -> 0 | D70: =IF('2. Sample pages'!B5>8,'3.1 Graphs and statistics A'!D26+'4.1 Graphs and statistics AA'!D50,"") -> 0 | E70: =IF('2. Sample pages'!B5>8,D70*100/'4.1 Graphs and statistics AA'!B32,"") -> 0 | F70: =IF('2. Sample pages'!B5>8,'3.1 Graphs and statistics A'!F26+'4.1 Graphs and statistics AA'!F50,"") -> 0 | G70: =IF('2. Sample pages'!B5>8,F70*100/'4.1 Graphs and statistics AA'!B32,"") -> 0 | H70: =IF('2. Sample pages'!B5>8,IF(ISERROR((B70*100)/('4.1 Graphs and statistics AA'!B32-F70)),0,(B70*100)/('4.1 Graphs and statistics AA'!B32-F70)),"") -> 0 | I70: =IF('2. Sample pages'!B5>8,IF(ISERROR((D70*100)/('4.1 Graphs and statistics AA'!B32-F70)),0,(D70*100)/('4.1 Graphs and statistics AA'!B32-F70)),"") -> 0
A71: ='2. Sample pages'!C17 -> Alias10 | B71: =IF('2. Sample pages'!B5>9,'3.1 Graphs and statistics A'!B27+'4.1 Graphs and statistics AA'!B51,"") -> 0 | C71: =IF('2. Sample pages'!B5>9,B71*100/'4.1 Graphs and statistics AA'!B32,"") -> 0 | D71: =IF('2. Sample pages'!B5>9,'3.1 Graphs and statistics A'!D27+'4.1 Graphs and statistics AA'!D51,"") -> 0 | E71: =IF('2. Sample pages'!B5>9,D71*100/'4.1 Graphs and statistics AA'!B32,"") -> 0 | F71: =IF('2. Sample pages'!B5>9,'3.1 Graphs and statistics A'!F27+'4.1 Graphs and statistics AA'!F51,"") -> 0 | G71: =IF('2. Sample pages'!B5>9,F71*100/'4.1 Graphs and statistics AA'!B32,"") -> 0 | H71: =IF('2. Sample pages'!B5>9,IF(ISERROR((B71*100)/('4.1 Graphs and statistics AA'!B32-F71)),0,(B71*100)/('4.1 Graphs and statistics AA'!B32-F71)),"") -> 0 | I71: =IF('2. Sample pages'!B5>9,IF(ISERROR((D71*100)/('4.1 Graphs and statistics AA'!B32-F71)),0,(D71*100)/('4.1 Graphs and statistics AA'!B32-F71)),"") -> 0
A72: ='2. Sample pages'!C18 -> Alias11 | B72: =IF('2. Sample pages'!B5>10,'3.1 Graphs and statistics A'!B28+'4.1 Graphs and statistics AA'!B52,"") -> 0 | C72: =IF('2. Sample pages'!B5>10,B72*100/'4.1 Graphs and statistics AA'!B32,"") -> 0 | D72: =IF('2. Sample pages'!B5>10,'3.1 Graphs and statistics A'!D28+'4.1 Graphs and statistics AA'!D52,"") -> 0 | E72: =IF('2. Sample pages'!B5>10,D72*100/'4.1 Graphs and statistics AA'!B32,"") -> 0 | F72: =IF('2. Sample pages'!B5>10,'3.1 Graphs and statistics A'!F28+'4.1 Graphs and statistics AA'!F52,"") -> 0 | G72: =IF('2. Sample pages'!B5>10,F72*100/'4.1 Graphs and statistics AA'!B32,"") -> 0 | H72: =IF('2. Sample pages'!B5>10,IF(ISERROR((B72*100)/('4.1 Graphs and statistics AA'!B32-F72)),0,(B72*100)/('4.1 Graphs and statistics AA'!B32-F72)),"") -> 0 | I72: =IF('2. Sample pages'!B5>10,IF(ISERROR((D72*100)/('4.1 Graphs and statistics AA'!B32-F72)),0,(D72*100)/('4.1 Graphs and statistics AA'!B32-F72)),"") -> 0
A73: ='2. Sample pages'!C19 -> Alias12 | B73: =IF('2. Sample pages'!B5>11,'3.1 Graphs and statistics A'!B29+'4.1 Graphs and statistics AA'!B53,"") -> 0 | C73: =IF('2. Sample pages'!B5>11,B73*100/'4.1 Graphs and statistics AA'!B32,"") -> 0 | D73: =IF('2. Sample pages'!B5>11,'3.1 Graphs and statistics A'!D29+'4.1 Graphs and statistics AA'!D53,"") -> 0 | E73: =IF('2. Sample pages'!B5>11,D73*100/'4.1 Graphs and statistics AA'!B32,"") -> 0 | F73: =IF('2. Sample pages'!B5>11,'3.1 Graphs and statistics A'!F29+'4.1 Graphs and statistics AA'!F53,"") -> 0 | G73: =IF('2. Sample pages'!B5>11,F73*100/'4.1 Graphs and statistics AA'!B32,"") -> 0 | H73: =IF('2. Sample pages'!B5>11,IF(ISERROR((B73*100)/('4.1 Graphs and statistics AA'!B32-F73)),0,(B73*100)/('4.1 Graphs and statistics AA'!B32-F73)),"") -> 0 | I73: =IF('2. Sample pages'!B5>11,IF(ISERROR((D73*100)/('4.1 Graphs and statistics AA'!B32-F73)),0,(D73*100)/('4.1 Graphs and statistics AA'!B32-F73)),"") -> 0
A74: ='2. Sample pages'!C20 -> Alias13 | B74: =IF('2. Sample pages'!B5>12,'3.1 Graphs and statistics A'!B30+'4.1 Graphs and statistics AA'!B54,"") -> 0 | C74: =IF('2. Sample pages'!B5>12,B74*100/'4.1 Graphs and statistics AA'!B32,"") -> 0 | D74: =IF('2. Sample pages'!B5>12,'3.1 Graphs and statistics A'!D30+'4.1 Graphs and statistics AA'!D54,"") -> 0 | E74: =IF('2. Sample pages'!B5>12,D74*100/'4.1 Graphs and statistics AA'!B32,"") -> 0 | F74: =IF('2. Sample pages'!B5>12,'3.1 Graphs and statistics A'!F30+'4.1 Graphs and statistics AA'!F54,"") -> 0 | G74: =IF('2. Sample pages'!B5>12,F74*100/'4.1 Graphs and statistics AA'!B32,"") -> 0 | H74: =IF('2. Sample pages'!B5>12,IF(ISERROR((B74*100)/('4.1 Graphs and statistics AA'!B32-F74)),0,(B74*100)/('4.1 Graphs and statistics AA'!B32-F74)),"") -> 0 | I74: =IF('2. Sample pages'!B5>12,IF(ISERROR((D74*100)/('4.1 Graphs and statistics AA'!B32-F74)),0,(D74*100)/('4.1 Graphs and statistics AA'!B32-F74)),"") -> 0
A75: ='2. Sample pages'!C21 -> Alias14 | B75: =IF('2. Sample pages'!B5>13,'3.1 Graphs and statistics A'!B31+'4.1 Graphs and statistics AA'!B55,"") -> 0 | C75: =IF('2. Sample pages'!B5>13,B75*100/'4.1 Graphs and statistics AA'!B32,"") -> 0 | D75: =IF('2. Sample pages'!B5>13,'3.1 Graphs and statistics A'!D31+'4.1 Graphs and statistics AA'!D55,"") -> 0 | E75: =IF('2. Sample pages'!B5>13,D75*100/'4.1 Graphs and statistics AA'!B32,"") -> 0 | F75: =IF('2. Sample pages'!B5>13,'3.1 Graphs and statistics A'!F31+'4.1 Graphs and statistics AA'!F55,"") -> 0 | G75: =IF('2. Sample pages'!B5>13,F75*100/'4.1 Graphs and statistics AA'!B32,"") -> 0 | H75: =IF('2. Sample pages'!B5>13,IF(ISERROR((B75*100)/('4.1 Graphs and statistics AA'!B32-F75)),0,(B75*100)/('4.1 Graphs and statistics AA'!B32-F75)),"") -> 0 | I75: =IF('2. Sample pages'!B5>13,IF(ISERROR((D75*100)/('4.1 Graphs and statistics AA'!B32-F75)),0,(D75*100)/('4.1 Graphs and statistics AA'!B32-F75)),"") -> 0
A76: ='2. Sample pages'!C22 -> Alias15 | B76: =IF('2. Sample pages'!B5>14,'3.1 Graphs and statistics A'!B32+'4.1 Graphs and statistics AA'!B56,"") -> 0 | C76: =IF('2. Sample pages'!B5>14,B76*100/'4.1 Graphs and statistics AA'!B32,"") -> 0 | D76: =IF('2. Sample pages'!B5>14,'3.1 Graphs and statistics A'!D32+'4.1 Graphs and statistics AA'!D56,"") -> 0 | E76: =IF('2. Sample pages'!B5>14,D76*100/'4.1 Graphs and statistics AA'!B32,"") -> 0 | F76: =IF('2. Sample pages'!B5>14,'3.1 Graphs and statistics A'!F32+'4.1 Graphs and statistics AA'!F56,"") -> 0 | G76: =IF('2. Sample pages'!B5>14,F76*100/'4.1 Graphs and statistics AA'!B32,"") -> 0 | H76: =IF('2. Sample pages'!B5>14,IF(ISERROR((B76*100)/('4.1 Graphs and statistics AA'!B32-F76)),0,(B76*100)/('4.1 Graphs and statistics AA'!B32-F76)),"") -> 0 | I76: =IF('2. Sample pages'!B5>14,IF(ISERROR((D76*100)/('4.1 Graphs and statistics AA'!B32-F76)),0,(D76*100)/('4.1 Graphs and statistics AA'!B32-F76)),"") -> 0
A80: Level of AA compliance (A+AA) per page
A81: Compliance percentage excluding the "not applicable"
A114: Porcentaje de cumplimiento sin contar los criterios de conformidad que no se aplican
A118: Author: | B118: Olga Carreras Montoto
A119: Help: | B119: Help Page
A120: Version: | B120: E1.0 (2025)
A121: Copyright: | B121: Commercial use and distribution without permission of the author is prohibited.

Sheet 5. Results by criterion
A1: Audit Tool WCAG 2.2 | I1: Author: Olga Carreras (Usable and accessible)
A3: 5. Results of the evaluation by compliance criterion
B5: Conformity Criterion | C5: Number of pages that comply | D5: Number of pages that do not comply | E5: Number of pages not applicable | G5: Sample compliance for each Level A compliance criterion | U5: Level A. Compliance by criterion | AG5: Sample compliance for each Level AA compliance criterion
A6: A | B6: 1.1.1 Non-text Content | C6: ='3. Level A Evaluation'!C24 -> 0 | D6: ='3. Level A Evaluation'!C25 -> 0 | E6: ='3. Level A Evaluation'!C26 -> 0
B7: 1.2.1 Audio-only and Video-only (Prerecorded) | C7: ='3. Level A Evaluation'!C46 -> 0 | D7: ='3. Level A Evaluation'!C47 -> 0 | E7: ='3. Level A Evaluation'!C48 -> 0
B8: 1.2.2 Captions (Prerecorded) | C8: ='3. Level A Evaluation'!C68 -> 0 | D8: ='3. Level A Evaluation'!C69 -> 0 | E8: ='3. Level A Evaluation'!C70 -> 0
B9: 1.2.3 Audio Description or Media Alternative (Prerecorded) | C9: ='3. Level A Evaluation'!C90 -> 0 | D9: ='3. Level A Evaluation'!C91 -> 0 | E9: ='3. Level A Evaluation'!C92 -> 0
B10: 1.3.1 Info and Relationships | C10: ='3. Level A Evaluation'!C112 -> 0 | D10: ='3. Level A Evaluation'!C113 -> 0 | E10: ='3. Level A Evaluation'!C114 -> 0
B11: 1.3.2 Meaningful Sequence | C11: ='3. Level A Evaluation'!C134 -> 0 | D11: ='3. Level A Evaluation'!C135 -> 0 | E11: ='3. Level A Evaluation'!C136 -> 0
B12: 1.3.3 Sensory Characteristics | C12: ='3. Level A Evaluation'!C156 -> 0 | D12: ='3. Level A Evaluation'!C157 -> 0 | E12: ='3. Level A Evaluation'!C158 -> 0
B13: 1.4.1 Use of Color | C13: ='3. Level A Evaluation'!C178 -> 0 | D13: ='3. Level A Evaluation'!C179 -> 0 | E13: ='3. Level A Evaluation'!C180 -> 0
B14: 1.4.2 Audio Control | C14: ='3. Level A Evaluation'!C200 -> 0 | D14: ='3. Level A Evaluation'!C201 -> 0 | E14: ='3. Level A Evaluation'!C202 -> 0
B15: 2.1.1 Keyboard | C15: ='3. Level A Evaluation'!C222 -> 0 | D15: ='3. Level A Evaluation'!C223 -> 0 | E15: ='3. Level A Evaluation'!C224 -> 0
B16: 2.1.2 No Keyboard Trap | C16: ='3. Level A Evaluation'!C244 -> 0 | D16: ='3. Level A Evaluation'!C245 -> 0 | E16: ='3. Level A Evaluation'!C246 -> 0
B17: 2.1.4 Character Key Shortcuts | C17: ='3. Level A Evaluation'!C266 -> 0 | D17: ='3. Level A Evaluation'!C267 -> 0 | E17: ='3. Level A Evaluation'!C268 -> 0
B18: 2.2.1 Timing Adjustable | C18: ='3. Level A Evaluation'!C288 -> 0 | D18: ='3. Level A Evaluation'!C289 -> 0 | E18: ='3. Level A Evaluation'!C290 -> 0
B19: 2.2.2 Pause, Stop, Hide | C19: ='3. Level A Evaluation'!C310 -> 0 | D19: ='3. Level A Evaluation'!C311 -> 0 | E19: ='3. Level A Evaluation'!C312 -> 0
B20: 2.3.1 Three Flashes or Below Threshold | C20: ='3. Level A Evaluation'!C332 -> 0 | D20: ='3. Level A Evaluation'!C333 -> 0 | E20: ='3. Level A Evaluation'!C334 -> 0
B21: 2.4.1 Bypass Blocks | C21: ='3. Level A Evaluation'!C354 -> 0 | D21: ='3. Level A Evaluation'!C355 -> 0 | E21: ='3. Level A Evaluation'!C356 -> 0
B22: 2.4.2 Page Titled | C22: ='3. Level A Evaluation'!C376 -> 0 | D22: ='3. Level A Evaluation'!C377 -> 0 | E22: ='3. Level A Evaluation'!C378 -> 0
B23: 2.4.3 Focus Order | C23: ='3. Level A Evaluation'!C398 -> 0 | D23: ='3. Level A Evaluation'!C399 -> 0 | E23: ='3. Level A Evaluation'!C400 -> 0
B24: 2.4.4 Link Purpose (In Context) | C24: ='3. Level A Evaluation'!C420 -> 0 | D24: ='3. Level A Evaluation'!C421 -> 0 | E24: ='3. Level A Evaluation'!C422 -> 0
B25: 2.5.1 Pointer Gestures (WCAG 2.1) | C25: ='3. Level A Evaluation'!C442 -> 0 | D25: ='3. Level A Evaluation'!C443 -> 0 | E25: ='3. Level A Evaluation'!C444 -> 0
B26: 2.5.2 Pointer Cancellation (WCAG 2.1) | C26: ='3. Level A Evaluation'!C464 -> 0 | D26: ='3. Level A Evaluation'!C465 -> 0 | E26: ='3. Level A Evaluation'!C466 -> 0
B27: 2.5.3 Label in Name (WCAG 2.1) | C27: ='3. Level A Evaluation'!C486 -> 0 | D27: ='3. Level A Evaluation'!C487 -> 0 | E27: ='3. Level A Evaluation'!C488 -> 0
B28: 2.5.4 Motion Actuation (WCAG 2.1) | C28: ='3. Level A Evaluation'!C508 -> 0 | D28: ='3. Level A Evaluation'!C509 -> 0 | E28: ='3. Level A Evaluation'!C510 -> 0
B29: 3.1.1 Language of Page | C29: ='3. Level A Evaluation'!C530 -> 0 | D29: ='3. Level A Evaluation'!C531 -> 0 | E29: ='3. Level A Evaluation'!C532 -> 0
B30: 3.2.1 On Focus | C30: ='3. Level A Evaluation'!C552 -> 0 | D30: ='3. Level A Evaluation'!C553 -> 0 | E30: ='3. Level A Evaluation'!C554 -> 0
B31: 3.2.2 On Input | C31: ='3. Level A Evaluation'!C574 -> 0 | D31: ='3. Level A Evaluation'!C575 -> 0 | E31: ='3. Level A Evaluation'!C576 -> 0
B32: 3.2.6 Consistent Help (WCAG 2.2) | C32: ='3. Level A Evaluation'!C596 -> 0 | D32: ='3. Level A Evaluation'!C597 -> 0 | E32: ='3. Level A Evaluation'!C598 -> 0
B33: 3.3.1 Error Identification | C33: ='3. Level A Evaluation'!C618 -> 0 | D33: ='3. Level A Evaluation'!C619 -> 0 | E33: ='3. Level A Evaluation'!C620 -> 0
B34: 3.3.2 Labels or Instructions | C34: ='3. Level A Evaluation'!C640 -> 0 | D34: ='3. Level A Evaluation'!C641 -> 0 | E34: ='3. Level A Evaluation'!C642 -> 0
B35: 3.3.7 Redundant Entry | C35: ='3. Level A Evaluation'!C662 -> 0 | D35: ='3. Level A Evaluation'!C663 -> 0 | E35: ='3. Level A Evaluation'!C664 -> 0
B36: 4.1.2 Name, Role, Value | C36: ='3. Level A Evaluation'!C685 -> 0 | D36: ='3. Level A Evaluation'!C686 -> 0 | E36: ='3. Level A Evaluation'!C687 -> 0 | G36: Sample compliance for each Level AA compliance criterion
A37: AA | B37: 1.2.4 Captions (Live) | C37: ='4. Level AA Evaluation'!C23 -> 0 | D37: ='4. Level AA Evaluation'!C24 -> 0 | E37: ='4. Level AA Evaluation'!C25 -> 0
B38: 1.2.5 Audio Description (Prerecorded) | C38: ='4. Level AA Evaluation'!C45 -> 0 | D38: ='4. Level AA Evaluation'!C46 -> 0 | E38: ='4. Level AA Evaluation'!C47 -> 0
B39: 1.3.4 Orientation (WCAG 2.1) | C39: ='4. Level AA Evaluation'!C67 -> 0 | D39: ='4. Level AA Evaluation'!C68 -> 0 | E39: ='4. Level AA Evaluation'!C69 -> 0
B40: 1.3.5 Identify Input Purpose (WCAG 2.1) | C40: ='4. Level AA Evaluation'!C89 -> 0 | D40: ='4. Level AA Evaluation'!C90 -> 0 | E40: ='4. Level AA Evaluation'!C91 -> 0
B41: 1.4.3 Contrast (Minimum) | C41: ='4. Level AA Evaluation'!C111 -> 0 | D41: ='4. Level AA Evaluation'!C112 -> 0 | E41: ='4. Level AA Evaluation'!C113 -> 0
B42: 1.4.4 Resize Text | C42: ='4. Level AA Evaluation'!C133 -> 0 | D42: ='4. Level AA Evaluation'!C134 -> 0 | E42: ='4. Level AA Evaluation'!C135 -> 0
B43: 1.4.5 Images of Text | C43: ='4. Level AA Evaluation'!C155 -> 0 | D43: ='4. Level AA Evaluation'!C156 -> 0 | E43: ='4. Level AA Evaluation'!C157 -> 0
B44: 1.4.10 Reflow (WCAG 2.1) | C44: ='4. Level AA Evaluation'!C177 -> 0 | D44: ='4. Level AA Evaluation'!C178 -> 0 | E44: ='4. Level AA Evaluation'!C179 -> 0
B45: 1.4.11 Non-text Contrast (WCAG 2.1) | C45: ='4. Level AA Evaluation'!C199 -> 0 | D45: ='4. Level AA Evaluation'!C200 -> 0 | E45: ='4. Level AA Evaluation'!C201 -> 0
B46: 1.4.12 Text Spacing (WCAG 2.1) | C46: ='4. Level AA Evaluation'!C221 -> 0 | D46: ='4. Level AA Evaluation'!C222 -> 0 | E46: ='4. Level AA Evaluation'!C223 -> 0
B47: 1.4.13 Content on Hover or Focus (WCAG 2.1) | C47: ='4. Level AA Evaluation'!C243 -> 0 | D47: ='4. Level AA Evaluation'!C244 -> 0 | E47: ='4. Level AA Evaluation'!C245 -> 0
B48: 2.4.5 Multiple Ways | C48: ='4. Level AA Evaluation'!C265 -> 0 | D48: ='4. Level AA Evaluation'!C266 -> 0 | E48: ='4. Level AA Evaluation'!C267 -> 0
B49: 2.4.6 Headings and Labels | C49: ='4. Level AA Evaluation'!C287 -> 0 | D49: ='4. Level AA Evaluation'!C288 -> 0 | E49: ='4. Level AA Evaluation'!C289 -> 0
B50: 2.4.7 Focus Visible | C50: ='4. Level AA Evaluation'!C309 -> 0 | D50: ='4. Level AA Evaluation'!C310 -> 0 | E50: ='4. Level AA Evaluation'!C311 -> 0
B51: 2.4.11 Focus Not Obscured (Minimum) (New in WCAG 2.2) | C51: ='4. Level AA Evaluation'!C331 -> 0 | D51: ='4. Level AA Evaluation'!C332 -> 0 | E51: ='4. Level AA Evaluation'!C333 -> 0
B52: 2.5.7 Dragging Movements (New in WCAG 2.2) | C52: ='4. Level AA Evaluation'!C353 -> 0 | D52: ='4. Level AA Evaluation'!C354 -> 0 | E52: ='4. Level AA Evaluation'!C355 -> 0
B53: 2.5.8 Target Size (Minimum) (New in WCAG 2.2) | C53: ='4. Level AA Evaluation'!C375 -> 0 | D53: ='4. Level AA Evaluation'!C376 -> 0 | E53: ='4. Level AA Evaluation'!C377 -> 0
B54: 3.1.2 Language of Parts | C54: ='4. Level AA Evaluation'!C397 -> 0 | D54: ='4. Level AA Evaluation'!C398 -> 0 | E54: ='4. Level AA Evaluation'!C399 -> 0
B55: 3.2.3 Consistent Navigation | C55: ='4. Level AA Evaluation'!C419 -> 0 | D55: ='4. Level AA Evaluation'!C420 -> 0 | E55: ='4. Level AA Evaluation'!C421 -> 0
B56: 3.2.4 Consistent Identification | C56: ='4. Level AA Evaluation'!C441 -> 0 | D56: ='4. Level AA Evaluation'!C442 -> 0 | E56: ='4. Level AA Evaluation'!C443 -> 0
B57: 3.3.3 Error Suggestion | C57: ='4. Level AA Evaluation'!C463 -> 0 | D57: ='4. Level AA Evaluation'!C464 -> 0 | E57: ='4. Level AA Evaluation'!C465 -> 0
B58: 3.3.4 Error Prevention (Legal, Financial, Data) | C58: ='4. Level AA Evaluation'!C485 -> 0 | D58: ='4. Level AA Evaluation'!C486 -> 0 | E58: ='4. Level AA Evaluation'!C487 -> 0
B59: 3.3.8 Accessible Authentication (Minimum) (New in WCAG 2.2) | C59: ='4. Level AA Evaluation'!C507 -> 0 | D59: ='4. Level AA Evaluation'!C508 -> 0 | E59: ='4. Level AA Evaluation'!C509 -> 0
B60: 4.1.3 Status Messages (WCAG 2.1) | C60: ='4. Level AA Evaluation'!C529 -> 0 | D60: ='4. Level AA Evaluation'!C530 -> 0 | E60: ='4. Level AA Evaluation'!C531 -> 0
B64: Author: | C64: Olga Carreras Montoto
B65: Help: | C65: Help Page
B66: Version: | C66: E1.0 (2025)
B67: Copyright: | C67: Commercial use and distribution without permission of the author is prohibited.

Sheet 6. Results by principle
A1: Audit Tool WCAG 2.2 | I1: Author: Olga Carreras (Usable and accessible)
I2: This tab was added to version 2 by the students of the Faculty of Engineering of the University of Valparaíso, Chile
A3: 6. Evaluation results by level and principle, averaging results by page
A4: * Level AA Compliance % is only displayed if you have indicated on Sheet 1 that you evaluate according to Level AA
A5: * The % of compliance per principle is calculated based on the number of criteria that each principle has at the level you are evaluating
B6: ='1. General information'!B6 -> 0 | N6: Level A | O6: Level AA | P6: Perceivable | Q6: Operable | R6: Understandable | S6: Robust
B7: Page | C7: % Level A | D7: % Level AA | E7: % Perceptible | F7: % Operable | G7: % Understandable | H7: % Robust
B8: ='2. Sample pages'!C8 -> Alias1 | C8: ='7. Result per page'!G10 -> 0 | D8: =IF('1. General information'!B10="AA",'7. Result per page'!G30,"") -> 0 | E8: =IF('2. Sample pages'!B5>0,'7. Result per page'!G49,"") -> 0 | F8: =IF('2. Sample pages'!B5>0,'7. Result per page'!G68,"") -> 0 | G8: =IF('2. Sample pages'!B5>0,'7. Result per page'!G87,"") -> 0 | H8: =IF('2. Sample pages'!B5>0,'7. Result per page'!G106,"") -> 0 | L8: Level A | M8: Level AA | N8: Does Not Comply
B9: ='2. Sample pages'!C9 -> Alias2 | C9: ='7. Result per page'!G11 -> 0 | D9: =IF('1. General information'!B10="AA",'7. Result per page'!G31,"") -> 0 | E9: =IF('2. Sample pages'!B5>1,'7. Result per page'!G50,"") -> 0 | F9: =IF('2. Sample pages'!B5>1,'7. Result per page'!G69,"") -> 0 | G9: =IF('2. Sample pages'!B5>1,'7. Result per page'!G88,"") -> 0 | H9: =IF('2. Sample pages'!B5>1,'7. Result per page'!G107,"") -> 0 | L9: =C23 -> 0 | M9: =D23 -> 0 | N9: =100-(M9+L9) -> 100
B10: ='2. Sample pages'!C10 -> Alias3 | C10: ='7. Result per page'!G12 -> 0 | D10: =IF('1. General information'!B10="AA",'7. Result per page'!G32,"") -> 0 | E10: =IF('2. Sample pages'!B5>2,'7. Result per page'!G51,"") -> 0 | F10: =IF('2. Sample pages'!B5>2,'7. Result per page'!G70,"") -> 0 | G10: =IF('2. Sample pages'!B5>2,'7. Result per page'!G89,"") -> 0 | H10: =IF('2. Sample pages'!B5>2,'7. Result per page'!G108,"") -> 0
B11: ='2. Sample pages'!C11 -> Alias4 | C11: ='7. Result per page'!G13 -> 0 | D11: =IF('1. General information'!B10="AA",'7. Result per page'!G33,"") -> 0 | E11: =IF('2. Sample pages'!B5>3,'7. Result per page'!G52,"") -> 0 | F11: =IF('2. Sample pages'!B5>3,'7. Result per page'!G71,"") -> 0 | G11: =IF('2. Sample pages'!B5>3,'7. Result per page'!G90,"") -> 0 | H11: =IF('2. Sample pages'!B5>3,'7. Result per page'!G109,"") -> 0
B12: ='2. Sample pages'!C12 -> Alias5 | C12: ='7. Result per page'!G14 -> 0 | D12: =IF('1. General information'!B10="AA",'7. Result per page'!G34,"") -> 0 | E12: =IF('2. Sample pages'!B5>4,'7. Result per page'!G53,"") -> 0 | F12: =IF('2. Sample pages'!B5>4,'7. Result per page'!G72,"") -> 0 | G12: =IF('2. Sample pages'!B5>4,'7. Result per page'!G91,"") -> 0 | H12: =IF('2. Sample pages'!B5>4,'7. Result per page'!G110,"") -> 0
B13: ='2. Sample pages'!C13 -> Alias6 | C13: ='7. Result per page'!G15 -> 0 | D13: =IF('1. General information'!B10="AA",'7. Result per page'!G35,"") -> 0 | E13: =IF('2. Sample pages'!B5>5,'7. Result per page'!G54,"") -> 0 | F13: =IF('2. Sample pages'!B5>5,'7. Result per page'!G73,"") -> 0 | G13: =IF('2. Sample pages'!B5>5,'7. Result per page'!G92,"") -> 0 | H13: =IF('2. Sample pages'!B5>5,'7. Result per page'!G111,"") -> 0
B14: ='2. Sample pages'!C14 -> Alias7 | C14: ='7. Result per page'!G16 -> 0 | D14: =IF('1. General information'!B10="AA",'7. Result per page'!G36,"") -> 0 | E14: =IF('2. Sample pages'!B5>6,'7. Result per page'!G55,"") -> 0 | F14: =IF('2. Sample pages'!B5>6,'7. Result per page'!G74,"") -> 0 | G14: =IF('2. Sample pages'!B5>6,'7. Result per page'!G93,"") -> 0 | H14: =IF('2. Sample pages'!B5>6,'7. Result per page'!G112,"") -> 0
B15: ='2. Sample pages'!C15 -> Alias8 | C15: ='7. Result per page'!G17 -> 0 | D15: =IF('1. General information'!B10="AA",'7. Result per page'!G37,"") -> 0 | E15: =IF('2. Sample pages'!B5>7,'7. Result per page'!G56,"") -> 0 | F15: =IF('2. Sample pages'!B5>7,'7. Result per page'!G75,"") -> 0 | G15: =IF('2. Sample pages'!B5>7,'7. Result per page'!G94,"") -> 0 | H15: =IF('2. Sample pages'!B5>7,'7. Result per page'!G113,"") -> 0
B16: ='2. Sample pages'!C16 -> Alias9 | C16: ='7. Result per page'!G18 -> 0 | D16: =IF('1. General information'!B10="AA",'7. Result per page'!G38,"") -> 0 | E16: =IF('2. Sample pages'!B5>8,'7. Result per page'!G57,"") -> 0 | F16: =IF('2. Sample pages'!B5>8,'7. Result per page'!G76,"") -> 0 | G16: =IF('2. Sample pages'!B5>8,'7. Result per page'!G95,"") -> 0 | H16: =IF('2. Sample pages'!B5>8,'7. Result per page'!G114,"") -> 0
B17: ='2. Sample pages'!C17 -> Alias10 | C17: ='7. Result per page'!G19 -> 0 | D17: =IF('1. General information'!B10="AA",'7. Result per page'!G39,"") -> 0 | E17: =IF('2. Sample pages'!B5>9,'7. Result per page'!G58,"") -> 0 | F17: =IF('2. Sample pages'!B5>9,'7. Result per page'!G77,"") -> 0 | G17: =IF('2. Sample pages'!B5>9,'7. Result per page'!G96,"") -> 0 | H17: =IF('2. Sample pages'!B5>9,'7. Result per page'!G115,"") -> 0
B18: ='2. Sample pages'!C18 -> Alias11 | C18: ='7. Result per page'!G20 -> 0 | D18: =IF('1. General information'!B10="AA",'7. Result per page'!G40,"") -> 0 | E18: =IF('2. Sample pages'!B5>10,'7. Result per page'!G59,"") -> 0 | F18: =IF('2. Sample pages'!B5>10,'7. Result per page'!G78,"") -> 0 | G18: =IF('2. Sample pages'!B5>10,'7. Result per page'!G97,"") -> 0 | H18: =IF('2. Sample pages'!B5>10,'7. Result per page'!G116,"") -> 0
B19: ='2. Sample pages'!C19 -> Alias12 | C19: ='7. Result per page'!G21 -> 0 | D19: =IF('1. General information'!B10="AA",'7. Result per page'!G41,"") -> 0 | E19: =IF('2. Sample pages'!B5>11,'7. Result per page'!G60,"") -> 0 | F19: =IF('2. Sample pages'!B5>11,'7. Result per page'!G79,"") -> 0 | G19: =IF('2. Sample pages'!B5>11,'7. Result per page'!G98,"") -> 0 | H19: =IF('2. Sample pages'!B5>11,'7. Result per page'!G117,"") -> 0
B20: ='2. Sample pages'!C20 -> Alias13 | C20: ='7. Result per page'!G22 -> 0 | D20: =IF('1. General information'!B10="AA",'7. Result per page'!G42,"") -> 0 | E20: =IF('2. Sample pages'!B5>12,'7. Result per page'!G61,"") -> 0 | F20: =IF('2. Sample pages'!B5>12,'7. Result per page'!G80,"") -> 0 | G20: =IF('2. Sample pages'!B5>12,'7. Result per page'!G99,"") -> 0 | H20: =IF('2. Sample pages'!B5>12,'7. Result per page'!G118,"") -> 0
B21: ='2. Sample pages'!C21 -> Alias14 | C21: ='7. Result per page'!G23 -> 0 | D21: =IF('1. General information'!B10="AA",'7. Result per page'!G43,"") -> 0 | E21: =IF('2. Sample pages'!B5>13,'7. Result per page'!G62,"") -> 0 | F21: =IF('2. Sample pages'!B5>13,'7. Result per page'!G81,"") -> 0 | G21: =IF('2. Sample pages'!B5>13,'7. Result per page'!G100,"") -> 0 | H21: =IF('2. Sample pages'!B5>13,'7. Result per page'!G119,"") -> 0
B22: ='2. Sample pages'!C22 -> Alias15 | C22: ='7. Result per page'!G24 -> 0 | D22: =IF('1. General information'!B10="AA",'7. Result per page'!G44,"") -> 0 | E22: =IF('2. Sample pages'!B5>14,'7. Result per page'!G63,"") -> 0 | F22: =IF('2. Sample pages'!B5>14,'7. Result per page'!G82,"") -> 0 | G22: =IF('2. Sample pages'!B5>14,'7. Result per page'!G101,"") -> 0 | H22: =IF('2. Sample pages'!B5>14,'7. Result per page'!G120,"") -> 0
B23: Average | C23: =AVERAGE(C8:C22) -> 0 | D23: =IF('1. General information'!B10="AA",AVERAGE(D8:D22),"") -> 0 | E23: =AVERAGE(E8:E22) -> 0 | F23: =AVERAGE(F8:F22) -> 0 | G23: =AVERAGE(G8:G22) -> 0 | H23: =AVERAGE(H8:H22) -> 0
B25: Note that in tabs 3.1 and 4.1 the total compliance percentage is made by assessing the sample as a whole. If a single page doesn't meet a criterion, the entire sample doesn't. However, here the percentage is made by mediating the compliance percentages of each page individually, so the % result can vary quite a bit from that of the sample as a whole.
B47: * These graphs exclude "not applicable"
B49: Author: | C49: Olga Carreras Montoto
B50: Help: | C50: Help Page
B51: Version: | C51: E1.0 (2025)
B52: Copyright: | C52: Commercial use and distribution without permission of the author is prohibited.

Sheet 7. Result per page
A1: Audit Tool WCAG 2.2 | J1: Author: Olga Carreras (Usable and accessible)
J2: This tab was added to version 2 by the students of the Faculty of Engineering of the University of Valparaíso, Chile
A3: 7. Detailed evaluation results per page
A4: * Level AA Compliance % is only displayed if you have indicated on Sheet 1 that you evaluate according to Level AA
A5: * The % of compliance per principle is calculated based on the number of criteria that each principle has at the level you are evaluating | J5: =IF('1. General information'!B10="A",Hoja4!L13,Hoja4!M13) -> 20 | K5: Criteria principles at the level you're evaluating
B6: ='1. General information'!B6 -> 0 | I6: Principle 1 | J6: Meets | K6: % Meets | L6: Not met | M6: % Not met | N6: Not Applicable | O6: % Not Applicable | P6: % Complies excluding not applicable | Q6: % Non-compliance excluding the "not applicable" items
I7: ='2. Sample pages'!C8 -> Alias1 | J7: =COUNTIF('3. Level A Evaluation'!C7,Hoja4!$A$5)+COUNTIF('3. Level A Evaluation'!C29,Hoja4!$A$5)+COUNTIF('3. Level A Evaluation'!C51,Hoja4!$A$5)+COUNTIF('3. Level A Evaluation'!C73,Hoja4!$A$5)+COUNTIF('3. Level A Evaluation'!C95,Hoja4!$A$5)+COUNTIF('3. Level A Evaluation'!C117,Hoja4!$A$5)+COUNTIF('3. Level A Evaluation'!C139,Hoja4!$A$5)+COUNTIF('3. Level A Evaluation'!C161,Hoja4!$A$5)+COUNTIF('3. Level A Evaluation'!C183,Hoja4!$A$5)+ IF('1. General information'!$B$10="AA",(COUNTIF('4. Level AA Evaluation'!C6,Hoja4!$A$5)+COUNTIF('4. Level AA Evaluation'!C28,Hoja4!$A$5)+COUNTIF('4. Level AA Evaluation'!C50,Hoja4!$A$5)+COUNTIF('4. Level AA Evaluation'!C72,Hoja4!$A$5)+COUNTIF('4. Level AA Evaluation'!C94,Hoja4!$A$5)+COUNTIF('4. Level AA Evaluation'!C116,Hoja4!$A$5)+COUNTIF('4. Level AA Evaluation'!C138,Hoja4!$A$5)+COUNTIF('4. Level AA Evaluation'!C160,Hoja4!$A$5)+COUNTIF('4. Level AA Evaluation'!C182,Hoja4!$A$5)+COUNTIF('4. Level AA Evaluation'!C204,Hoja4!$A$5)+COUNTIF('4. Level AA Evaluation'!C226,Hoja4!$A$5))) -> 0 | K7: =J7*100/J5 -> 0 | L7: =COUNTIF('3. Level A Evaluation'!C7,Hoja4!$A$6)+COUNTIF('3. Level A Evaluation'!C29,Hoja4!$A$6)+COUNTIF('3. Level A Evaluation'!C51,Hoja4!$A$6)+COUNTIF('3. Level A Evaluation'!C73,Hoja4!$A$6)+COUNTIF('3. Level A Evaluation'!C95,Hoja4!$A$6)+COUNTIF('3. Level A Evaluation'!C117,Hoja4!$A$6)+COUNTIF('3. Level A Evaluation'!C139,Hoja4!$A$6)+COUNTIF('3. Level A Evaluation'!C161,Hoja4!$A$6)+COUNTIF('3. Level A Evaluation'!C183,Hoja4!$A$6)+ IF('1. General information'!$B$10="AA",(COUNTIF('4. Level AA Evaluation'!C6,Hoja4!$A$6)+COUNTIF('4. Level AA Evaluation'!C28,Hoja4!$A$6)+COUNTIF('4. Level AA Evaluation'!C50,Hoja4!$A$6)+COUNTIF('4. Level AA Evaluation'!C72,Hoja4!$A$6)+COUNTIF('4. Level AA Evaluation'!C94,Hoja4!$A$6)+COUNTIF('4. Level AA Evaluation'!C116,Hoja4!$A$6)+COUNTIF('4. Level AA Evaluation'!C138,Hoja4!$A$6)+COUNTIF('4. Level AA Evaluation'!C160,Hoja4!$A$6)+COUNTIF('4. Level AA Evaluation'!C182,Hoja4!$A$6)+COUNTIF('4. Level AA Evaluation'!C204,Hoja4!$A$6)+COUNTIF('4. Level AA Evaluation'!C226,Hoja4!$A$6))) -> 0 | M7: =L7*100/J5 -> 0 | N7: =COUNTIF('3. Level A Evaluation'!C7,Hoja4!$A$7)+COUNTIF('3. Level A Evaluation'!C29,Hoja4!$A$7)+COUNTIF('3. Level A Evaluation'!C51,Hoja4!$A$7)+COUNTIF('3. Level A Evaluation'!C73,Hoja4!$A$7)+COUNTIF('3. Level A Evaluation'!C95,Hoja4!$A$7)+COUNTIF('3. Level A Evaluation'!C117,Hoja4!$A$7)+COUNTIF('3. Level A Evaluation'!C139,Hoja4!$A$7)+COUNTIF('3. Level A Evaluation'!C161,Hoja4!$A$7)+COUNTIF('3. Level A Evaluation'!C183,Hoja4!$A$7)+ IF('1. General information'!$B$10="AA",(COUNTIF('4. Level AA Evaluation'!C6,Hoja4!$A$7)+COUNTIF('4. Level AA Evaluation'!C28,Hoja4!$A$7)+COUNTIF('4. Level AA Evaluation'!C50,Hoja4!$A$7)+COUNTIF('4. Level AA Evaluation'!C72,Hoja4!$A$7)+COUNTIF('4. Level AA Evaluation'!C94,Hoja4!$A$7)+COUNTIF('4. Level AA Evaluation'!C116,Hoja4!$A$7)+COUNTIF('4. Level AA Evaluation'!C138,Hoja4!$A$7)+COUNTIF('4. Level AA Evaluation'!C160,Hoja4!$A$7)+COUNTIF('4. Level AA Evaluation'!C182,Hoja4!$A$7)+COUNTIF('4. Level AA Evaluation'!C204,Hoja4!$A$7)+COUNTIF('4. Level AA Evaluation'!C226,Hoja4!$A$7))) -> 0 | O7: =N7*100/J5 -> 0 | P7: =IF(ISERROR((J7*100)/(J5-N7)),0,(J7*100)/(J5-N7)) -> 0 | Q7: =IF(ISERROR((L7*100)/(J5-N7)),0,(L7*100)/(J5-N7)) -> 0
B8: Meeting Level A Compliance | I8: ='2. Sample pages'!C9 -> Alias2 | J8: =COUNTIF('3. Level A Evaluation'!C8,Hoja4!$A$5)+COUNTIF('3. Level A Evaluation'!C30,Hoja4!$A$5)+COUNTIF('3. Level A Evaluation'!C52,Hoja4!$A$5)+COUNTIF('3. Level A Evaluation'!C74,Hoja4!$A$5)+COUNTIF('3. Level A Evaluation'!C96,Hoja4!$A$5)+COUNTIF('3. Level A Evaluation'!C118,Hoja4!$A$5)+COUNTIF('3. Level A Evaluation'!C140,Hoja4!$A$5)+COUNTIF('3. Level A Evaluation'!C162,Hoja4!$A$5)+COUNTIF('3. Level A Evaluation'!C184,Hoja4!$A$5)+ IF('1. General information'!$B$10="AA",(COUNTIF('4. Level AA Evaluation'!C7,Hoja4!$A$5)+COUNTIF('4. Level AA Evaluation'!C29,Hoja4!$A$5)+COUNTIF('4. Level AA Evaluation'!C51,Hoja4!$A$5)+COUNTIF('4. Level AA Evaluation'!C73,Hoja4!$A$5)+COUNTIF('4. Level AA Evaluation'!C95,Hoja4!$A$5)+COUNTIF('4. Level AA Evaluation'!C117,Hoja4!$A$5)+COUNTIF('4. Level AA Evaluation'!C139,Hoja4!$A$5)+COUNTIF('4. Level AA Evaluation'!C161,Hoja4!$A$5)+COUNTIF('4. Level AA Evaluation'!C183,Hoja4!$A$5)+COUNTIF('4. Level AA Evaluation'!C205,Hoja4!$A$5)+COUNTIF('4. Level AA Evaluation'!C227,Hoja4!$A$5))) -> 0 | K8: =J8*100/J5 -> 0 | L8: =COUNTIF('3. Level A Evaluation'!C8,Hoja4!$A$6)+COUNTIF('3. Level A Evaluation'!C30,Hoja4!$A$6)+COUNTIF('3. Level A Evaluation'!C52,Hoja4!$A$6)+COUNTIF('3. Level A Evaluation'!C74,Hoja4!$A$6)+COUNTIF('3. Level A Evaluation'!C96,Hoja4!$A$6)+COUNTIF('3. Level A Evaluation'!C118,Hoja4!$A$6)+COUNTIF('3. Level A Evaluation'!C140,Hoja4!$A$6)+COUNTIF('3. Level A Evaluation'!C162,Hoja4!$A$6)+COUNTIF('3. Level A Evaluation'!C184,Hoja4!$A$6)+ IF('1. General information'!$B$10="AA",(COUNTIF('4. Level AA Evaluation'!C7,Hoja4!$A$6)+COUNTIF('4. Level AA Evaluation'!C29,Hoja4!$A$6)+COUNTIF('4. Level AA Evaluation'!C51,Hoja4!$A$6)+COUNTIF('4. Level AA Evaluation'!C73,Hoja4!$A$6)+COUNTIF('4. Level AA Evaluation'!C95,Hoja4!$A$6)+COUNTIF('4. Level AA Evaluation'!C117,Hoja4!$A$6)+COUNTIF('4. Level AA Evaluation'!C139,Hoja4!$A$6)+COUNTIF('4. Level AA Evaluation'!C161,Hoja4!$A$6)+COUNTIF('4. Level AA Evaluation'!C183,Hoja4!$A$6)+COUNTIF('4. Level AA Evaluation'!C205,Hoja4!$A$6)+COUNTIF('4. Level AA Evaluation'!C227,Hoja4!$A$6))) -> 0 | M8: =L8*100/J5 -> 0 | N8: =COUNTIF('3. Level A Evaluation'!C8,Hoja4!$A$7)+COUNTIF('3. Level A Evaluation'!C30,Hoja4!$A$7)+COUNTIF('3. Level A Evaluation'!C52,Hoja4!$A$7)+COUNTIF('3. Level A Evaluation'!C74,Hoja4!$A$7)+COUNTIF('3. Level A Evaluation'!C96,Hoja4!$A$7)+COUNTIF('3. Level A Evaluation'!C118,Hoja4!$A$7)+COUNTIF('3. Level A Evaluation'!C140,Hoja4!$A$7)+COUNTIF('3. Level A Evaluation'!C162,Hoja4!$A$7)+COUNTIF('3. Level A Evaluation'!C184,Hoja4!$A$7)+ IF('1. General information'!$B$10="AA",(COUNTIF('4. Level AA Evaluation'!C7,Hoja4!$A$7)+COUNTIF('4. Level AA Evaluation'!C29,Hoja4!$A$7)+COUNTIF('4. Level AA Evaluation'!C51,Hoja4!$A$7)+COUNTIF('4. Level AA Evaluation'!C73,Hoja4!$A$7)+COUNTIF('4. Level AA Evaluation'!C95,Hoja4!$A$7)+COUNTIF('4. Level AA Evaluation'!C117,Hoja4!$A$7)+COUNTIF('4. Level AA Evaluation'!C139,Hoja4!$A$7)+COUNTIF('4. Level AA Evaluation'!C161,Hoja4!$A$7)+COUNTIF('4. Level AA Evaluation'!C183,Hoja4!$A$7)+COUNTIF('4. Level AA Evaluation'!C205,Hoja4!$A$7)+COUNTIF('4. Level AA Evaluation'!C227,Hoja4!$A$7))) -> 0 | O8: =N8*100/J5 -> 0 | P8: =IF(ISERROR((J8*100)/(J5-N8)),0,(J8*100)/(J5-N8)) -> 0 | Q8: =IF(ISERROR((L8*100)/(J5-N8)),0,(L8*100)/(J5-N8)) -> 0
