Workbook
Name Cumple: [1]Hoja4!$A$5:$A$7
Name Cumple: [1]Hoja4!$A$5:$A$7
Name Cumple: [1]Hoja4!$A$5:$A$7
Name Cumple: Hoja4!$A$5:$A$7
Name muestra: Hoja4!$H$13:$H$27
Name nivel: Hoja4!$E$13:$E$14
Name WCAG20: Hoja4!$A$5:$A$7

Sheet Start
B17: Author: | C17: Olga Carreras Montoto
B18: Help: | C18: This excel has 8 sheets, consult the "Help" to know how to fill them in and interpret them correctly
B19: Version: | C19: E1.0 (2025)
B20: Copyright: | C20: Commercial use and distribution without the author's permission are prohibited.
B21: Translated by: | C21: Martin Pistorius

Sheet 1. General information
A1: Audit Tool WCAG 2.2
A3: 1. General data
A5: Client
A6: Site Name | C6: For example: web "Usable and accessible"
A7: Scope of the evaluation | C7: An unambiguous definition that determines for each page whether or not it is within the scope of the evaluation. For example: all the content of the "Usable and accessible" website under the domain http://www.usableyaccesible.com
A8: Review period | B8: from to
A9: Evaluator
A10: Level assessed | B10: AA | C10: It is important that you select the level of evaluation
A11: Accessibility Support | C11: Browsers and Assistive Products That Must Be Supported
A12: Technologies that support accessibility | C12: Accessibility-compatible technologies on which the site depends. For example HTML5, CSS, WAI-ARIA, SVG, PDF. More information: http://www.usableyaccesible.com/recurso_glosario.php#compatible_accesibilidad
A17: Author: | B17: Olga Carreras Montoto
A18: Help: | B18: Help Page
A19: Version: | B19: E1.0 (2025)
A20: Copyright: | B20: Commercial use and distribution without permission of the author is prohibited.

Sheet 2. Sample pages
A1: Audit Tool WCAG 2.2
A3: 2. Sample Pages
A5: No. of sample pages | B5: 15 | C5: Indicates the number of pages in the sample for the charts to be generated
B7: Page | C7: Alias | D7: URL | E7: Control page?
B8: 1 | C8: Alias1 | E8: No
B9: 2 | C9: Alias2 | E9: No
B10: 3 | C10: Alias3 | E10: No
B11: 4 | C11: Alias4 | E11: No
B12: 5 | C12: Alias5 | E12: No
B13: 6 | C13: Alias6 | E13: No
B14: 7 | C14: Alias7 | E14: No
B15: 8 | C15: Alias8 | E15: No
B16: 9 | C16: Alias9 | E16: No
B17: 10 | C17: Alias10 | E17: No
B18: 11 | C18: Alias11 | E18: No
B19: 12 | C19: Alias12 | E19: No
B20: 13 | C20: Alias13 | E20: No
B21: 14 | C21: Alias14 | E21: Yes | F21: Pages are randomly selected as a control sample. In a sample of 15 pages, 2 pages will be included at random. More information: http://olgacarreras.blogspot.com.es/2012/04/metodologia-de-evaluacion-de.html
B22: 15 | C22: Alias15 | E22: Yes
C24: * A short alias ("Home", "Products", etc.) is recommended.
A27: Author: | B27: Olga Carreras Montoto
A28: Help: | B28: Help Page
A29: Version: | B29: E1.0 (2025)
A30: Copyright: | B30: Commercial use and distribution without permission of the author is prohibited.

Sheet 3. Level A Evaluation
A1: Audit Tool WCAG 2.2 | E1: Author: Olga Carreras (Usable and accessible)
A3: 3. Assessment of compliance with Level A criteria
A6: 1.1.1 Non-Text Content | C6: Meets? | E6: Help 1.1.1
A7: All non-textual content that is presented to the user has a textual alternative that serves the same purpose, except in the situations listed below: https://www.w3.org/WAI/WCAG22/Understanding/non-text-content.html | B7: ='2. Sample pages'!C8 -> Alias1 | E7: All images, image buttons on forms, and hotspots on image maps will have appropriate alt text.
B8: ='2. Sample pages'!C9 -> Alias2 | E8: Images that do not convey information, are decorative or with the content already present as text, will be offered with the empty alt text (alt=""), applied as CSS image backgrounds or with equivalent ARIA alternatives.
B9: ='2. Sample pages'!C10 -> Alias3 | E9: Alternative equivalent content for complex images will be offered separately (on the same page, linked or referenced by longdesc).
B10: ='2. Sample pages'!C11 -> Alias4 | E10: The buttons on the forms will have descriptive names.
B11: ='2. Sample pages'!C12 -> Alias5 | E11: Form elements will have associated textual labels or their ARIA equivalent; if these cannot be used, a descriptive title.
B12: ='2. Sample pages'!C13 -> Alias6 | E12: Embedded media will be identified by accessible texts.
B13: ='2. Sample pages'!C14 -> Alias7 | E13: Frames will have an appropriate title.
B14: ='2. Sample pages'!C15 -> Alias8 | E14: Captcha: Textual alternatives are provided that identify the purpose of the non-textual content, and alternative forms of CAPTCHA with output modes for different types of sensory perceptions are provided.
B15: ='2. Sample pages'!C16 -> Alias9
B16: ='2. Sample pages'!C17 -> Alias10 | E16: Resource of interest:
B17: ='2. Sample pages'!C18 -> Alias11 | E17: Textos alternativos, imágenes accesibles. Herramientas de ayuda: mapa de decisión y wizard online
B18: ='2. Sample pages'!C19 -> Alias12
B19: ='2. Sample pages'!C20 -> Alias13
B20: ='2. Sample pages'!C21 -> Alias14
B21: ='2. Sample pages'!C22 -> Alias15
C22: Full sample | D22: =IF(C25>0,Hoja4!A6,IF(C26='2. Sample pages'!B5,Hoja4!A7,IF(SUM(C24:C26)=0,"",Hoja4!A5)))
A24: Summary 1.1.1 | B24: Number that comply: | C24: =COUNTIF(C7:C21,Hoja4!A5) -> 0
B25: Number that do not comply: | C25: =COUNTIF(C7:C21,Hoja4!A6) -> 0
B26: Number not applicable: | C26: =COUNTIF(C7:C21,Hoja4!A7) -> 0
A28: 1.2.1 Audio-only and Video-only (Prerecorded) | C28: Meets? | E28: Help 1.2.1
A29: For recorded audio-only content and recorded video-only content, the following applies, except when the audio or video is alternative media to text and is clearly identified as such: https://www.w3.org/WAI/WCAG22/Understanding/audio-only-and-video-only-prerecorded | B29: ='2. Sample pages'!C8 -> Alias1 | E29: A descriptive transcript (including all visual and auditory tracks and indicators) will be provided for web-based recorded (non-live) audio (audio podcast, MP3 files, etc.)
B30: ='2. Sample pages'!C9 -> Alias2 | E30: An audio or textual description will be provided for recorded (non-live) videos without web-based audio (e.g. videos that do not include audio tracks)
B31: ='2. Sample pages'!C10 -> Alias3
B32: ='2. Sample pages'!C11 -> Alias4 | E32: Resource of interest:
B33: ='2. Sample pages'!C12 -> Alias5 | E33: Tabla resumen de los requisitos de accesibilidad para los medios tempodependientes según las WCAG 2.0
B34: ='2. Sample pages'!C13 -> Alias6
B35: ='2. Sample pages'!C14 -> Alias7
B36: ='2. Sample pages'!C15 -> Alias8
B37: ='2. Sample pages'!C16 -> Alias9
B38: ='2. Sample pages'!C17 -> Alias10
B39: ='2. Sample pages'!C18 -> Alias11
B40: ='2. Sample pages'!C19 -> Alias12
B41: ='2. Sample pages'!C20 -> Alias13
B42: ='2. Sample pages'!C21 -> Alias14
B43: ='2. Sample pages'!C22 -> Alias15
C44: Full sample | D44: =IF(C47>0,Hoja4!A6,IF(C48='2. Sample pages'!B5,Hoja4!A7,IF(SUM(C46:C48)=0,"",Hoja4!A5)))
A46: Summary 1.2.1 | B46: Number that comply: | C46: =COUNTIF(C29:C43,Hoja4!A5) -> 0
...

Sheet 3.1 Graphs and statistics A
A1: Audit Tool WCAG 2.2 | H1: Author: Olga Carreras (Usable and accessible)
A3: 3.1 Results of the evaluation for Level A compliance.
A5: * Excluding 'not applicable' items
A7: Data from the entire sample
A9: Number of Level A criteria: | B9: 31 | E9: Excluding the not applicable items
A10: Level A criteria that met: | B10: =COUNTIF('3. Level A Evaluation'!D22:D683,Hoja4!A5) -> 0 | C10: % Level A compliance | D10: =B10*100/B9 -> 0 | E10: =IF(ISERROR((B10*100)/(B9-B12)),0,(B10*100)/(B9-B12)) -> 0
A11: Level A criteria not met: | B11: =COUNTIF('3. Level A Evaluation'!D22:D683,Hoja4!A6) -> 0 | C11: % Level A non-compliance | D11: =B11*100/B9 -> 0 | E11: =IF(ISERROR((B11*100)/(B9-B12)),0,(B11*100)/(B9-B12)) -> 0
A12: Level A "not applicable" criteria: | B12: =COUNTIF('3. Level A Evaluation'!D22:D683,Hoja4!A7) -> 0 | C12: % Not applicable Level A | D12: =B12*100/B9 -> 0
D13: =SUM(D10:D12) -> 0 | E13: =SUM(E10:E12) -> 0
A16: Data per sample page:
B17: Meets | C17: % Meets | D17: Not met | E17: % Non-compliance | F17: Not applicable | G17: % not applicable | H17: % comply excluding not applicable | I17: % Non-compliance excluding the not applicable items.
A18: ='2. Sample pages'!C8 -> Alias1 | B18: =IF('2. Sample pages'!B5>0,COUNTIF('3. Level A Evaluation'!C7,Hoja4!A5)+COUNTIF('3. Level A Evaluation'!C29,Hoja4!A5)+COUNTIF('3. Level A Evaluation'!C51,Hoja4!A5)+COUNTIF('3. Level A Evaluation'!C73,Hoja4!A5)+COUNTIF('3. Level A Evaluation'!C95,Hoja4!A5)+COUNTIF('3. Level A Evaluation'!C117,Hoja4!A5)+COUNTIF('3. Level A Evaluation'!C139,Hoja4!A5)+COUNTIF('3. Level A Evaluation'!C161,Hoja4!A5)+COUNTIF('3. Level A Evaluation'!C183,Hoja4!A5)+COUNTIF('3. Level A Evaluation'!C205,Hoja4!A5)+COUNTIF('3. Level A Evaluation'!C227,Hoja4!A5)+COUNTIF('3. Level A Evaluation'!C249,Hoja4!A5)+COUNTIF('3. Level A Evaluation'!C271,Hoja4!A5)+COUNTIF('3. Level A Evaluation'!C293,Hoja4!A5)+COUNTIF('3. Level A Evaluation'!C315,Hoja4!A5)+COUNTIF('3. Level A Evaluation'!C337,Hoja4!A5)+COUNTIF('3. Level A Evaluation'!C359,Hoja4!A5)+COUNTIF('3. Level A Evaluation'!C381,Hoja4!A5)+COUNTIF('3. Level A Evaluation'!C403,Hoja4!A5)+COUNTIF('3. Level A Evaluation'!C425,Hoja4!A5)+COUNTIF('3. Level A Evaluation'!C447,Hoja4!A5)+COUNTIF('3. Level A Evaluation'!C469,Hoja4!A5)+COUNTIF('3. Level A Evaluation'!C491,Hoja4!A5)+COUNTIF('3. Level A Evaluation'!C513,Hoja4!A5)+COUNTIF('3. Level A Evaluation'!C535,Hoja4!A5)+COUNTIF('3. Level A Evaluation'!C557,Hoja4!A5)+COUNTIF('3. Level A Evaluation'!C579,Hoja4!A5)+COUNTIF('3. Level A Evaluation'!C601,Hoja4!A5)+COUNTIF('3. Level A Evaluation'!C623,Hoja4!A5)+COUNTIF('3. Level A Evaluation'!C645,Hoja4!A5)+COUNTIF('3. Level A Evaluation'!C668,Hoja4!A5),"") -> 0 | C18: =IF('2. Sample pages'!B5>0,B18*100/B9,"") -> 0 | D18: =IF('2. Sample pages'!B5>0,COUNTIF('3. Level A Evaluation'!C7,Hoja4!A6)+COUNTIF('3. Level A Evaluation'!C29,Hoja4!A6)+COUNTIF('3. Level A Evaluation'!C51,Hoja4!A6)+COUNTIF('3. Level A Evaluation'!C73,Hoja4!A6)+COUNTIF('3. Level A Evaluation'!C95,Hoja4!A6)+COUNTIF('3. Level A Evaluation'!C117,Hoja4!A6)+COUNTIF('3. Level A Evaluation'!C139,Hoja4!A6)+COUNTIF('3. Level A Evaluation'!C161,Hoja4!A6)+COUNTIF('3. Level A Evaluation'!C183,Hoja4!A6)+COUNTIF('3. Level A Evaluation'!C205,Hoja4!A6)+COUNTIF('3. Level A Evaluation'!C227,Hoja4!A6)+COUNTIF('3. Level A Evaluation'!C249,Hoja4!A6)+COUNTIF('3. Level A Evaluation'!C271,Hoja4!A6)+COUNTIF('3. Level A Evaluation'!C293,Hoja4!A6)+COUNTIF('3. Level A Evaluation'!C315,Hoja4!A6)+COUNTIF('3. Level A Evaluation'!C337,Hoja4!A6)+COUNTIF('3. Level A Evaluation'!C359,Hoja4!A6)+COUNTIF('3. Level A Evaluation'!C381,Hoja4!A6)+COUNTIF('3. Level A Evaluation'!C403,Hoja4!A6)+COUNTIF('3. Level A Evaluation'!C425,Hoja4!A6)+COUNTIF('3. Level A Evaluation'!C447,Hoja4!A6)+COUNTIF('3. Level A Evaluation'!C469,Hoja4!A6)+COUNTIF('3. Level A Evaluation'!C491,Hoja4!A6)+COUNTIF('3. Level A Evaluation'!C513,Hoja4!A6)+COUNTIF('3. Level A Evaluation'!C535,Hoja4!A6)+COUNTIF('3. Level A Evaluation'!C557,Hoja4!A6)+COUNTIF('3. Level A Evaluation'!C579,Hoja4!A6)+COUNTIF('3. Level A Evaluation'!C601,Hoja4!A6)+COUNTIF('3. Level A Evaluation'!C623,Hoja4!A6)+COUNTIF('3. Level A Evaluation'!C645,Hoja4!A6)+COUNTIF('3. Level A Evaluation'!C668,Hoja4!A6),"") -> 0 | E18: =IF('2. Sample pages'!B5>0,D18*100/B9,"") -> 0 | F18: =IF('2. Sample pages'!B5>0,COUNTIF('3. Level A Evaluation'!C7,Hoja4!A7)+COUNTIF('3. Level A Evaluation'!C29,Hoja4!A7)+COUNTIF('3. Level A Evaluation'!C51,Hoja4!A7)+COUNTIF('3. Level A Evaluation'!C73,Hoja4!A7)+COUNTIF('3. Level A Evaluation'!C95,Hoja4!A7)+COUNTIF('3. Level A Evaluation'!C117,Hoja4!A7)+COUNTIF('3. Level A Evaluation'!C139,Hoja4!A7)+COUNTIF('3. Level A Evaluation'!C161,Hoja4!A7)+COUNTIF('3. Level A Evaluation'!C183,Hoja4!A7)+COUNTIF('3. Level A Evaluation'!C205,Hoja4!A7)+COUNTIF('3. Level A Evaluation'!C227,Hoja4!A7)+COUNTIF('3. Level A Evaluation'!C249,Hoja4!A7)+COUNTIF('3. Level A Evaluation'!C271,Hoja4!A7)+COUNTIF('3. Level A Evaluation'!C293,Hoja4!A7)+COUNTIF('3. Level A Evaluation'!C315,Hoja4!A7)+COUNTIF('3. Level A Evaluation'!C337,Hoja4!A7)+COUNTIF('3. Level A Evaluation'!C359,Hoja4!A7)+COUNTIF('3. Level A Evaluation'!C381,Hoja4!A7)+COUNTIF('3. Level A Evaluation'!C403,Hoja4!A7)+COUNTIF('3. Level A Evaluation'!C425,Hoja4!A7)+COUNTIF('3. Level A Evaluation'!C447,Hoja4!A7)+COUNTIF('3. Level A Evaluation'!C469,Hoja4!A7)+COUNTIF('3. Level A Evaluation'!C491,Hoja4!A7)+COUNTIF('3. Level A Evaluation'!C513,Hoja4!A7)+COUNTIF('3. Level A Evaluation'!C535,Hoja4!A7)+COUNTIF('3. Level A Evaluation'!C557,Hoja4!A7)+COUNTIF('3. Level A Evaluation'!C579,Hoja4!A7)+COUNTIF('3. Level A Evaluation'!C601,Hoja4!A7)+COUNTIF('3. Level A Evaluation'!C623,Hoja4!A7)+COUNTIF('3. Level A Evaluation'!C645,Hoja4!A7)+COUNTIF('3. Level A Evaluation'!C668,Hoja4!A7),"") -> 0 | G18: =IF('2. Sample pages'!B5>0,F18*100/B9,"") -> 0 | H18: =IF('2. Sample pages'!B5>0,IF(ISERROR((B18*100)/(B9-F18)),0,(B18*100)/(B9-F18)),"") -> 0 | I18: =IF('2. Sample pages'!B5>0,IF(ISERROR((D18*100)/(B9-F18)),0,(D18*100)/(B9-F18)),"") -> 0
A19: ='2. Sample pages'!C9 -> Alias2 | B19: =IF('2. Sample pages'!B5>1,COUNTIF('3. Level A Evaluation'!C8,Hoja4!A5)+COUNTIF('3. Level A Evaluation'!C30,Hoja4!A5)+COUNTIF('3. Level A Evaluation'!C52,Hoja4!A5)+COUNTIF('3. Level A Evaluation'!C74,Hoja4!A5)+COUNTIF('3. Level A Evaluation'!C96,Hoja4!A5)+COUNTIF('3. Level A Evaluation'!C118,Hoja4!A5)+COUNTIF('3. Level A Evaluation'!C140,Hoja4!A5)+COUNTIF('3. Level A Evaluation'!C162,Hoja4!A5)+COUNTIF('3. Level A Evaluation'!C184,Hoja4!A5)+COUNTIF('3. Level A Evaluation'!C206,Hoja4!A5)+COUNTIF('3. Level A Evaluation'!C228,Hoja4!A5)+COUNTIF('3. Level A Evaluation'!C250,Hoja4!A5)+COUNTIF('3. Level A Evaluation'!C272,Hoja4!A5)+COUNTIF('3. Level A Evaluation'!C294,Hoja4!A5)+COUNTIF('3. Level A Evaluation'!C316,Hoja4!A5)+COUNTIF('3. Level A Evaluation'!C338,Hoja4!A5)+COUNTIF('3. Level A Evaluation'!C360,Hoja4!A5)+COUNTIF('3. Level A Evaluation'!C382,Hoja4!A5)+COUNTIF('3. Level A Evaluation'!C404,Hoja4!A5)+COUNTIF('3. Level A Evaluation'!C426,Hoja4!A5)+COUNTIF('3. Level A Evaluation'!C448,Hoja4!A5)+COUNTIF('3. Level A Evaluation'!C470,Hoja4!A5)+COUNTIF('3. Level A Evaluation'!C492,Hoja4!A5)+COUNTIF('3. Level A Evaluation'!C514,Hoja4!A5)+COUNTIF('3. Level A Evaluation'!C536,Hoja4!A5)+COUNTIF('3. Level A Evaluation'!C558,Hoja4!A5)+COUNTIF('3. Level A Evaluation'!C580,Hoja4!A5)+COUNTIF('3. Level A Evaluation'!C602,Hoja4!A5)+COUNTIF('3. Level A Evaluation'!C624,Hoja4!A5)+COUNTIF('3. Level A Evaluation'!C646,Hoja4!A5)+COUNTIF('3. Level A Evaluation'!C669,Hoja4!A5),"") -> 0 | C19: =IF('2. Sample pages'!B5>1,B19*100/B9,"") -> 0 | D19: =IF('2. Sample pages'!B5>1,COUNTIF('3. Level A Evaluation'!C8,Hoja4!A6)+COUNTIF('3. Level A Evaluation'!C30,Hoja4!A6)+COUNTIF('3. Level A Evaluation'!C52,Hoja4!A6)+COUNTIF('3. Level A Evaluation'!C74,Hoja4!A6)+COUNTIF('3. Level A Evaluation'!C96,Hoja4!A6)+COUNTIF('3. Level A Evaluation'!C118,Hoja4!A6)+COUNTIF('3. Level A Evaluation'!C140,Hoja4!A6)+COUNTIF('3. Level A Evaluation'!C162,Hoja4!A6)+COUNTIF('3. Level A Evaluation'!C184,Hoja4!A6)+COUNTIF('3. Level A Evaluation'!C206,Hoja4!A6)+COUNTIF('3. Level A Evaluation'!C228,Hoja4!A6)+COUNTIF('3. Level A Evaluation'!C250,Hoja4!A6)+COUNTIF('3. Level A Evaluation'!C272,Hoja4!A6)+COUNTIF('3. Level A Evaluation'!C294,Hoja4!A6)+COUNTIF('3. Level A Evaluation'!C316,Hoja4!A6)+COUNTIF('3. Level A Evaluation'!C338,Hoja4!A6)+COUNTIF('3. Level A Evaluation'!C360,Hoja4!A6)+COUNTIF('3. Level A Evaluation'!C382,Hoja4!A6)+COUNTIF('3. Level A Evaluation'!C404,Hoja4!A6)+COUNTIF('3. Level A Evaluation'!C426,Hoja4!A6)+COUNTIF('3. Level A Evaluation'!C448,Hoja4!A6)+COUNTIF('3. Level A Evaluation'!C470,Hoja4!A6)+COUNTIF('3. Level A Evaluation'!C492,Hoja4!A6)+COUNTIF('3. Level A Evaluation'!C514,Hoja4!A6)+COUNTIF('3. Level A Evaluation'!C536,Hoja4!A6)+COUNTIF('3. Level A Evaluation'!C558,Hoja4!A6)+COUNTIF('3. Level A Evaluation'!C580,Hoja4!A6)+COUNTIF('3. Level A Evaluation'!C602,Hoja4!A6)+COUNTIF('3. Level A Evaluation'!C624,Hoja4!A6)+COUNTIF('3. Level A Evaluation'!C646,Hoja4!A6)+COUNTIF('3. Level A Evaluation'!C669,Hoja4!A6),"") -> 0 | E19: =IF('2. Sample pages'!B5>1,D19*100/B9,"") -> 0 | F19: =IF('2. Sample pages'!B5>1,COUNTIF('3. Level A Evaluation'!C8,Hoja4!A7)+COUNTIF('3. Level A Evaluation'!C30,Hoja4!A7)+COUNTIF('3. Level A Evaluation'!C52,Hoja4!A7)+COUNTIF('3. Level A Evaluation'!C74,Hoja4!A7)+COUNTIF('3. Level A Evaluation'!C96,Hoja4!A7)+COUNTIF('3. Level A Evaluation'!C118,Hoja4!A7)+COUNTIF('3. Level A Evaluation'!C140,Hoja4!A7)+COUNTIF('3. Level A Evaluation'!C162,Hoja4!A7)+COUNTIF('3. Level A Evaluation'!C184,Hoja4!A7)+COUNTIF('3. Level A Evaluation'!C206,Hoja4!A7)+COUNTIF('3. Level A Evaluation'!C228,Hoja4!A7)+COUNTIF('3. Level A Evaluation'!C250,Hoja4!A7)+COUNTIF('3. Level A Evaluation'!C272,Hoja4!A7)+COUNTIF('3. Level A Evaluation'!C294,Hoja4!A7)+COUNTIF('3. Level A Evaluation'!C316,Hoja4!A7)+COUNTIF('3. Level A Evaluation'!C338,Hoja4!A7)+COUNTIF('3. Level A Evaluation'!C360,Hoja4!A7)+COUNTIF('3. Level A Evaluation'!C382,Hoja4!A7)+COUNTIF('3. Level A Evaluation'!C404,Hoja4!A7)+COUNTIF('3. Level A Evaluation'!C426,Hoja4!A7)+COUNTIF('3. Level A Evaluation'!C448,Hoja4!A7)+COUNTIF('3. Level A Evaluation'!C470,Hoja4!A7)+COUNTIF('3. Level A Evaluation'!C492,Hoja4!A7)+COUNTIF('3. Level A Evaluation'!C514,Hoja4!A7)+COUNTIF('3. Level A Evaluation'!C536,Hoja4!A7)+COUNTIF('3. Level A Evaluation'!C558,Hoja4!A7)+COUNTIF('3. Level A Evaluation'!C580,Hoja4!A7)+COUNTIF('3. Level A Evaluation'!C602,Hoja4!A7)+COUNTIF('3. Level A Evaluation'!C624,Hoja4!A7)+COUNTIF('3. Level A Evaluation'!C646,Hoja4!A7)+COUNTIF('3. Level A Evaluation'!C669,Hoja4!A7),"") -> 0 | G19: =IF('2. Sample pages'!B5>1,F19*100/B9,"") -> 0 | H19: =IF('2. Sample pages'!B5>1,IF(ISERROR((B19*100)/(B9-F19)),0,(B19*100)/(B9-F19)),"") -> 0 | I19: =IF('2. Sample pages'!B5>1,IF(ISERROR((D19*100)/(B9-F19)),0,(D19*100)/(B9-F19)),"") -> 0
A20: ='2. Sample pages'!C10 -> Alias3 | B20: =IF('2. Sample pages'!B5>2,COUNTIF('3. Level A Evaluation'!C9,Hoja4!A5)+COUNTIF('3. Level A Evaluation'!C31,Hoja4!A5)+COUNTIF('3. Level A Evaluation'!C53,Hoja4!A5)+COUNTIF('3. Level A Evaluation'!C75,Hoja4!A5)+COUNTIF('3. Level A Evaluation'!C97,Hoja4!A5)+COUNTIF('3. Level A Evaluation'!C119,Hoja4!A5)+COUNTIF('3. Level A Evaluation'!C141,Hoja4!A5)+COUNTIF('3. Level A Evaluation'!C163,Hoja4!A5)+COUNTIF('3. Level A Evaluation'!C185,Hoja4!A5)+COUNTIF('3. Level A Evaluation'!C207,Hoja4!A5)+COUNTIF('3. Level A Evaluation'!C229,Hoja4!A5)+COUNTIF('3. Level A Evaluation'!C251,Hoja4!A5)+COUNTIF('3. Level A Evaluation'!C273,Hoja4!A5)+COUNTIF('3. Level A Evaluation'!C295,Hoja4!A5)+COUNTIF('3. Level A Evaluation'!C317,Hoja4!A5)+COUNTIF('3. Level A Evaluation'!C339,Hoja4!A5)+COUNTIF('3. Level A Evaluation'!C361,Hoja4!A5)+COUNTIF('3. Level A Evaluation'!C383,Hoja4!A5)+COUNTIF('3. Level A Evaluation'!C405,Hoja4!A5)+COUNTIF('3. Level A Evaluation'!C427,Hoja4!A5)+COUNTIF('3. Level A Evaluation'!C449,Hoja4!A5)+COUNTIF('3. Level A Evaluation'!C471,Hoja4!A5)+COUNTIF('3. Level A Evaluation'!C493,Hoja4!A5)+COUNTIF('3. Level A Evaluation'!C515,Hoja4!A5)+COUNTIF('3. Level A Evaluation'!C537,Hoja4!A5)+COUNTIF('3. Level A Evaluation'!C559,Hoja4!A5)+COUNTIF('3. Level A Evaluation'!C581,Hoja4!A5)+COUNTIF('3. Level A Evaluation'!C603,Hoja4!A5)+COUNTIF('3. Level A Evaluation'!C625,Hoja4!A5)+COUNTIF('3. Level A Evaluation'!C647,Hoja4!A5)+COUNTIF('3. Level A Evaluation'!C670,Hoja4!A5),"") -> 0 | C20: =IF('2. Sample pages'!B5>2,B20*100/B9,"") -> 0 | D20: =IF('2. Sample pages'!B5>2,COUNTIF('3. Level A Evaluation'!C9,Hoja4!A6)+COUNTIF('3. Level A Evaluation'!C31,Hoja4!A6)+COUNTIF('3. Level A Evaluation'!C53,Hoja4!A6)+COUNTIF('3. Level A Evaluation'!C75,Hoja4!A6)+COUNTIF('3. Level A Evaluation'!C97,Hoja4!A6)+COUNTIF('3. Level A Evaluation'!C119,Hoja4!A6)+COUNTIF('3. Level A Evaluation'!C141,Hoja4!A6)+COUNTIF('3. Level A Evaluation'!C163,Hoja4!A6)+COUNTIF('3. Level A Evaluation'!C185,Hoja4!A6)+COUNTIF('3. Level A Evaluation'!C207,Hoja4!A6)+COUNTIF('3. Level A Evaluation'!C229,Hoja4!A6)+COUNTIF('3. Level A Evaluation'!C251,Hoja4!A6)+COUNTIF('3. Level A Evaluation'!C273,Hoja4!A6)+COUNTIF('3. Level A Evaluation'!C295,Hoja4!A6)+COUNTIF('3. Level A Evaluation'!C317,Hoja4!A6)+COUNTIF('3. Level A Evaluation'!C339,Hoja4!A6)+COUNTIF('3. Level A Evaluation'!C361,Hoja4!A6)+COUNTIF('3. Level A Evaluation'!C383,Hoja4!A6)+COUNTIF('3. Level A Evaluation'!C405,Hoja4!A6)+COUNTIF('3. Level A Evaluation'!C427,Hoja4!A6)+COUNTIF('3. Level A Evaluation'!C449,Hoja4!A6)+COUNTIF('3. Level A Evaluation'!C471,Hoja4!A6)+COUNTIF('3. Level A Evaluation'!C493,Hoja4!A6)+COUNTIF('3. Level A Evaluation'!C515,Hoja4!A6)+COUNTIF('3. Level A Evaluation'!C537,Hoja4!A6)+COUNTIF('3. Level A Evaluation'!C559,Hoja4!A6)+COUNTIF('3. Level A Evaluation'!C581,Hoja4!A6)+COUNTIF('3. Level A Evaluation'!C603,Hoja4!A6)+COUNTIF('3. Level A Evaluation'!C625,Hoja4!A6)+COUNTIF('3. Level A Evaluation'!C647,Hoja4!A6)+COUNTIF('3. Level A Evaluation'!C670,Hoja4!A6),"") -> 0 | E20: =IF('2. Sample pages'!B5>2,D20*100/B9,"") -> 0 | F20: =IF('2. Sample pages'!B5>2,COUNTIF('3. Level A Evaluation'!C9,Hoja4!A7)+COUNTIF('3. Level A Evaluation'!C31,Hoja4!A7)+COUNTIF('3. Level A Evaluation'!C53,Hoja4!A7)+COUNTIF('3. Level A Evaluation'!C75,Hoja4!A7)+COUNTIF('3. Level A Evaluation'!C97,Hoja4!A7)+COUNTIF('3. Level A Evaluation'!C119,Hoja4!A7)+COUNTIF('3. Level A Evaluation'!C141,Hoja4!A7)+COUNTIF('3. Level A Evaluation'!C163,Hoja4!A7)+COUNTIF('3. Level A Evaluation'!C185,Hoja4!A7)+COUNTIF('3. Level A Evaluation'!C207,Hoja4!A7)+COUNTIF('3. Level A Evaluation'!C229,Hoja4!A7)+COUNTIF('3. Level A Evaluation'!C251,Hoja4!A7)+COUNTIF('3. Level A Evaluation'!C273,Hoja4!A7)+COUNTIF('3. Level A Evaluation'!C295,Hoja4!A7)+COUNTIF('3. Level A Evaluation'!C317,Hoja4!A7)+COUNTIF('3. Level A Evaluation'!C339,Hoja4!A7)+COUNTIF('3. Level A Evaluation'!C361,Hoja4!A7)+COUNTIF('3. Level A Evaluation'!C383,Hoja4!A7)+COUNTIF('3. Level A Evaluation'!C405,Hoja4!A7)+COUNTIF('3. Level A Evaluation'!C427,Hoja4!A7)+COUNTIF('3. Level A Evaluation'!C449,Hoja4!A7)+COUNTIF('3. Level A Evaluation'!C471,Hoja4!A7)+COUNTIF('3. Level A Evaluation'!C493,Hoja4!A7)+COUNTIF('3. Level A Evaluation'!C515,Hoja4!A7)+COUNTIF('3. Level A Evaluation'!C537,Hoja4!A7)+COUNTIF('3. Level A Evaluation'!C559,Hoja4!A7)+COUNTIF('3. Level A Evaluation'!C581,Hoja4!A7)+COUNTIF('3. Level A Evaluation'!C603,Hoja4!A7)+COUNTIF('3. Level A Evaluation'!C625,Hoja4!A7)+COUNTIF('3. Level A Evaluation'!C647,Hoja4!A7)+COUNTIF('3. Level A Evaluation'!C670,Hoja4!A7),"") -> 0 | G20: =IF('2. Sample pages'!B5>2,F20*100/B9,"") -> 0 | H20: =IF('2. Sample pages'!B5>2,IF(ISERROR((B20*100)/(B9-F20)),0,(B20*100)/(B9-F20)),"") -> 0 | I20: =IF('2. Sample pages'!B5>2,IF(ISERROR((D20*100)/(B9-F20)),0,(D20*100)/(B9-F20)),"") -> 0
A21: ='2. Sample pages'!C11 -> Alias4 | B21: =IF('2. Sample pages'!B5>3,COUNTIF('3. Level A Evaluation'!C10,Hoja4!A5)+COUNTIF('3. Level A Evaluation'!C32,Hoja4!A5)+COUNTIF('3. Level A Evaluation'!C54,Hoja4!A5)+COUNTIF('3. Level A Evaluation'!C76,Hoja4!A5)+COUNTIF('3. Level A Evaluation'!C98,Hoja4!A5)+COUNTIF('3. Level A Evaluation'!C120,Hoja4!A5)+COUNTIF('3. Level A Evaluation'!C142,Hoja4!A5)+COUNTIF('3. Level A Evaluation'!C164,Hoja4!A5)+COUNTIF('3. Level A Evaluation'!C186,Hoja4!A5)+COUNTIF('3. Level A Evaluation'!C208,Hoja4!A5)+COUNTIF('3. Level A Evaluation'!C230,Hoja4!A5)+COUNTIF('3. Level A Evaluation'!C252,Hoja4!A5)+COUNTIF('3. Level A Evaluation'!C274,Hoja4!A5)+COUNTIF('3. Level A Evaluation'!C296,Hoja4!A5)+COUNTIF('3. Level A Evaluation'!C318,Hoja4!A5)+COUNTIF('3. Level A Evaluation'!C340,Hoja4!A5)+COUNTIF('3. Level A Evaluation'!C362,Hoja4!A5)+COUNTIF('3. Level A Evaluation'!C384,Hoja4!A5)+COUNTIF('3. Level A Evaluation'!C406,Hoja4!A5)+COUNTIF('3. Level A Evaluation'!C428,Hoja4!A5)+COUNTIF('3. Level A Evaluation'!C450,Hoja4!A5)+COUNTIF('3. Level A Evaluation'!C472,Hoja4!A5)+COUNTIF('3. Level A Evaluation'!C494,Hoja4!A5)+COUNTIF('3. Level A Evaluation'!C516,Hoja4!A5)+COUNTIF('3. Level A Evaluation'!C538,Hoja4!A5)+COUNTIF('3. Level A Evaluation'!C560,Hoja4!A5)+COUNTIF('3. Level A Evaluation'!C582,Hoja4!A5)+COUNTIF('3. Level A Evaluation'!C604,Hoja4!A5)+COUNTIF('3. Level A Evaluation'!C626,Hoja4!A5)+COUNTIF('3. Level A Evaluation'!C648,Hoja4!A5)+COUNTIF('3. Level A Evaluation'!C671,Hoja4!A5),"") -> 0 | C21: =IF('2. Sample pages'!B5>3,B21*100/B9,"") -> 0 | D21: =IF('2. Sample pages'!B5>3,COUNTIF('3. Level A Evaluation'!C10,Hoja4!A6)+COUNTIF('3. Level A Evaluation'!C32,Hoja4!A6)+COUNTIF('3. Level A Evaluation'!C54,Hoja4!A6)+COUNTIF('3. Level A Evaluation'!C76,Hoja4!A6)+COUNTIF('3. Level A Evaluation'!C98,Hoja4!A6)+COUNTIF('3. Level A Evaluation'!C120,Hoja4!A6)+COUNTIF('3. Level A Evaluation'!C142,Hoja4!A6)+COUNTIF('3. Level A Evaluation'!C164,Hoja4!A6)+COUNTIF('3. Level A Evaluation'!C186,Hoja4!A6)+COUNTIF('3. Level A Evaluation'!C208,Hoja4!A6)+COUNTIF('3. Level A Evaluation'!C230,Hoja4!A6)+COUNTIF('3. Level A Evaluation'!C252,Hoja4!A6)+COUNTIF('3. Level A Evaluation'!C274,Hoja4!A6)+COUNTIF('3. Level A Evaluation'!C296,Hoja4!A6)+COUNTIF('3. Level A Evaluation'!C318,Hoja4!A6)+COUNTIF('3. Level A Evaluation'!C340,Hoja4!A6)+COUNTIF('3. Level A Evaluation'!C362,Hoja4!A6)+COUNTIF('3. Level A Evaluation'!C384,Hoja4!A6)+COUNTIF('3. Level A Evaluation'!C406,Hoja4!A6)+COUNTIF('3. Level A Evaluation'!C428,Hoja4!A6)+COUNTIF('3. Level A Evaluation'!C450,Hoja4!A6)+COUNTIF('3. Level A Evaluation'!C472,Hoja4!A6)+COUNTIF('3. Level A Evaluation'!C494,Hoja4!A6)+COUNTIF('3. Level A Evaluation'!C516,Hoja4!A6)+COUNTIF('3. Level A Evaluation'!C538,Hoja4!A6)+COUNTIF('3. Level A Evaluation'!C560,Hoja4!A6)+COUNTIF('3. Level A Evaluation'!C582,Hoja4!A6)+COUNTIF('3. Level A Evaluation'!C604,Hoja4!A6)+COUNTIF('3. Level A Evaluation'!C626,Hoja4!A6)+COUNTIF('3. Level A Evaluation'!C648,Hoja4!A6)+COUNTIF('3. Level A Evaluation'!C671,Hoja4!A6),"") -> 0 | E21: =IF('2. Sample pages'!B5>3,D21*100/B9,"") -> 0 | F21: =IF('2. Sample pages'!B5>3,COUNTIF('3. Level A Evaluation'!C10,Hoja4!A7)+COUNTIF('3. Level A Evaluation'!C32,Hoja4!A7)+COUNTIF('3. Level A Evaluation'!C54,Hoja4!A7)+COUNTIF('3. Level A Evaluation'!C76,Hoja4!A7)+COUNTIF('3. Level A Evaluation'!C98,Hoja4!A7)+COUNTIF('3. Level A Evaluation'!C120,Hoja4!A7)+COUNTIF('3. Level A Evaluation'!C142,Hoja4!A7)+COUNTIF('3. Level A Evaluation'!C164,Hoja4!A7)+COUNTIF('3. Level A Evaluation'!C186,Hoja4!A7)+COUNTIF('3. Level A Evaluation'!C208,Hoja4!A7)+COUNTIF('3. Level A Evaluation'!C230,Hoja4!A7)+COUNTIF('3. Level A Evaluation'!C252,Hoja4!A7)+COUNTIF('3. Level A Evaluation'!C274,Hoja4!A7)+COUNTIF('3. Level A Evaluation'!C296,Hoja4!A7)+COUNTIF('3. Level A Evaluation'!C318,Hoja4!A7)+COUNTIF('3. Level A Evaluation'!C340,Hoja4!A7)+COUNTIF('3. Level A Evaluation'!C362,Hoja4!A7)+COUNTIF('3. Level A Evaluation'!C384,Hoja4!A7)+COUNTIF('3. Level A Evaluation'!C406,Hoja4!A7)+COUNTIF('3. Level A Evaluation'!C428,Hoja4!A7)+COUNTIF('3. Level A Evaluation'!C450,Hoja4!A7)+COUNTIF('3. Level A Evaluation'!C472,Hoja4!A7)+COUNTIF('3. Level A Evaluation'!C494,Hoja4!A7)+COUNTIF('3. Level A Evaluation'!C516,Hoja4!A7)+COUNTIF('3. Level A Evaluation'!C538,Hoja4!A7)+COUNTIF('3. Level A Evaluation'!C560,Hoja4!A7)+COUNTIF('3. Level A Evaluation'!C582,Hoja4!A7)+COUNTIF('3. Level A Evaluation'!C604,Hoja4!A7)+COUNTIF('3. Level A Evaluation'!C626,Hoja4!A7)+COUNTIF('3. Level A Evaluation'!C648,Hoja4!A7)+COUNTIF('3. Level A Evaluation'!C671,Hoja4!A7),"") -> 0 | G21: =IF('2. Sample pages'!B5>3,F21*100/B9,"") -> 0 | H21: =IF('2. Sample pages'!B5>3,IF(ISERROR((B21*100)/(B9-F21)),0,(B21*100)/(B9-F21)),"") -> 0 | I21: =IF('2. Sample pages'!B5>3,IF(ISERROR((D21*100)/(B9-F21)),0,(D21*100)/(B9-F21)),"") -> 0
A22: ='2. Sample pages'!C12 -> Alias5 | B22: =IF('2. Sample pages'!B5>4,COUNTIF('3. Level A Evaluation'!C11,Hoja4!A5)+COUNTIF('3. Level A Evaluation'!C33,Hoja4!A5)+COUNTIF('3. Level A Evaluation'!C55,Hoja4!A5)+COUNTIF('3. Level A Evaluation'!C77,Hoja4!A5)+COUNTIF('3. Level A Evaluation'!C99,Hoja4!A5)+COUNTIF('3. Level A Evaluation'!C121,Hoja4!A5)+COUNTIF('3. Level A Evaluation'!C143,Hoja4!A5)+COUNTIF('3. Level A Evaluation'!C165,Hoja4!A5)+COUNTIF('3. Level A Evaluation'!C187,Hoja4!A5)+COUNTIF('3. Level A Evaluation'!C209,Hoja4!A5)+COUNTIF('3. Level A Evaluation'!C231,Hoja4!A5)+COUNTIF('3. Level A Evaluation'!C253,Hoja4!A5)+COUNTIF('3. Level A Evaluation'!C275,Hoja4!A5)+COUNTIF('3. Level A Evaluation'!C297,Hoja4!A5)+COUNTIF('3. Level A Evaluation'!C319,Hoja4!A5)+COUNTIF('3. Level A Evaluation'!C341,Hoja4!A5)+COUNTIF('3. Level A Evaluation'!C363,Hoja4!A5)+COUNTIF('3. Level A Evaluation'!C385,Hoja4!A5)+COUNTIF('3. Level A Evaluation'!C407,Hoja4!A5)+COUNTIF('3. Level A Evaluation'!C429,Hoja4!A5)+COUNTIF('3. Level A Evaluation'!C451,Hoja4!A5)+COUNTIF('3. Level A Evaluation'!C473,Hoja4!A5)+COUNTIF('3. Level A Evaluation'!C495,Hoja4!A5)+COUNTIF('3. Level A Evaluation'!C517,Hoja4!A5)+COUNTIF('3. Level A Evaluation'!C539,Hoja4!A5)+COUNTIF('3. Level A Evaluation'!C561,Hoja4!A5)+COUNTIF('3. Level A Evaluation'!C583,Hoja4!A5)+COUNTIF('3. Level A Evaluation'!C605,Hoja4!A5)+COUNTIF('3. Level A Evaluation'!C627,Hoja4!A5)+COUNTIF('3. Level A Evaluation'!C649,Hoja4!A5)+COUNTIF('3. Level A Evaluation'!C672,Hoja4!A5),"") -> 0 | C22: =IF('2. Sample pages'!B5>4,B22*100/B9,"") -> 0 | D22: =IF('2. Sample pages'!B5>4,COUNTIF('3. Level A Evaluation'!C11,Hoja4!A6)+COUNTIF('3. Level A Evaluation'!C33,Hoja4!A6)+COUNTIF('3. Level A Evaluation'!C55,Hoja4!A6)+COUNTIF('3. Level A Evaluation'!C77,Hoja4!A6)+COUNTIF('3. Level A Evaluation'!C99,Hoja4!A6)+COUNTIF('3. Level A Evaluation'!C121,Hoja4!A6)+COUNTIF('3. Level A Evaluation'!C143,Hoja4!A6)+COUNTIF('3. Level A Evaluation'!C165,Hoja4!A6)+COUNTIF('3. Level A Evaluation'!C187,Hoja4!A6)+COUNTIF('3. Level A Evaluation'!C209,Hoja4!A6)+COUNTIF('3. Level A Evaluation'!C231,Hoja4!A6)+COUNTIF('3. Level A Evaluation'!C253,Hoja4!A6)+COUNTIF('3. Level A Evaluation'!C275,Hoja4!A6)+COUNTIF('3. Level A Evaluation'!C297,Hoja4!A6)+COUNTIF('3. Level A Evaluation'!C319,Hoja4!A6)+COUNTIF('3. Level A Evaluation'!C341,Hoja4!A6)+COUNTIF('3. Level A Evaluation'!C363,Hoja4!A6)+COUNTIF('3. Level A Evaluation'!C385,Hoja4!A6)+COUNTIF('3. Level A Evaluation'!C407,Hoja4!A6)+COUNTIF('3. Level A Evaluation'!C429,Hoja4!A6)+COUNTIF('3. Level A Evaluation'!C451,Hoja4!A6)+COUNTIF('3. Level A Evaluation'!C473,Hoja4!A6)+COUNTIF('3. Level A Evaluation'!C495,Hoja4!A6)+COUNTIF('3. Level A Evaluation'!C517,Hoja4!A6)+COUNTIF('3. Level A Evaluation'!C539,Hoja4!A6)+COUNTIF('3. Level A Evaluation'!C561,Hoja4!A6)+COUNTIF('3. Level A Evaluation'!C583,Hoja4!A6)+COUNTIF('3. Level A Evaluation'!C605,Hoja4!A6)+COUNTIF('3. Level A Evaluation'!C627,Hoja4!A6)+COUNTIF('3. Level A Evaluation'!C649,Hoja4!A6)+COUNTIF('3. Level A Evaluation'!C672,Hoja4!A6),"") -> 0 | E22: =IF('2. Sample pages'!B5>4,D22*100/B9,"") -> 0 | F22: =IF('2. Sample pages'!B5>4,COUNTIF('3. Level A Evaluation'!C11,Hoja4!A7)+COUNTIF('3. Level A Evaluation'!C33,Hoja4!A7)+COUNTIF('3. Level A Evaluation'!C55,Hoja4!A7)+COUNTIF('3. Level A Evaluation'!C77,Hoja4!A7)+COUNTIF('3. Level A Evaluation'!C99,Hoja4!A7)+COUNTIF('3. Level A Evaluation'!C121,Hoja4!A7)+COUNTIF('3. Level A Evaluation'!C143,Hoja4!A7)+COUNTIF('3. Level A Evaluation'!C165,Hoja4!A7)+COUNTIF('3. Level A Evaluation'!C187,Hoja4!A7)+COUNTIF('3. Level A Evaluation'!C209,Hoja4!A7)+COUNTIF('3. Level A Evaluation'!C231,Hoja4!A7)+COUNTIF('3. Level A Evaluation'!C253,Hoja4!A7)+COUNTIF('3. Level A Evaluation'!C275,Hoja4!A7)+COUNTIF('3. Level A Evaluation'!C297,Hoja4!A7)+COUNTIF('3. Level A Evaluation'!C319,Hoja4!A7)+COUNTIF('3. Level A Evaluation'!C341,Hoja4!A7)+COUNTIF('3. Level A Evaluation'!C363,Hoja4!A7)+COUNTIF('3. Level A Evaluation'!C385,Hoja4!A7)+COUNTIF('3. Level A Evaluation'!C407,Hoja4!A7)+COUNTIF('3. Level A Evaluation'!C429,Hoja4!A7)+COUNTIF('3. Level A Evaluation'!C451,Hoja4!A7)+COUNTIF('3. Level A Evaluation'!C473,Hoja4!A7)+COUNTIF('3. Level A Evaluation'!C495,Hoja4!A7)+COUNTIF('3. Level A Evaluation'!C517,Hoja4!A7)+COUNTIF('3. Level A Evaluation'!C539,Hoja4!A7)+COUNTIF('3. Level A Evaluation'!C561,Hoja4!A7)+COUNTIF('3. Level A Evaluation'!C583,Hoja4!A7)+COUNTIF('3. Level A Evaluation'!C605,Hoja4!A7)+COUNTIF('3. Level A Evaluation'!C627,Hoja4!A7)+COUNTIF('3. Level A Evaluation'!C649,Hoja4!A7)+COUNTIF('3. Level A Evaluation'!C672,Hoja4!A7),"") -> 0 | G22: =IF('2. Sample pages'!B5>4,F22*100/B9,"") -> 0 | H22: =IF('2. Sample pages'!B5>4,IF(ISERROR((B22*100)/(B9-F22)),0,(B22*100)/(B9-F22)),"") -> 0 | I22: =IF('2. Sample pages'!B5>4,IF(ISERROR((D22*100)/(B9-F22)),0,(D22*100)/(B9-F22)),"") -> 0
A23: ='2. Sample pages'!C13 -> Alias6 | B23: =IF('2. Sample pages'!B5>5,COUNTIF('3. Level A Evaluation'!C12,Hoja4!A5)+COUNTIF('3. Level A Evaluation'!C34,Hoja4!A5)+COUNTIF('3. Level A Evaluation'!C56,Hoja4!A5)+COUNTIF('3. Level A Evaluation'!C78,Hoja4!A5)+COUNTIF('3. Level A Evaluation'!C100,Hoja4!A5)+COUNTIF('3. Level A Evaluation'!C122,Hoja4!A5)+COUNTIF('3. Level A Evaluation'!C144,Hoja4!A5)+COUNTIF('3. Level A Evaluation'!C166,Hoja4!A5)+COUNTIF('3. Level A Evaluation'!C188,Hoja4!A5)+COUNTIF('3. Level A Evaluation'!C210,Hoja4!A5)+COUNTIF('3. Level A Evaluation'!C232,Hoja4!A5)+COUNTIF('3. Level A Evaluation'!C254,Hoja4!A5)+COUNTIF('3. Level A Evaluation'!C276,Hoja4!A5)+COUNTIF('3. Level A Evaluation'!C298,Hoja4!A5)+COUNTIF('3. Level A Evaluation'!C320,Hoja4!A5)+COUNTIF('3. Level A Evaluation'!C342,Hoja4!A5)+COUNTIF('3. Level A Evaluation'!C364,Hoja4!A5)+COUNTIF('3. Level A Evaluation'!C386,Hoja4!A5)+COUNTIF('3. Level A Evaluation'!C408,Hoja4!A5)+COUNTIF('3. Level A Evaluation'!C430,Hoja4!A5)+COUNTIF('3. Level A Evaluation'!C452,Hoja4!A5)+COUNTIF('3. Level A Evaluation'!C474,Hoja4!A5)+COUNTIF('3. Level A Evaluation'!C496,Hoja4!A5)+COUNTIF('3. Level A Evaluation'!C518,Hoja4!A5)+COUNTIF('3. Level A Evaluation'!C540,Hoja4!A5)+COUNTIF('3. Level A Evaluation'!C562,Hoja4!A5)+COUNTIF('3. Level A Evaluation'!C584,Hoja4!A5)+COUNTIF('3. Level A Evaluation'!C606,Hoja4!A5)+COUNTIF('3. Level A Evaluation'!C628,Hoja4!A5)+COUNTIF('3. Level A Evaluation'!C650,Hoja4!A5)+COUNTIF('3. Level A Evaluation'!C673,Hoja4!A5),"") -> 0 | C23: =IF('2. Sample pages'!B5>5,B23*100/B9,"") -> 0 | D23: =IF('2. Sample pages'!B5>5,COUNTIF('3. Level A Evaluation'!C12,Hoja4!A6)+COUNTIF('3. Level A Evaluation'!C34,Hoja4!A6)+COUNTIF('3. Level A Evaluation'!C56,Hoja4!A6)+COUNTIF('3. Level A Evaluation'!C78,Hoja4!A6)+COUNTIF('3. Level A Evaluation'!C100,Hoja4!A6)+COUNTIF('3. Level A Evaluation'!C122,Hoja4!A6)+COUNTIF('3. Level A Evaluation'!C144,Hoja4!A6)+COUNTIF('3. Level A Evaluation'!C166,Hoja4!A6)+COUNTIF('3. Level A Evaluation'!C188,Hoja4!A6)+COUNTIF('3. Level A Evaluation'!C210,Hoja4!A6)+COUNTIF('3. Level A Evaluation'!C232,Hoja4!A6)+COUNTIF('3. Level A Evaluation'!C254,Hoja4!A6)+COUNTIF('3. Level A Evaluation'!C276,Hoja4!A6)+COUNTIF('3. Level A Evaluation'!C298,Hoja4!A6)+COUNTIF('3. Level A Evaluation'!C320,Hoja4!A6)+COUNTIF('3. Level A Evaluation'!C342,Hoja4!A6)+COUNTIF('3. Level A Evaluation'!C364,Hoja4!A6)+COUNTIF('3. Level A Evaluation'!C386,Hoja4!A6)+COUNTIF('3. Level A Evaluation'!C408,Hoja4!A6)+COUNTIF('3. Level A Evaluation'!C430,Hoja4!A6)+COUNTIF('3. Level A Evaluation'!C452,Hoja4!A6)+COUNTIF('3. Level A Evaluation'!C474,Hoja4!A6)+COUNTIF('3. Level A Evaluation'!C496,Hoja4!A6)+COUNTIF('3. Level A Evaluation'!C518,Hoja4!A6)+COUNTIF('3. Level A Evaluation'!C540,Hoja4!A6)+COUNTIF('3. Level A Evaluation'!C562,Hoja4!A6)+COUNTIF('3. Level A Evaluation'!C584,Hoja4!A6)+COUNTIF('3. Level A Evaluation'!C606,Hoja4!A6)+COUNTIF('3. Level A Evaluation'!C628,Hoja4!A6)+COUNTIF('3. Level A Evaluation'!C650,Hoja4!A6)+COUNTIF('3. Level A Evaluation'!C673,Hoja4!A6),"") -> 0 | E23: =IF('2. Sample pages'!B5>5,D23*100/B9,"") -> 0 | F23: =IF('2. Sample pages'!B5>5,COUNTIF('3. Level A Evaluation'!C12,Hoja4!A7)+COUNTIF('3. Level A Evaluation'!C34,Hoja4!A7)+COUNTIF('3. Level A Evaluation'!C56,Hoja4!A7)+COUNTIF('3. Level A Evaluation'!C78,Hoja4!A7)+COUNTIF('3. Level A Evaluation'!C100,Hoja4!A7)+COUNTIF('3. Level A Evaluation'!C122,Hoja4!A7)+COUNTIF('3. Level A Evaluation'!C144,Hoja4!A7)+COUNTIF('3. Level A Evaluation'!C166,Hoja4!A7)+COUNTIF('3. Level A Evaluation'!C188,Hoja4!A7)+COUNTIF('3. Level A Evaluation'!C210,Hoja4!A7)+COUNTIF('3. Level A Evaluation'!C232,Hoja4!A7)+COUNTIF('3. Level A Evaluation'!C254,Hoja4!A7)+COUNTIF('3. Level A Evaluation'!C276,Hoja4!A7)+COUNTIF('3. Level A Evaluation'!C298,Hoja4!A7)+COUNTIF('3. Level A Evaluation'!C320,Hoja4!A7)+COUNTIF('3. Level A Evaluation'!C342,Hoja4!A7)+COUNTIF('3. Level A Evaluation'!C364,Hoja4!A7)+COUNTIF('3. Level A Evaluation'!C386,Hoja4!A7)+COUNTIF('3. Level A Evaluation'!C408,Hoja4!A7)+COUNTIF('3. Level A Evaluation'!C430,Hoja4!A7)+COUNTIF('3. Level A Evaluation'!C452,Hoja4!A7)+COUNTIF('3. Level A Evaluation'!C474,Hoja4!A7)+COUNTIF('3. Level A Evaluation'!C496,Hoja4!A7)+COUNTIF('3. Level A Evaluation'!C518,Hoja4!A7)+COUNTIF('3. Level A Evaluation'!C540,Hoja4!A7)+COUNTIF('3. Level A Evaluation'!C562,Hoja4!A7)+COUNTIF('3. Level A Evaluation'!C584,Hoja4!A7)+COUNTIF('3. Level A Evaluation'!C606,Hoja4!A7)+COUNTIF('3. Level A Evaluation'!C628,Hoja4!A7)+COUNTIF('3. Level A Evaluation'!C650,Hoja4!A7)+COUNTIF('3. Level A Evaluation'!C673,Hoja4!A7),"") -> 0 | G23: =IF('2. Sample pages'!B5>5,F23*100/B9,"") -> 0 | H23: =IF('2. Sample pages'!B5>5,IF(ISERROR((B23*100)/(B9-F23)),0,(B23*100)/(B9-F23)),"") -> 0 | I23: =IF('2. Sample pages'!B5>5,IF(ISERROR((D23*100)/(B9-F23)),0,(D23*100)/(B9-F23)),"") -> 0
A24: ='2. Sample pages'!C14 -> Alias7 | B24: =IF('2. Sample pages'!B5>6,COUNTIF('3. Level A Evaluation'!C13,Hoja4!A5)+COUNTIF('3. Level A Evaluation'!C35,Hoja4!A5)+COUNTIF('3. Level A Evaluation'!C57,Hoja4!A5)+COUNTIF('3. Level A Evaluation'!C79,Hoja4!A5)+COUNTIF('3. Level A Evaluation'!C101,Hoja4!A5)+COUNTIF('3. Level A Evaluation'!C123,Hoja4!A5)+COUNTIF('3. Level A Evaluation'!C145,Hoja4!A5)+COUNTIF('3. Level A Evaluation'!C167,Hoja4!A5)+COUNTIF('3. Level A Evaluation'!C189,Hoja4!A5)+COUNTIF('3. Level A Evaluation'!C211,Hoja4!A5)+COUNTIF('3. Level A Evaluation'!C233,Hoja4!A5)+COUNTIF('3. Level A Evaluation'!C255,Hoja4!A5)+COUNTIF('3. Level A Evaluation'!C277,Hoja4!A5)+COUNTIF('3. Level A Evaluation'!C299,Hoja4!A5)+COUNTIF('3. Level A Evaluation'!C321,Hoja4!A5)+COUNTIF('3. Level A Evaluation'!C343,Hoja4!A5)+COUNTIF('3. Level A Evaluation'!C365,Hoja4!A5)+COUNTIF('3. Level A Evaluation'!C387,Hoja4!A5)+COUNTIF('3. Level A Evaluation'!C409,Hoja4!A5)+COUNTIF('3. Level A Evaluation'!C431,Hoja4!A5)+COUNTIF('3. Level A Evaluation'!C453,Hoja4!A5)+COUNTIF('3. Level A Evaluation'!C475,Hoja4!A5)+COUNTIF('3. Level A Evaluation'!C497,Hoja4!A5)+COUNTIF('3. Level A Evaluation'!C519,Hoja4!A5)+COUNTIF('3. Level A Evaluation'!C541,Hoja4!A5)+COUNTIF('3. Level A Evaluation'!C563,Hoja4!A5)+COUNTIF('3. Level A Evaluation'!C585,Hoja4!A5)+COUNTIF('3. Level A Evaluation'!C607,Hoja4!A5)+COUNTIF('3. Level A Evaluation'!C629,Hoja4!A5)+COUNTIF('3. Level A Evaluation'!C651,Hoja4!A5)+COUNTIF('3. Level A Evaluation'!C674,Hoja4!A5),"") -> 0 | C24: =IF('2. Sample pages'!B5>6,B24*100/B9,"") -> 0 | D24: =IF('2. Sample pages'!B5>6,COUNTIF('3. Level A Evaluation'!C13,Hoja4!A6)+COUNTIF('3. Level A Evaluation'!C35,Hoja4!A6)+COUNTIF('3. Level A Evaluation'!C57,Hoja4!A6)+COUNTIF('3. Level A Evaluation'!C79,Hoja4!A6)+COUNTIF('3. Level A Evaluation'!C101,Hoja4!A6)+COUNTIF('3. Level A Evaluation'!C123,Hoja4!A6)+COUNTIF('3. Level A Evaluation'!C145,Hoja4!A6)+COUNTIF('3. Level A Evaluation'!C167,Hoja4!A6)+COUNTIF('3. Level A Evaluation'!C189,Hoja4!A6)+COUNTIF('3. Level A Evaluation'!C211,Hoja4!A6)+COUNTIF('3. Level A Evaluation'!C233,Hoja4!A6)+COUNTIF('3. Level A Evaluation'!C255,Hoja4!A6)+COUNTIF('3. Level A Evaluation'!C277,Hoja4!A6)+COUNTIF('3. Level A Evaluation'!C299,Hoja4!A6)+COUNTIF('3. Level A Evaluation'!C321,Hoja4!A6)+COUNTIF('3. Level A Evaluation'!C343,Hoja4!A6)+COUNTIF('3. Level A Evaluation'!C365,Hoja4!A6)+COUNTIF('3. Level A Evaluation'!C387,Hoja4!A6)+COUNTIF('3. Level A Evaluation'!C409,Hoja4!A6)+COUNTIF('3. Level A Evaluation'!C431,Hoja4!A6)+COUNTIF('3. Level A Evaluation'!C453,Hoja4!A6)+COUNTIF('3. Level A Evaluation'!C475,Hoja4!A6)+COUNTIF('3. Level A Evaluation'!C497,Hoja4!A6)+COUNTIF('3. Level A Evaluation'!C519,Hoja4!A6)+COUNTIF('3. Level A Evaluation'!C541,Hoja4!A6)+COUNTIF('3. Level A Evaluation'!C563,Hoja4!A6)+COUNTIF('3. Level A Evaluation'!C585,Hoja4!A6)+COUNTIF('3. Level A Evaluation'!C607,Hoja4!A6)+COUNTIF('3. Level A Evaluation'!C629,Hoja4!A6)+COUNTIF('3. Level A Evaluation'!C651,Hoja4!A6)+COUNTIF('3. Level A Evaluation'!C674,Hoja4!A6),"") -> 0 | E24: =IF('2. Sample pages'!B5>6,D24*100/B9,"") -> 0 | F24: =IF('2. Sample pages'!B5>6,COUNTIF('3. Level A Evaluation'!C13,Hoja4!A7)+COUNTIF('3. Level A Evaluation'!C35,Hoja4!A7)+COUNTIF('3. Level A Evaluation'!C57,Hoja4!A7)+COUNTIF('3. Level A Evaluation'!C79,Hoja4!A7)+COUNTIF('3. Level A Evaluation'!C101,Hoja4!A7)+COUNTIF('3. Level A Evaluation'!C123,Hoja4!A7)+COUNTIF('3. Level A Evaluation'!C145,Hoja4!A7)+COUNTIF('3. Level A Evaluation'!C167,Hoja4!A7)+COUNTIF('3. Level A Evaluation'!C189,Hoja4!A7)+COUNTIF('3. Level A Evaluation'!C211,Hoja4!A7)+COUNTIF('3. Level A Evaluation'!C233,Hoja4!A7)+COUNTIF('3. Level A Evaluation'!C255,Hoja4!A7)+COUNTIF('3. Level A Evaluation'!C277,Hoja4!A7)+COUNTIF('3. Level A Evaluation'!C299,Hoja4!A7)+COUNTIF('3. Level A Evaluation'!C321,Hoja4!A7)+COUNTIF('3. Level A Evaluation'!C343,Hoja4!A7)+COUNTIF('3. Level A Evaluation'!C365,Hoja4!A7)+COUNTIF('3. Level A Evaluation'!C387,Hoja4!A7)+COUNTIF('3. Level A Evaluation'!C409,Hoja4!A7)+COUNTIF('3. Level A Evaluation'!C431,Hoja4!A7)+COUNTIF('3. Level A Evaluation'!C453,Hoja4!A7)+COUNTIF('3. Level A Evaluation'!C475,Hoja4!A7)+COUNTIF('3. Level A Evaluation'!C497,Hoja4!A7)+COUNTIF('3. Level A Evaluation'!C519,Hoja4!A7)+COUNTIF('3. Level A Evaluation'!C541,Hoja4!A7)+COUNTIF('3. Level A Evaluation'!C563,Hoja4!A7)+COUNTIF('3. Level A Evaluation'!C585,Hoja4!A7)+COUNTIF('3. Level A Evaluation'!C607,Hoja4!A7)+COUNTIF('3. Level A Evaluation'!C629,Hoja4!A7)+COUNTIF('3. Level A Evaluation'!C651,Hoja4!A7)+COUNTIF('3. Level A Evaluation'!C674,Hoja4!A7),"") -> 0 | G24: =IF('2. Sample pages'!B5>6,F24*100/B9,"") -> 0 | H24: =IF('2. Sample pages'!B5>6,IF(ISERROR((B24*100)/(B9-F24)),0,(B24*100)/(B9-F24)),"") -> 0 | I24: =IF('2. Sample pages'!B5>6,IF(ISERROR((D24*100)/(B9-F24)),0,(D24*100)/(B9-F24)),"") -> 0
A25: ='2. Sample pages'!C15 -> Alias8 | B25: =IF('2. Sample pages'!B5>7,COUNTIF('3. Level A Evaluation'!C14,Hoja4!A5)+COUNTIF('3. Level A Evaluation'!C36,Hoja4!A5)+COUNTIF('3. Level A Evaluation'!C58,Hoja4!A5)+COUNTIF('3. Level A Evaluation'!C80,Hoja4!A5)+COUNTIF('3. Level A Evaluation'!C102,Hoja4!A5)+COUNTIF('3. Level A Evaluation'!C124,Hoja4!A5)+COUNTIF('3. Level A Evaluation'!C146,Hoja4!A5)+COUNTIF('3. Level A Evaluation'!C168,Hoja4!A5)+COUNTIF('3. Level A Evaluation'!C190,Hoja4!A5)+COUNTIF('3. Level A Evaluation'!C212,Hoja4!A5)+COUNTIF('3. Level A Evaluation'!C234,Hoja4!A5)+COUNTIF('3. Level A Evaluation'!C256,Hoja4!A5)+COUNTIF('3. Level A Evaluation'!C278,Hoja4!A5)+COUNTIF('3. Level A Evaluation'!C300,Hoja4!A5)+COUNTIF('3. Level A Evaluation'!C322,Hoja4!A5)+COUNTIF('3. Level A Evaluation'!C344,Hoja4!A5)+COUNTIF('3. Level A Evaluation'!C366,Hoja4!A5)+COUNTIF('3. Level A Evaluation'!C388,Hoja4!A5)+COUNTIF('3. Level A Evaluation'!C410,Hoja4!A5)+COUNTIF('3. Level A Evaluation'!C432,Hoja4!A5)+COUNTIF('3. Level A Evaluation'!C454,Hoja4!A5)+COUNTIF('3. Level A Evaluation'!C476,Hoja4!A5)+COUNTIF('3. Level A Evaluation'!C498,Hoja4!A5)+COUNTIF('3. Level A Evaluation'!C520,Hoja4!A5)+COUNTIF('3. Level A Evaluation'!C542,Hoja4!A5)+COUNTIF('3. Level A Evaluation'!C564,Hoja4!A5)+COUNTIF('3. Level A Evaluation'!C586,Hoja4!A5)+COUNTIF('3. Level A Evaluation'!C608,Hoja4!A5)+COUNTIF('3. Level A Evaluation'!C630,Hoja4!A5)+COUNTIF('3. Level A Evaluation'!C652,Hoja4!A5)+COUNTIF('3. Level A Evaluation'!C675,Hoja4!A5),"") -> 0 | C25: =IF('2. Sample pages'!B5>7,B25*100/B9,"") -> 0 | D25: =IF('2. Sample pages'!B5>7,COUNTIF('3. Level A Evaluation'!C14,Hoja4!A6)+COUNTIF('3. Level A Evaluation'!C36,Hoja4!A6)+COUNTIF('3. Level A Evaluation'!C58,Hoja4!A6)+COUNTIF('3. Level A Evaluation'!C80,Hoja4!A6)+COUNTIF('3. Level A Evaluation'!C102,Hoja4!A6)+COUNTIF('3. Level A Evaluation'!C124,Hoja4!A6)+COUNTIF('3. Level A Evaluation'!C146,Hoja4!A6)+COUNTIF('3. Level A Evaluation'!C168,Hoja4!A6)+COUNTIF('3. Level A Evaluation'!C190,Hoja4!A6)+COUNTIF('3. Level A Evaluation'!C212,Hoja4!A6)+COUNTIF('3. Level A Evaluation'!C234,Hoja4!A6)+COUNTIF('3. Level A Evaluation'!C256,Hoja4!A6)+COUNTIF('3. Level A Evaluation'!C278,Hoja4!A6)+COUNTIF('3. Level A Evaluation'!C300,Hoja4!A6)+COUNTIF('3. Level A Evaluation'!C322,Hoja4!A6)+COUNTIF('3. Level A Evaluation'!C344,Hoja4!A6)+COUNTIF('3. Level A Evaluation'!C366,Hoja4!A6)+COUNTIF('3. Level A Evaluation'!C388,Hoja4!A6)+COUNTIF('3. Level A Evaluation'!C410,Hoja4!A6)+COUNTIF('3. Level A Evaluation'!C432,Hoja4!A6)+COUNTIF('3. Level A Evaluation'!C454,Hoja4!A6)+COUNTIF('3. Level A Evaluation'!C476,Hoja4!A6)+COUNTIF('3. Level A Evaluation'!C498,Hoja4!A6)+COUNTIF('3. Level A Evaluation'!C520,Hoja4!A6)+COUNTIF('3. Level A Evaluation'!C542,Hoja4!A6)+COUNTIF('3. Level A Evaluation'!C564,Hoja4!A6)+COUNTIF('3. Level A Evaluation'!C586,Hoja4!A6)+COUNTIF('3. Level A Evaluation'!C608,Hoja4!A6)+COUNTIF('3. Level A Evaluation'!C630,Hoja4!A6)+COUNTIF('3. Level A Evaluation'!C652,Hoja4!A6)+COUNTIF('3. Level A Evaluation'!C675,Hoja4!A6),"") -> 0 | E25: =IF('2. Sample pages'!B5>7,D25*100/B9,"") -> 0 | F25: =IF('2. Sample pages'!B5>7,COUNTIF('3. Level A Evaluation'!C14,Hoja4!A7)+COUNTIF('3. Level A Evaluation'!C36,Hoja4!A7)+COUNTIF('3. Level A Evaluation'!C58,Hoja4!A7)+COUNTIF('3. Level A Evaluation'!C80,Hoja4!A7)+COUNTIF('3. Level A Evaluation'!C102,Hoja4!A7)+COUNTIF('3. Level A Evaluation'!C124,Hoja4!A7)+COUNTIF('3. Level A Evaluation'!C146,Hoja4!A7)+COUNTIF('3. Level A Evaluation'!C168,Hoja4!A7)+COUNTIF('3. Level A Evaluation'!C190,Hoja4!A7)+COUNTIF('3. Level A Evaluation'!C212,Hoja4!A7)+COUNTIF('3. Level A Evaluation'!C234,Hoja4!A7)+COUNTIF('3. Level A Evaluation'!C256,Hoja4!A7)+COUNTIF('3. Level A Evaluation'!C278,Hoja4!A7)+COUNTIF('3. Level A Evaluation'!C300,Hoja4!A7)+COUNTIF('3. Level A Evaluation'!C322,Hoja4!A7)+COUNTIF('3. Level A Evaluation'!C344,Hoja4!A7)+COUNTIF('3. Level A Evaluation'!C366,Hoja4!A7)+COUNTIF('3. Level A Evaluation'!C388,Hoja4!A7)+COUNTIF('3. Level A Evaluation'!C410,Hoja4!A7)+COUNTIF('3. Level A Evaluation'!C432,Hoja4!A7)+COUNTIF('3. Level A Evaluation'!C454,Hoja4!A7)+COUNTIF('3. Level A Evaluation'!C476,Hoja4!A7)+COUNTIF('3. Level A Evaluation'!C498,Hoja4!A7)+COUNTIF('3. Level A Evaluation'!C520,Hoja4!A7)+COUNTIF('3. Level A Evaluation'!C542,Hoja4!A7)+COUNTIF('3. Level A Evaluation'!C564,Hoja4!A7)+COUNTIF('3. Level A Evaluation'!C586,Hoja4!A7)+COUNTIF('3. Level A Evaluation'!C608,Hoja4!A7)+COUNTIF('3. Level A Evaluation'!C630,Hoja4!A7)+COUNTIF('3. Level A Evaluation'!C652,Hoja4!A7)+COUNTIF('3. Level A Evaluation'!C675,Hoja4!A7),"") -> 0 | G25: =IF('2. Sample pages'!B5>7,F25*100/B9,"") -> 0 | H25: =IF('2. Sample pages'!B5>7,IF(ISERROR((B25*100)/(B9-F25)),0,(B25*100)/(B9-F25)),"") -> 0 | I25: =IF('2. Sample pages'!B5>7,IF(ISERROR((D25*100)/(B9-F25)),0,(D25*100)/(B9-F25)),"") -> 0
A26: ='2. Sample pages'!C16 -> Alias9 | B26: =IF('2. Sample pages'!B5>8,COUNTIF('3. Level A Evaluation'!C15,Hoja4!A5)+COUNTIF('3. Level A Evaluation'!C37,Hoja4!A5)+COUNTIF('3. Level A Evaluation'!C59,Hoja4!A5)+COUNTIF('3. Level A Evaluation'!C81,Hoja4!A5)+COUNTIF('3. Level A Evaluation'!C103,Hoja4!A5)+COUNTIF('3. Level A Evaluation'!C125,Hoja4!A5)+COUNTIF('3. Level A Evaluation'!C147,Hoja4!A5)+COUNTIF('3. Level A Evaluation'!C169,Hoja4!A5)+COUNTIF('3. Level A Evaluation'!C191,Hoja4!A5)+COUNTIF('3. Level A Evaluation'!C213,Hoja4!A5)+COUNTIF('3. Level A Evaluation'!C235,Hoja4!A5)+COUNTIF('3. Level A Evaluation'!C257,Hoja4!A5)+COUNTIF('3. Level A Evaluation'!C279,Hoja4!A5)+COUNTIF('3. Level A Evaluation'!C301,Hoja4!A5)+COUNTIF('3. Level A Evaluation'!C323,Hoja4!A5)+COUNTIF('3. Level A Evaluation'!C345,Hoja4!A5)+COUNTIF('3. Level A Evaluation'!C367,Hoja4!A5)+COUNTIF('3. Level A Evaluation'!C389,Hoja4!A5)+COUNTIF('3. Level A Evaluation'!C411,Hoja4!A5)+COUNTIF('3. Level A Evaluation'!C433,Hoja4!A5)+COUNTIF('3. Level A Evaluation'!C455,Hoja4!A5)+COUNTIF('3. Level A Evaluation'!C477,Hoja4!A5)+COUNTIF('3. Level A Evaluation'!C499,Hoja4!A5)+COUNTIF('3. Level A Evaluation'!C521,Hoja4!A5)+COUNTIF('3. Level A Evaluation'!C543,Hoja4!A5)+COUNTIF('3. Level A Evaluation'!C565,Hoja4!A5)+COUNTIF('3. Level A Evaluation'!C587,Hoja4!A5)+COUNTIF('3. Level A Evaluation'!C609,Hoja4!A5)+COUNTIF('3. Level A Evaluation'!C631,Hoja4!A5)+COUNTIF('3. Level A Evaluation'!C653,Hoja4!A5)+COUNTIF('3. Level A Evaluation'!C676,Hoja4!A5),"") -> 0 | C26: =IF('2. Sample pages'!B5>8,B26*100/B9,"") -> 0 | D26: =IF('2. Sample pages'!B5>8,COUNTIF('3. Level A Evaluation'!C15,Hoja4!A6)+COUNTIF('3. Level A Evaluation'!C37,Hoja4!A6)+COUNTIF('3. Level A Evaluation'!C59,Hoja4!A6)+COUNTIF('3. Level A Evaluation'!C81,Hoja4!A6)+COUNTIF('3. Level A Evaluation'!C103,Hoja4!A6)+COUNTIF('3. Level A Evaluation'!C125,Hoja4!A6)+COUNTIF('3. Level A Evaluation'!C147,Hoja4!A6)+COUNTIF('3. Level A Evaluation'!C169,Hoja4!A6)+COUNTIF('3. Level A Evaluation'!C191,Hoja4!A6)+COUNTIF('3. Level A Evaluation'!C213,Hoja4!A6)+COUNTIF('3. Level A Evaluation'!C235,Hoja4!A6)+COUNTIF('3. Level A Evaluation'!C257,Hoja4!A6)+COUNTIF('3. Level A Evaluation'!C279,Hoja4!A6)+COUNTIF('3. Level A Evaluation'!C301,Hoja4!A6)+COUNTIF('3. Level A Evaluation'!C323,Hoja4!A6)+COUNTIF('3. Level A Evaluation'!C345,Hoja4!A6)+COUNTIF('3. Level A Evaluation'!C367,Hoja4!A6)+COUNTIF('3. Level A Evaluation'!C389,Hoja4!A6)+COUNTIF('3. Level A Evaluation'!C411,Hoja4!A6)+COUNTIF('3. Level A Evaluation'!C433,Hoja4!A6)+COUNTIF('3. Level A Evaluation'!C455,Hoja4!A6)+COUNTIF('3. Level A Evaluation'!C477,Hoja4!A6)+COUNTIF('3. Level A Evaluation'!C499,Hoja4!A6)+COUNTIF('3. Level A Evaluation'!C521,Hoja4!A6)+COUNTIF('3. Level A Evaluation'!C543,Hoja4!A6)+COUNTIF('3. Level A Evaluation'!C565,Hoja4!A6)+COUNTIF('3. Level A Evaluation'!C587,Hoja4!A6)+COUNTIF('3. Level A Evaluation'!C609,Hoja4!A6)+COUNTIF('3. Level A Evaluation'!C631,Hoja4!A6)+COUNTIF('3. Level A Evaluation'!C653,Hoja4!A6)+COUNTIF('3. Level A Evaluation'!C676,Hoja4!A6),"") -> 0 | E26: =IF('2. Sample pages'!B5>8,D26*100/B9,"") -> 0 | F26: =IF('2. Sample pages'!B5>8,COUNTIF('3. Level A Evaluation'!C15,Hoja4!A7)+COUNTIF('3. Level A Evaluation'!C37,Hoja4!A7)+COUNTIF('3. Level A Evaluation'!C59,Hoja4!A7)+COUNTIF('3. Level A Evaluation'!C81,Hoja4!A7)+COUNTIF('3. Level A Evaluation'!C103,Hoja4!A7)+COUNTIF('3. Level A Evaluation'!C125,Hoja4!A7)+COUNTIF('3. Level A Evaluation'!C147,Hoja4!A7)+COUNTIF('3. Level A Evaluation'!C169,Hoja4!A7)+COUNTIF('3. Level A Evaluation'!C191,Hoja4!A7)+COUNTIF('3. Level A Evaluation'!C213,Hoja4!A7)+COUNTIF('3. Level A Evaluation'!C235,Hoja4!A7)+COUNTIF('3. Level A Evaluation'!C257,Hoja4!A7)+COUNTIF('3. Level A Evaluation'!C279,Hoja4!A7)+COUNTIF('3. Level A Evaluation'!C301,Hoja4!A7)+COUNTIF('3. Level A Evaluation'!C323,Hoja4!A7)+COUNTIF('3. Level A Evaluation'!C345,Hoja4!A7)+COUNTIF('3. Level A Evaluation'!C367,Hoja4!A7)+COUNTIF('3. Level A Evaluation'!C389,Hoja4!A7)+COUNTIF('3. Level A Evaluation'!C411,Hoja4!A7)+COUNTIF('3. Level A Evaluation'!C433,Hoja4!A7)+COUNTIF('3. Level A Evaluation'!C455,Hoja4!A7)+COUNTIF('3. Level A Evaluation'!C477,Hoja4!A7)+COUNTIF('3. Level A Evaluation'!C499,Hoja4!A7)+COUNTIF('3. Level A Evaluation'!C521,Hoja4!A7)+COUNTIF('3. Level A Evaluation'!C543,Hoja4!A7)+COUNTIF('3. Level A Evaluation'!C565,Hoja4!A7)+COUNTIF('3. Level A Evaluation'!C587,Hoja4!A7)+COUNTIF('3. Level A Evaluation'!C609,Hoja4!A7)+COUNTIF('3. Level A Evaluation'!C631,Hoja4!A7)+COUNTIF('3. Level A Evaluation'!C653,Hoja4!A7)+COUNTIF('3. Level A Evaluation'!C676,Hoja4!A7),"") -> 0 | G26: =IF('2. Sample pages'!B5>8,F26*100/B9,"") -> 0 | H26: =IF('2. Sample pages'!B5>8,IF(ISERROR((B26*100)/(B9-F26)),0,(B26*100)/(B9-F26)),"") -> 0 | I26: =IF('2. Sample pages'!B5>8,IF(ISERROR((D26*100)/(B9-F26)),0,(D26*100)/(B9-F26)),"") -> 0
A27: ='2. Sample pages'!C17 -> Alias10 | B27: =IF('2. Sample pages'!B5>9,COUNTIF('3. Level A Evaluation'!C16,Hoja4!A5)+COUNTIF('3. Level A Evaluation'!C38,Hoja4!A5)+COUNTIF('3. Level A Evaluation'!C60,Hoja4!A5)+COUNTIF('3. Level A Evaluation'!C82,Hoja4!A5)+COUNTIF('3. Level A Evaluation'!C104,Hoja4!A5)+COUNTIF('3. Level A Evaluation'!C126,Hoja4!A5)+COUNTIF('3. Level A Evaluation'!C148,Hoja4!A5)+COUNTIF('3. Level A Evaluation'!C170,Hoja4!A5)+COUNTIF('3. Level A Evaluation'!C192,Hoja4!A5)+COUNTIF('3. Level A Evaluation'!C214,Hoja4!A5)+COUNTIF('3. Level A Evaluation'!C236,Hoja4!A5)+COUNTIF('3. Level A Evaluation'!C258,Hoja4!A5)+COUNTIF('3. Level A Evaluation'!C280,Hoja4!A5)+COUNTIF('3. Level A Evaluation'!C302,Hoja4!A5)+COUNTIF('3. Level A Evaluation'!C324,Hoja4!A5)+COUNTIF('3. Level A Evaluation'!C346,Hoja4!A5)+COUNTIF('3. Level A Evaluation'!C368,Hoja4!A5)+COUNTIF('3. Level A Evaluation'!C390,Hoja4!A5)+COUNTIF('3. Level A Evaluation'!C412,Hoja4!A5)+COUNTIF('3. Level A Evaluation'!C434,Hoja4!A5)+COUNTIF('3. Level A Evaluation'!C456,Hoja4!A5)+COUNTIF('3. Level A Evaluation'!C478,Hoja4!A5)+COUNTIF('3. Level A Evaluation'!C500,Hoja4!A5)+COUNTIF('3. Level A Evaluation'!C522,Hoja4!A5)+COUNTIF('3. Level A Evaluation'!C544,Hoja4!A5)+COUNTIF('3. Level A Evaluation'!C566,Hoja4!A5)+COUNTIF('3. Level A Evaluation'!C588,Hoja4!A5)++COUNTIF('3. Level A Evaluation'!C610,Hoja4!A5)+COUNTIF('3. Level A Evaluation'!C632,Hoja4!A5)+COUNTIF('3. Level A Evaluation'!C654,Hoja4!A5)+COUNTIF('3. Level A Evaluation'!C677,Hoja4!A5),"") -> 0 | C27: =IF('2. Sample pages'!B5>9,B27*100/B9,"") -> 0 | D27: =IF('2. Sample pages'!B5>9,COUNTIF('3. Level A Evaluation'!C16,Hoja4!A6)+COUNTIF('3. Level A Evaluation'!C38,Hoja4!A6)+COUNTIF('3. Level A Evaluation'!C60,Hoja4!A6)+COUNTIF('3. Level A Evaluation'!C82,Hoja4!A6)+COUNTIF('3. Level A Evaluation'!C104,Hoja4!A6)+COUNTIF('3. Level A Evaluation'!C126,Hoja4!A6)+COUNTIF('3. Level A Evaluation'!C148,Hoja4!A6)+COUNTIF('3. Level A Evaluation'!C170,Hoja4!A6)+COUNTIF('3. Level A Evaluation'!C192,Hoja4!A6)+COUNTIF('3. Level A Evaluation'!C214,Hoja4!A6)+COUNTIF('3. Level A Evaluation'!C236,Hoja4!A6)+COUNTIF('3. Level A Evaluation'!C258,Hoja4!A6)+COUNTIF('3. Level A Evaluation'!C280,Hoja4!A6)+COUNTIF('3. Level A Evaluation'!C302,Hoja4!A6)+COUNTIF('3. Level A Evaluation'!C324,Hoja4!A6)+COUNTIF('3. Level A Evaluation'!C346,Hoja4!A6)+COUNTIF('3. Level A Evaluation'!C368,Hoja4!A6)+COUNTIF('3. Level A Evaluation'!C390,Hoja4!A6)+COUNTIF('3. Level A Evaluation'!C412,Hoja4!A6)+COUNTIF('3. Level A Evaluation'!C434,Hoja4!A6)+COUNTIF('3. Level A Evaluation'!C456,Hoja4!A6)+COUNTIF('3. Level A Evaluation'!C478,Hoja4!A6)+COUNTIF('3. Level A Evaluation'!C500,Hoja4!A6)+COUNTIF('3. Level A Evaluation'!C522,Hoja4!A6)+COUNTIF('3. Level A Evaluation'!C544,Hoja4!A6)+COUNTIF('3. Level A Evaluation'!C566,Hoja4!A6)+COUNTIF('3. Level A Evaluation'!C588,Hoja4!A6)+COUNTIF('3. Level A Evaluation'!C610,Hoja4!A6)+COUNTIF('3. Level A Evaluation'!C632,Hoja4!A6)+COUNTIF('3. Level A Evaluation'!C654,Hoja4!A6)+COUNTIF('3. Level A Evaluation'!C677,Hoja4!A6),"") -> 0 | E27: =IF('2. Sample pages'!B5>9,D27*100/B9,"") -> 0 | F27: =IF('2. Sample pages'!B5>9,COUNTIF('3. Level A Evaluation'!C16,Hoja4!A7)+COUNTIF('3. Level A Evaluation'!C38,Hoja4!A7)+COUNTIF('3. Level A Evaluation'!C60,Hoja4!A7)+COUNTIF('3. Level A Evaluation'!C82,Hoja4!A7)+COUNTIF('3. Level A Evaluation'!C104,Hoja4!A7)+COUNTIF('3. Level A Evaluation'!C126,Hoja4!A7)+COUNTIF('3. Level A Evaluation'!C148,Hoja4!A7)+COUNTIF('3. Level A Evaluation'!C170,Hoja4!A7)+COUNTIF('3. Level A Evaluation'!C192,Hoja4!A7)+COUNTIF('3. Level A Evaluation'!C214,Hoja4!A7)+COUNTIF('3. Level A Evaluation'!C236,Hoja4!A7)+COUNTIF('3. Level A Evaluation'!C258,Hoja4!A7)+COUNTIF('3. Level A Evaluation'!C280,Hoja4!A7)+COUNTIF('3. Level A Evaluation'!C302,Hoja4!A7)+COUNTIF('3. Level A Evaluation'!C324,Hoja4!A7)+COUNTIF('3. Level A Evaluation'!C346,Hoja4!A7)+COUNTIF('3. Level A Evaluation'!C368,Hoja4!A7)+COUNTIF('3. Level A Evaluation'!C390,Hoja4!A7)+COUNTIF('3. Level A Evaluation'!C412,Hoja4!A7)+COUNTIF('3. Level A Evaluation'!C434,Hoja4!A7)+COUNTIF('3. Level A Evaluation'!C456,Hoja4!A7)+COUNTIF('3. Level A Evaluation'!C478,Hoja4!A7)+COUNTIF('3. Level A Evaluation'!C500,Hoja4!A7)+COUNTIF('3. Level A Evaluation'!C522,Hoja4!A7)+COUNTIF('3. Level A Evaluation'!C544,Hoja4!A7)+COUNTIF('3. Level A Evaluation'!C566,Hoja4!A7)+COUNTIF('3. Level A Evaluation'!C588,Hoja4!A7)+COUNTIF('3. Level A Evaluation'!C610,Hoja4!A7)+COUNTIF('3. Level A Evaluation'!C632,Hoja4!A7)+COUNTIF('3. Level A Evaluation'!C654,Hoja4!A7)+COUNTIF('3. Level A Evaluation'!C677,Hoja4!A7),"") -> 0 | G27: =IF('2. Sample pages'!B5>9,F27*100/B9,"") -> 0 | H27: =IF('2. Sample pages'!B5>9,IF(ISERROR((B27*100)/(B9-F27)),0,(B27*100)/(B9-F27)),"") -> 0 | I27: =IF('2. Sample pages'!B5>9,IF(ISERROR((D27*100)/(B9-F27)),0,(D27*100)/(B9-F27)),"") -> 0
